Back
From: metabase:user:2962b76a-770d-11e0-a6fa-9f6adf3e124d
Subject: PASS Math-Combinatorics-0.09 v5.14.2 Mac OS X
Date: 2012-06-22T03:50:38Z
This distribution has been tested as part of the CPAN Testers
project, supporting the Perl programming language. See
http://wiki.cpantesters.org/ for more information or email
questions to cpan-testers-discuss@perl.org
--
Dear Allen Day,
This is a computer-generated report for Math-Combinatorics-0.09
on perl 5.14.2, created by CPAN-Reporter-1.2002.
Thank you for uploading your work to CPAN. Congratulations!
All tests were successful.
Sections of this report:
* Tester comments
* Program output
* Prerequisites
* Environment and other context
------------------------------
TESTER COMMENTS
------------------------------
Additional comments from tester:
none provided
------------------------------
PROGRAM OUTPUT
------------------------------
Output from '/usr/bin/make test':
PERL_DL_NONLAZY=1 /Users/hiroyuki/perl5/perlbrew/perls/perl-5.14.2/bin/perl "-MExtUtils::Command::MM" "-e" "test_harness(0, 'blib/lib', 'blib/arch')" t/*.t
t/01.t .. ok
t/02.t .. ok
t/03.t .. ok
All tests successful.
Files=3, Tests=25, 1 wallclock secs ( 0.03 usr 0.01 sys + 0.08 cusr 0.01 csys = 0.13 CPU)
Result: PASS
------------------------------
PREREQUISITES
------------------------------
Prerequisite modules loaded:
build_requires:
Module Need Have
------------------- ---- ----
ExtUtils::MakeMaker 0 6.62
------------------------------
ENVIRONMENT AND OTHER CONTEXT
------------------------------
Environment variables:
LANG = ja_JP.UTF-8
LC_ALL = ja_JP.UTF-8
LC_CTYPE = ja_JP.UTF-8
PATH = /Users/hiroyuki/perl5/perlbrew/bin:/Users/hiroyuki/perl5/perlbrew/perls/perl-5.14.2/bin:/Users/hiroyuki/.rbenv/shims:/usr/local/narwhal/bin:/Users/hiroyuki/.rbenv/bin:/Users/hiroyuki/bin:/Users/hiroyuki/.bin:/usr/local/bin:/usr/local/sbin:/usr/local/share/npm/bin:/usr/bin:/bin:/usr/sbin:/sbin:/usr/local/bin:/usr/local/ncbi/blast/bin:/usr/X11/bin:/usr/local/narwhal/bin:/Users/hiroyuki/bin:/Users/hiroyuki/.bin:/usr/local/sbin:/usr/local/share/npm/bin:/usr/local/texlive/2011/bin/x86_64-darwin
PATH_WITHOUT_PERLBREW = /Users/hiroyuki/.rbenv/shims:/usr/local/narwhal/bin:/Users/hiroyuki/.rbenv/bin:/Users/hiroyuki/bin:/Users/hiroyuki/.bin:/usr/local/bin:/usr/local/sbin:/usr/local/share/npm/bin:/usr/bin:/bin:/usr/sbin:/sbin:/usr/local/bin:/usr/local/ncbi/blast/bin:/usr/X11/bin:/usr/local/narwhal/bin:/Users/hiroyuki/bin:/Users/hiroyuki/.bin:/usr/local/sbin:/usr/local/share/npm/bin:/usr/local/texlive/2011/bin/x86_64-darwin
PERL5LIB =
PERL5OPT =
PERL5_CPANPLUS_IS_RUNNING = 49853
PERL5_CPAN_IS_RUNNING = 49853
PERLBREW_BASHRC_VERSION = 0.33
PERLBREW_HOME = /Users/hiroyuki/.perlbrew
PERLBREW_MANPATH = /Users/hiroyuki/perl5/perlbrew/perls/perl-5.14.2/man
PERLBREW_PATH = /Users/hiroyuki/perl5/perlbrew/bin:/Users/hiroyuki/perl5/perlbrew/perls/perl-5.14.2/bin
PERLBREW_PERL = perl-5.14.2
PERLBREW_ROOT = /Users/hiroyuki/perl5/perlbrew
PERLBREW_VERSION = 0.42
SHELL = /bin/zsh
TERM = screen
TMPDIR = /var/folders/9f/7hr_ndm15j30cn5h2yt7qy8h0000h1/T/
Perl special variables (and OS-specific diagnostics, for MSWin32):
$^X = /Users/hiroyuki/perl5/perlbrew/perls/perl-5.14.2/bin/perl
$UID/$EUID = 513 / 513
$GID = 20 20 104 12 33 61 79 80 81 98 100 204 401
$EGID = 20 20 104 12 33 61 79 80 81 98 100 204 401
Perl module toolchain versions installed:
Module Have
------------------- --------
CPAN 1.9800
CPAN::Meta 2.112621
Cwd 3.36
ExtUtils::CBuilder 0.280203
ExtUtils::Command 1.17
ExtUtils::Install 1.56
ExtUtils::MakeMaker 6.62
ExtUtils::Manifest 1.60
ExtUtils::ParseXS 3.05
File::Spec 3.33
JSON 2.53
JSON::PP 2.27200
Module::Build 0.3800
Module::Signature 0.68
Parse::CPAN::Meta 1.4401
Test::Harness 3.23
Test::More 0.98
YAML 0.73
YAML::Syck 1.18
version 0.94
--
Summary of my perl5 (revision 5 version 14 subversion 2) configuration:
Platform:
osname=darwin, osvers=10.8.0, archname=darwin-2level
uname='darwin sp2.i.spiber.jp 10.8.0 darwin kernel version 10.8.0: tue jun 7 16:33:36 pdt 2011; root:xnu-1504.15.3~1release_i386 i386 '
config_args='-de -Dprefix=/Users/hiroyuki/perl5/perlbrew/perls/perl-5.14.2'
hint=recommended, useposix=true, d_sigaction=define
useithreads=undef, usemultiplicity=undef
useperlio=define, d_sfio=undef, uselargefiles=define, usesocks=undef
use64bitint=define, use64bitall=define, uselongdouble=undef
usemymalloc=n, bincompat5005=undef
Compiler:
cc='cc', ccflags ='-fno-common -DPERL_DARWIN -fno-strict-aliasing -pipe -fstack-protector -I/usr/local/include',
optimize='-O3',
cppflags='-fno-common -DPERL_DARWIN -fno-strict-aliasing -pipe -fstack-protector -I/usr/local/include'
ccversion='', gccversion='4.2.1 (Apple Inc. build 5664)', gccosandvers=''
intsize=4, longsize=8, ptrsize=8, doublesize=8, byteorder=12345678
d_longlong=define, longlongsize=8, d_longdbl=define, longdblsize=16
ivtype='long', ivsize=8, nvtype='double', nvsize=8, Off_t='off_t', lseeksize=8
alignbytes=8, prototype=define
Linker and Libraries:
ld='env MACOSX_DEPLOYMENT_TARGET=10.3 cc', ldflags =' -fstack-protector -L/usr/local/lib'
libpth=/usr/local/lib /usr/lib
libs=-lgdbm -ldbm -ldb -ldl -lm -lutil -lc
perllibs=-ldl -lm -lutil -lc
libc=, so=dylib, useshrplib=false, libperl=libperl.a
gnulibc_version=''
Dynamic Linking:
dlsrc=dl_dlopen.xs, dlext=bundle, d_dlsymun=undef, ccdlflags=' '
cccdlflags=' ', lddlflags=' -bundle -undefined dynamic_lookup -L/usr/local/lib -fstack-protector'
Characteristics of this binary (from libperl):
Compile-time options: PERL_DONT_CREATE_GVSV PERL_MALLOC_WRAP
PERL_PRESERVE_IVUV USE_64_BIT_ALL USE_64_BIT_INT
USE_LARGE_FILES USE_PERLIO USE_PERL_ATOF
Built under darwin
Compiled at Nov 8 2011 16:47:41
%ENV:
PERL5LIB=""
PERL5OPT=""
PERL5_CPANPLUS_IS_RUNNING="49853"
PERL5_CPAN_IS_RUNNING="49853"
PERLBREW_BASHRC_VERSION="0.33"
PERLBREW_HOME="/Users/hiroyuki/.perlbrew"
PERLBREW_MANPATH="/Users/hiroyuki/perl5/perlbrew/perls/perl-5.14.2/man"
PERLBREW_PATH="/Users/hiroyuki/perl5/perlbrew/bin:/Users/hiroyuki/perl5/perlbrew/perls/perl-5.14.2/bin"
PERLBREW_PERL="perl-5.14.2"
PERLBREW_ROOT="/Users/hiroyuki/perl5/perlbrew"
PERLBREW_VERSION="0.42"
@INC:
/Users/hiroyuki/perl5/perlbrew/perls/perl-5.14.2/lib/site_perl/5.14.2/darwin-2level
/Users/hiroyuki/perl5/perlbrew/perls/perl-5.14.2/lib/site_perl/5.14.2
/Users/hiroyuki/perl5/perlbrew/perls/perl-5.14.2/lib/5.14.2/darwin-2level
/Users/hiroyuki/perl5/perlbrew/perls/perl-5.14.2/lib/5.14.2
.