Report for Net-Google-DataAPI-0.2805

Back
From: metabase:user:320bfe00-2aae-11df-837a-5e0a49663a4f
Subject: PASS Net-Google-DataAPI-0.2805 v5.21.11 GNU/Linux
Date: 2015-04-01T03:08:54Z

This distribution has been tested as part of the CPAN Testers
project, supporting the Perl programming language.  See
http://wiki.cpantesters.org/ for more information or email
questions to cpan-testers-discuss@perl.org


--
Dear Nobuo Danjou,

This is a computer-generated report for Net-Google-DataAPI-0.2805
on perl 5.21.11, created by CPAN-Reporter-1.2011.

Thank you for uploading your work to CPAN.  Congratulations!
All tests were successful.

Sections of this report:

    * Tester comments
    * Program output
    * Prerequisites
    * Environment and other context

------------------------------
TESTER COMMENTS
------------------------------

Additional comments from tester:

this report is from an automated smoke testing program
and was not reviewed by a human for accuracy

------------------------------
PROGRAM OUTPUT
------------------------------

Output from '/usr/bin/make test':

PERL_DL_NONLAZY=1 "/home/sand/src/perl/repoperls/installed-perls/host/k83x386w/v5.21.10-46-gcb74824/37ba/bin/perl" "-MExtUtils::Command::MM" "-MTest::Harness" "-e" "undef *Test::Harness::Switches; test_harness(0, 'inc', 'blib/lib', 'blib/arch')" t/*.t t/01_role/01_service/*.t t/01_role/02_entry/*.t t/01_role/03_has_content/*.t t/02_feedurl/*.t t/03_entry_has/*.t t/04_auth/*.t
Constants from lexical variables potentially modified elsewhere are deprecated at /home/sand/src/perl/repoperls/installed-perls/host/k83x386w/v5.21.10-46-gcb74824/37ba/lib/site_perl/5.21.11/i686-linux-ld/Mouse/Util.pm line 79.
t/00_compile.t ......................................... ok
Constants from lexical variables potentially modified elsewhere are deprecated at /home/sand/src/perl/repoperls/installed-perls/host/k83x386w/v5.21.10-46-gcb74824/37ba/lib/site_perl/5.21.11/i686-linux-ld/Mouse/Util.pm line 79.
t/01_role/01_service/01_instanciate.t .................. ok
Constants from lexical variables potentially modified elsewhere are deprecated at /home/sand/src/perl/repoperls/installed-perls/host/k83x386w/v5.21.10-46-gcb74824/37ba/lib/site_perl/5.21.11/i686-linux-ld/Mouse/Util.pm line 79.
t/01_role/01_service/02_namespace.t .................... ok
Constants from lexical variables potentially modified elsewhere are deprecated at /home/sand/src/perl/repoperls/installed-perls/host/k83x386w/v5.21.10-46-gcb74824/37ba/lib/site_perl/5.21.11/i686-linux-ld/Mouse/Util.pm line 79.
t/01_role/01_service/03_request.t ...................... ok
Constants from lexical variables potentially modified elsewhere are deprecated at /home/sand/src/perl/repoperls/installed-perls/host/k83x386w/v5.21.10-46-gcb74824/37ba/lib/site_perl/5.21.11/i686-linux-ld/Mouse/Util.pm line 79.
t/01_role/01_service/04_methods.t ...................... ok
Constants from lexical variables potentially modified elsewhere are deprecated at /home/sand/src/perl/repoperls/installed-perls/host/k83x386w/v5.21.10-46-gcb74824/37ba/lib/site_perl/5.21.11/i686-linux-ld/Mouse/Util.pm line 79.
t/01_role/01_service/05_debug.t ........................ ok
Constants from lexical variables potentially modified elsewhere are deprecated at /home/sand/src/perl/repoperls/installed-perls/host/k83x386w/v5.21.10-46-gcb74824/37ba/lib/site_perl/5.21.11/i686-linux-ld/Mouse/Util.pm line 79.
t/01_role/01_service/06_pass_through.t ................. ok
Constants from lexical variables potentially modified elsewhere are deprecated at /home/sand/src/perl/repoperls/installed-perls/host/k83x386w/v5.21.10-46-gcb74824/37ba/lib/site_perl/5.21.11/i686-linux-ld/Mouse/Util.pm line 79.
t/01_role/01_service/07_max_line_length.t .............. ok
Constants from lexical variables potentially modified elsewhere are deprecated at /home/sand/src/perl/repoperls/installed-perls/host/k83x386w/v5.21.10-46-gcb74824/37ba/lib/site_perl/5.21.11/i686-linux-ld/Mouse/Util.pm line 79.
t/01_role/01_service/08_max_line_length_custom_size.t .. ok
Constants from lexical variables potentially modified elsewhere are deprecated at /home/sand/src/perl/repoperls/installed-perls/host/k83x386w/v5.21.10-46-gcb74824/37ba/lib/site_perl/5.21.11/i686-linux-ld/Mouse/Util.pm line 79.
t/01_role/02_entry/01_instanciate.t .................... ok
Constants from lexical variables potentially modified elsewhere are deprecated at /home/sand/src/perl/repoperls/installed-perls/host/k83x386w/v5.21.10-46-gcb74824/37ba/lib/site_perl/5.21.11/i686-linux-ld/Mouse/Util.pm line 79.
t/01_role/02_entry/02_update.t ......................... ok
Constants from lexical variables potentially modified elsewhere are deprecated at /home/sand/src/perl/repoperls/installed-perls/host/k83x386w/v5.21.10-46-gcb74824/37ba/lib/site_perl/5.21.11/i686-linux-ld/Mouse/Util.pm line 79.
t/01_role/03_has_content/01_basic.t .................... ok
Constants from lexical variables potentially modified elsewhere are deprecated at /home/sand/src/perl/repoperls/installed-perls/host/k83x386w/v5.21.10-46-gcb74824/37ba/lib/site_perl/5.21.11/i686-linux-ld/Mouse/Util.pm line 79.
t/02_feedurl/01_basic.t ................................ ok
Constants from lexical variables potentially modified elsewhere are deprecated at /home/sand/src/perl/repoperls/installed-perls/host/k83x386w/v5.21.10-46-gcb74824/37ba/lib/site_perl/5.21.11/i686-linux-ld/Mouse/Util.pm line 79.
t/02_feedurl/02_add.t .................................. ok
Constants from lexical variables potentially modified elsewhere are deprecated at /home/sand/src/perl/repoperls/installed-perls/host/k83x386w/v5.21.10-46-gcb74824/37ba/lib/site_perl/5.21.11/i686-linux-ld/Mouse/Util.pm line 79.
t/02_feedurl/03_list.t ................................. ok
Constants from lexical variables potentially modified elsewhere are deprecated at /home/sand/src/perl/repoperls/installed-perls/host/k83x386w/v5.21.10-46-gcb74824/37ba/lib/site_perl/5.21.11/i686-linux-ld/Mouse/Util.pm line 79.
t/02_feedurl/04_delete.t ............................... ok
Constants from lexical variables potentially modified elsewhere are deprecated at /home/sand/src/perl/repoperls/installed-perls/host/k83x386w/v5.21.10-46-gcb74824/37ba/lib/site_perl/5.21.11/i686-linux-ld/Mouse/Util.pm line 79.
t/02_feedurl/05_error.t ................................ ok
Constants from lexical variables potentially modified elsewhere are deprecated at /home/sand/src/perl/repoperls/installed-perls/host/k83x386w/v5.21.10-46-gcb74824/37ba/lib/site_perl/5.21.11/i686-linux-ld/Mouse/Util.pm line 79.
t/03_entry_has/01_basic.t .............................. ok
Constants from lexical variables potentially modified elsewhere are deprecated at /home/sand/src/perl/repoperls/installed-perls/host/k83x386w/v5.21.10-46-gcb74824/37ba/lib/site_perl/5.21.11/i686-linux-ld/Mouse/Util.pm line 79.
t/03_entry_has/02_error.t .............................. ok
Constants from lexical variables potentially modified elsewhere are deprecated at /home/sand/src/perl/repoperls/installed-perls/host/k83x386w/v5.21.10-46-gcb74824/37ba/lib/site_perl/5.21.11/i686-linux-ld/Mouse/Util.pm line 79.
t/04_auth/01_authsub.t ................................. ok
Constants from lexical variables potentially modified elsewhere are deprecated at /home/sand/src/perl/repoperls/installed-perls/host/k83x386w/v5.21.10-46-gcb74824/37ba/lib/site_perl/5.21.11/i686-linux-ld/Mouse/Util.pm line 79.
t/04_auth/02_oauth.t ................................... ok
Constants from lexical variables potentially modified elsewhere are deprecated at /home/sand/src/perl/repoperls/installed-perls/host/k83x386w/v5.21.10-46-gcb74824/37ba/lib/site_perl/5.21.11/i686-linux-ld/Mouse/Util.pm line 79.
t/04_auth/03_multiple.t ................................ ok
Constants from lexical variables potentially modified elsewhere are deprecated at /home/sand/src/perl/repoperls/installed-perls/host/k83x386w/v5.21.10-46-gcb74824/37ba/lib/site_perl/5.21.11/i686-linux-ld/Mouse/Util.pm line 79.
t/04_auth/04_oauth2.t .................................. ok
Constants from lexical variables potentially modified elsewhere are deprecated at /home/sand/src/perl/repoperls/installed-perls/host/k83x386w/v5.21.10-46-gcb74824/37ba/lib/site_perl/5.21.11/i686-linux-ld/Mouse/Util.pm line 79.
t/05_types.t ........................................... ok
All tests successful.
Files=24, Tests=423,  9 wallclock secs ( 0.12 usr  0.08 sys +  3.85 cusr  0.91 csys =  4.96 CPU)
Result: PASS

------------------------------
PREREQUISITES
------------------------------

Prerequisite modules loaded:

requires:

    Module                      Need     Have      
    --------------------------- -------- ----------
    Any::Moose                  0.04     0.26      
    Carp                        0        1.36      
    Digest::SHA1                0        2.13      
    Lingua::EN::Inflect::Number 0        1.11      
    LWP::Protocol::https        0        6.06      
    LWP::UserAgent              0        6.13      
    Mouse                       0.51     2.4.1     
    Net::Google::AuthSub        0.5      0.5       
    Net::OAuth                  0        0.28      
    Net::OAuth2                 0.60     0.61      
    perl                        5.008001 5.021011  
    Text::Glob                  0        0.09      
    URI                         0        1.67      
    XML::Atom                   0        0.41      
    XML::LibXML                 0        2.0118    

build_requires:

    Module                      Need     Have      
    --------------------------- -------- ----------
    ExtUtils::MakeMaker         6.59     7.04      
    Test::Exception             0        0.38      
    Test::MockModule            0        0.09      
    Test::MockObject            0        1.20140408
    Test::More                  0.88     1.001014  
    Test::Warn                  0        0.30      
    UNIVERSAL::can              0        1.20140328
    UNIVERSAL::isa              0        1.20140927

configure_requires:

    Module                      Need     Have      
    --------------------------- -------- ----------
    ExtUtils::MakeMaker         6.59     7.04      


------------------------------
ENVIRONMENT AND OTHER CONTEXT
------------------------------

Environment variables:

    AUTOMATED_TESTING = 1
    LANG = C
    PATH = /home/sand/bin:/usr/local/bin:/usr/bin:/bin:/usr/bin/X11:/usr/games:/usr/local/perl/bin:/usr/X11/bin:/sbin:/usr/sbin
    PERL5LIB = 
    PERL5OPT = 
    PERL5_CPANPLUS_IS_RUNNING = 28110
    PERL5_CPAN_IS_RUNNING = 28110
    PERL_MM_USE_DEFAULT = 1
    SHELL = /usr/bin/zsh
    TERM = screen

Perl special variables (and OS-specific diagnostics, for MSWin32):

    $^X = /home/sand/src/perl/repoperls/installed-perls/host/k83x386w/v5.21.10-46-gcb74824/37ba/bin/perl
    $UID/$EUID = 1005 / 1005
    $GID = 1005 1005
    $EGID = 1005 1005

Perl module toolchain versions installed:

    Module              Have    
    ------------------- --------
    CPAN                2.12    
    CPAN::Meta          2.150001
    Cwd                 3.56    
    ExtUtils::CBuilder  0.280221
    ExtUtils::Command   1.20    
    ExtUtils::Install   2.04    
    ExtUtils::MakeMaker 7.04    
    ExtUtils::Manifest  1.70    
    ExtUtils::ParseXS   3.28    
    File::Spec          3.56    
    JSON                2.90    
    JSON::PP            2.27300 
    Module::Build       0.4211  
    Module::Signature   0.73    
    Parse::CPAN::Meta   1.4414  
    Test::Harness       3.35    
    Test::More          1.001014
    YAML                1.14    
    YAML::Syck          1.29    
    version             0.9909  


--

Summary of my perl5 (revision 5 version 21 subversion 11) configuration:
  Commit id: cb74824085db788b8cbf6dbde3c1f1f39d978811
  Platform:
    osname=linux, osvers=3.2.0-4-686-pae, archname=i686-linux-ld
    uname='linux k83x386w 3.2.0-4-686-pae #1 smp debian 3.2.65-1+deb7u2 i686 gnulinux '
    config_args='-Dprefix=/home/sand/src/perl/repoperls/installed-perls/host/k83x386w/v5.21.10-46-gcb74824/37ba -Dmyhostname=k83x386w -Dinstallusrbinperl=n -Uversiononly -Dusedevel -des -Ui_db -Uuseithreads -Duselongdouble -DDEBUGGING=-g'
    hint=recommended, useposix=true, d_sigaction=define
    useithreads=undef, usemultiplicity=undef
    use64bitint=undef, use64bitall=undef, uselongdouble=define
    usemymalloc=n, bincompat5005=undef
  Compiler:
    cc='cc', ccflags ='-fwrapv -fno-strict-aliasing -pipe -fstack-protector -I/usr/local/include -D_LARGEFILE_SOURCE -D_FILE_OFFSET_BITS=64 -D_FORTIFY_SOURCE=2',
    optimize='-O2 -g',
    cppflags='-fwrapv -fno-strict-aliasing -pipe -fstack-protector -I/usr/local/include'
    ccversion='', gccversion='4.7.2', gccosandvers=''
    intsize=4, longsize=4, ptrsize=4, doublesize=8, byteorder=1234, doublekind=3
    d_longlong=define, longlongsize=8, d_longdbl=define, longdblsize=12, longdblkind=3
    ivtype='long', ivsize=4, nvtype='long double', nvsize=12, Off_t='off_t', lseeksize=8
    alignbytes=4, prototype=define
  Linker and Libraries:
    ld='cc', ldflags =' -fstack-protector -L/usr/local/lib'
    libpth=/usr/local/lib /usr/lib/gcc/i486-linux-gnu/4.7/include-fixed /usr/include/i386-linux-gnu /usr/lib /lib/i386-linux-gnu /lib/../lib /usr/lib/i386-linux-gnu /usr/lib/../lib /lib
    libs=-lpthread -lnsl -ldb -ldl -lm -lcrypt -lutil -lc
    perllibs=-lpthread -lnsl -ldl -lm -lcrypt -lutil -lc
    libc=libc-2.13.so, so=so, useshrplib=false, libperl=libperl.a
    gnulibc_version='2.13'
  Dynamic Linking:
    dlsrc=dl_dlopen.xs, dlext=so, d_dlsymun=undef, ccdlflags='-Wl,-E'
    cccdlflags='-fPIC', lddlflags='-shared -O2 -g -L/usr/local/lib -fstack-protector'


Characteristics of this binary (from libperl): 
  Compile-time options: HAS_TIMES PERLIO_LAYERS PERL_DONT_CREATE_GVSV
                        PERL_HASH_FUNC_ONE_AT_A_TIME_HARD PERL_MALLOC_WRAP
                        PERL_NEW_COPY_ON_WRITE PERL_PRESERVE_IVUV
                        PERL_USE_DEVEL USE_LARGE_FILES USE_LOCALE
                        USE_LOCALE_COLLATE USE_LOCALE_CTYPE
                        USE_LOCALE_NUMERIC USE_LOCALE_TIME USE_LONG_DOUBLE
                        USE_PERLIO USE_PERL_ATOF
  Built under linux
  Compiled at Mar 30 2015 22:00:46
  %ENV:
    PERL5LIB=""
    PERL5OPT=""
    PERL5_CPANPLUS_IS_RUNNING="28110"
    PERL5_CPAN_IS_RUNNING="28110"
    PERL_MM_USE_DEFAULT="1"
  @INC:
    /home/sand/src/perl/repoperls/installed-perls/host/k83x386w/v5.21.10-46-gcb74824/37ba/lib/site_perl/5.21.11/i686-linux-ld
    /home/sand/src/perl/repoperls/installed-perls/host/k83x386w/v5.21.10-46-gcb74824/37ba/lib/site_perl/5.21.11
    /home/sand/src/perl/repoperls/installed-perls/host/k83x386w/v5.21.10-46-gcb74824/37ba/lib/5.21.11/i686-linux-ld
    /home/sand/src/perl/repoperls/installed-perls/host/k83x386w/v5.21.10-46-gcb74824/37ba/lib/5.21.11
    .