Acme-MetaSyntactic v1.015 Perl 5 v5.8.9 i86pc-solaris-64
- Status
- Pass
- From
- Chris Williams (BINGOS)
- Dist
-
Acme-MetaSyntactic v1.015
- Platform
- Perl 5 v5.8.9 i86pc-solaris-64
- Date
- 2021-05-14 07:38:52
- ID
- 6dca06c0-b487-11eb-84bc-edd243e66a77
This distribution has been tested as part of the CPAN Testers
project, supporting the Perl programming language. See
http://wiki.cpantesters.org/ for more information or email
questions to cpan-testers-discuss@perl.org
--
Dear Philippe Bruhat (BooK),
This is a computer-generated error report created automatically by
CPANPLUS, version 0.9910. Testers personal comments may appear
at the end of this report.
Thank you for uploading your work to CPAN. Congratulations!
All tests were successful.
TEST RESULTS:
Below is the error stack from stage 'make test':
PERL_DL_NONLAZY=1 "/home/cpan/pit/bare/perl-5.8.9/bin/perl" "-MExtUtils::Command::MM" "-MTest::Harness" "-e" "undef *Test::Harness::Switches; test_harness(0, 'blib/lib', 'blib/arch')" t/*.t
t/00-compile.t .......... ok
#
# Versions for all modules listed in MYMETA.json (including optional ones):
#
# === Configure Requires ===
#
# Module Want Have
# ------------------- ---- ----
# ExtUtils::MakeMaker any 7.58
#
# === Build Requires ===
#
# Module Want Have
# ------------------- ---- ----
# ExtUtils::MakeMaker any 7.58
#
# === Test Requires ===
#
# Module Want Have
# --------------------- ---- --------
# Cwd any 3.75
# ExtUtils::MakeMaker any 7.58
# File::Find any 1.13
# File::Spec any 3.75
# File::Spec::Functions any 3.75
# IO::Handle any 1.27
# IPC::Open3 any 1.03
# Test::More any 1.302183
# lib any 0.61
#
# === Test Recommends ===
#
# Module Want Have
# ---------- -------- --------
# CPAN::Meta 2.120900 2.150010
#
# === Runtime Requires ===
#
# Module Want Have
# --------------------- ---- --------
# Carp any 1.10
# File::Basename any 2.77
# File::Glob any 1.06
# File::Spec any 3.75
# Getopt::Long any 2.37
# LWP::UserAgent any 6.54
# List::Util any 1.19
# Test::Builder::Module any 1.302183
# Win32::Locale any 0.04
# base any 2.13
# strict any 1.03
# warnings any 1.05_01
#
t/00-report-prereqs.t ... ok
# Tested Acme::MetaSyntactic 1.015, Perl 5.008009, /home/cpan/pit/bare/perl-5.8.9/bin/perl
t/00load.t .............. ok
t/05class.t ............. ok
t/07data.t .............. ok
t/10meta.t .............. ok
t/11namespace.t ......... ok
t/12fail.t .............. ok
t/12live.t .............. ok
t/15func.t .............. ok
t/16import.t ............ ok
t/20theme.t ............. ok
t/29meta.t .............. ok
t/30list.t .............. ok
t/31any.t ............... ok
t/32multi.t ............. ok
t/33locale.t ............ ok
t/33locale_territory.t .. ok
t/33locale_win32.t ...... ok
t/34data.t .............. ok
Failed to get content at fail (400 URL must be absolute at t/35remote.t line 89
t/35remote.t ............ ok
Failed to get content at fail (400 URL must be absolute at t/35remote2.t line 47
t/35remote2.t ........... ok
t/40inc.t ............... ok
t/50usecase.t ........... ok
t/author-pod-syntax.t ... skipped: these tests are for testing by the author
t/release-distmeta.t .... skipped: these tests are for release candidate testing
All tests successful.
Files=26, Tests=257, 7 wallclock secs ( 0.21 usr 0.12 sys + 4.66 cusr 1.63 csys = 6.61 CPU)
Result: PASS
PREREQUISITES:
Here is a list of prerequisites you specified and versions we
managed to load:
Module Name Have Want
Carp 1.10 0
Cwd 3.75 0
ExtUtils::MakeMaker 7.58 0
File::Basename 2.77 0
File::Find 1.13 0
File::Glob 1.06 0
File::Spec 3.75 0
File::Spec::Functions 3.75 0
Getopt::Long 2.37 0
IO::Handle 1.27 0
IPC::Open3 1.03 0
LWP::UserAgent 6.54 0
List::Util 1.19 0
Test::Builder::Module 1.302183 0
Test::More 1.302183 0
Win32::Locale 0.04 0
base 2.13 0
lib 0.61 0
strict 1.03 0
warnings 1.05_01 0
Perl module toolchain versions installed:
Module Name Have
CPANPLUS 0.9910
CPANPLUS::Dist::Build 0.90
Cwd 3.75
ExtUtils::CBuilder 0.280235
ExtUtils::Command 7.58
ExtUtils::Install 2.20
ExtUtils::MakeMaker 7.58
ExtUtils::Manifest 1.73
ExtUtils::ParseXS 3.35
File::Spec 3.75
Module::Build 0.4231
Pod::Parser 1.35
Pod::Simple 3.40
Test2 1.302183
Test::Harness 3.42
Test::More 1.302183
version 0.9928
******************************** NOTE ********************************
The comments above are created mechanically, possibly without manual
checking by the sender. As there are many people performing automatic
tests on each upload to CPAN, it is likely that you will receive
identical messages about the same problem.
If you believe that the message is mistaken, please reply to the first
one with correction and/or additional informations, and do not take
it personally. We appreciate your patience. :)
**********************************************************************
Additional comments:
This report was machine-generated by CPANPLUS::Dist::YACSmoke 1.08.
Powered by minismokebox version 0.68
CPANPLUS is prefering Build.PL
------------------------------
ENVIRONMENT AND OTHER CONTEXT
------------------------------
Environment variables:
AUTOMATED_TESTING = 1
LANG = en_GB.UTF-8
NONINTERACTIVE_TESTING = 1
PATH = /home/cpan/pit/bare/conf/perl-5.8.9/.cpanplus/5.8.9/build/sGtQ80GFyo/Acme-MetaSyntactic-1.015/blib/script:/usr/bin:/usr/sbin:/sbin:/opt/ooce/bin:/usr/gnu/bin
PERL5LIB = /home/cpan/pit/jail/9T7j6NXGGe/lib/perl5:/home/cpan/pit/bare/conf/perl-5.8.9/.cpanplus/5.8.9/build/sGtQ80GFyo/Acme-MetaSyntactic-1.015/blib/lib:/home/cpan/pit/bare/conf/perl-5.8.9/.cpanplus/5.8.9/build/sGtQ80GFyo/Acme-MetaSyntactic-1.015/blib/arch
PERL5_CPANPLUS_IS_RUNNING = 12410
PERL5_CPANPLUS_IS_VERSION = 0.9910
PERL5_MINISMOKEBOX = 0.68
PERL5_YACSMOKE_BASE = /home/cpan/pit/bare/conf/perl-5.8.9
PERL_EXTUTILS_AUTOINSTALL = --defaultdeps
PERL_LOCAL_LIB_ROOT = /home/cpan/pit/jail/9T7j6NXGGe
PERL_MB_OPT = --install_base "/home/cpan/pit/jail/9T7j6NXGGe"
PERL_MM_OPT = INSTALL_BASE=/home/cpan/pit/jail/9T7j6NXGGe
PERL_MM_USE_DEFAULT = 1
PERL_USE_UNSAFE_INC = 1
SHELL = /bin/bash
TERM = screen
Perl special variables (and OS-specific diagnostics, for MSWin32):
Perl: $^X = /home/cpan/pit/bare/perl-5.8.9/bin/perl
UID: $< = 101
EUID: $> = 101
GID: $( = 101 101
EGID: $) = 101 101
-------------------------------
--
Summary of my perl5 (revision 5 version 8 subversion 9) configuration:
Platform:
osname=solaris, osvers=2.11, archname=i86pc-solaris-64
uname='sunos ouzel 5.11 omnios-r151034-0d278a0cc5 i86pc i386 i86pc '
config_args='-des -Dprefix=/home/cpan/pit/bare/perl-5.8.9 -Duse64bitall -Dcc=gcc'
hint=recommended, useposix=true, d_sigaction=define
usethreads=undef use5005threads=undef useithreads=undef usemultiplicity=undef
useperlio=define d_sfio=undef uselargefiles=define usesocks=undef
use64bitint=define use64bitall=define uselongdouble=undef
usemymalloc=n, bincompat5005=undef
Compiler:
cc='gcc', ccflags ='-m64 -fwrapv -fno-strict-aliasing -pipe -D_LARGEFILE_SOURCE -D_FILE_OFFSET_BITS=64 -DPERL_USE_SAFE_PUTENV',
optimize='-O',
cppflags='-m64 -fwrapv -fno-strict-aliasing -pipe'
ccversion='', gccversion='9.3.0', gccosandvers=''
intsize=4, longsize=8, ptrsize=8, doublesize=8, byteorder=12345678
d_longlong=define, longlongsize=8, d_longdbl=define, longdblsize=16
ivtype='long', ivsize=8, nvtype='double', nvsize=8, Off_t='off_t', lseeksize=8
alignbytes=8, prototype=define
Linker and Libraries:
ld='gcc', ldflags =' -m64 -L/usr/gnu/lib '
libpth=/usr/gnu/lib /usr/lib /usr/ccs/lib
libs=-lsocket -lnsl -ldl -lm -lc
perllibs=-lsocket -lnsl -ldl -lm -lc
libc=/lib/libc.so, so=so, useshrplib=true, libperl=libperl.so
gnulibc_version=''
Dynamic Linking:
dlsrc=dl_dlopen.xs, dlext=so, d_dlsymun=undef, ccdlflags=' -R /home/cpan/pit/bare/perl-5.8.9/lib/5.8.9/i86pc-solaris-64/CORE'
cccdlflags='-fPIC', lddlflags=' -shared -m64 -L/usr/gnu/lib'
Characteristics of this binary (from libperl):
Compile-time options: PERL_MALLOC_WRAP PERL_USE_SAFE_PUTENV USE_64_BIT_ALL
USE_64_BIT_INT USE_FAST_STDIO USE_LARGE_FILES
USE_PERLIO
Locally applied patches:
Devel::PatchPerl 2.00
Built under solaris
Compiled at Aug 19 2020 01:07:46
%ENV:
PERL5LIB="/home/cpan/pit/jail/9T7j6NXGGe/lib/perl5:/home/cpan/pit/bare/conf/perl-5.8.9/.cpanplus/5.8.9/build/sGtQ80GFyo/Acme-MetaSyntactic-1.015/blib/lib:/home/cpan/pit/bare/conf/perl-5.8.9/.cpanplus/5.8.9/build/sGtQ80GFyo/Acme-MetaSyntactic-1.015/blib/arch"
PERL5_CPANPLUS_IS_RUNNING="12410"
PERL5_CPANPLUS_IS_VERSION="0.9910"
PERL5_MINISMOKEBOX="0.68"
PERL5_YACSMOKE_BASE="/home/cpan/pit/bare/conf/perl-5.8.9"
PERL_EXTUTILS_AUTOINSTALL="--defaultdeps"
PERL_LOCAL_LIB_ROOT="/home/cpan/pit/jail/9T7j6NXGGe"
PERL_MB_OPT="--install_base "/home/cpan/pit/jail/9T7j6NXGGe""
PERL_MM_OPT="INSTALL_BASE=/home/cpan/pit/jail/9T7j6NXGGe"
PERL_MM_USE_DEFAULT="1"
PERL_USE_UNSAFE_INC="1"
@INC:
/home/cpan/pit/jail/9T7j6NXGGe/lib/perl5/5.8.9/i86pc-solaris-64
/home/cpan/pit/jail/9T7j6NXGGe/lib/perl5/5.8.9
/home/cpan/pit/jail/9T7j6NXGGe/lib/perl5/i86pc-solaris-64
/home/cpan/pit/jail/9T7j6NXGGe/lib/perl5
/home/cpan/pit/bare/conf/perl-5.8.9/.cpanplus/5.8.9/build/sGtQ80GFyo/Acme-MetaSyntactic-1.015/blib/lib
/home/cpan/pit/bare/conf/perl-5.8.9/.cpanplus/5.8.9/build/sGtQ80GFyo/Acme-MetaSyntactic-1.015/blib/arch
/home/cpan/pit/bare/perl-5.8.9/lib/5.8.9/i86pc-solaris-64
/home/cpan/pit/bare/perl-5.8.9/lib/5.8.9
/home/cpan/pit/bare/perl-5.8.9/lib/site_perl/5.8.9/i86pc-solaris-64
/home/cpan/pit/bare/perl-5.8.9/lib/site_perl/5.8.9
.