Params-ValidationCompiler v0.27 Perl 5 v5.16.3 x86_64-linux

Status
Pass
From
Alceu Rodrigues de Freitas Junior
Dist
Params-ValidationCompiler v0.27
Platform
Perl 5 v5.16.3 x86_64-linux
Date
2018-06-02 18:04:44
ID
6da8069a-668f-11e8-a1cf-8ed823f1c0c4
This distribution has been tested as part of the CPAN Testers
project, supporting the Perl programming language.  See
http://wiki.cpantesters.org/ for more information or email
questions to cpan-testers-discuss@perl.org


--
Dear Dave Rolsky,

This is a computer-generated report for Params-ValidationCompiler-0.27
on perl 5.16.3, created by CPAN-Reporter-1.2018.

Thank you for uploading your work to CPAN.  Congratulations!
All tests were successful.

Sections of this report:

    * Tester comments
    * Program output
    * Prerequisites
    * Environment and other context

------------------------------
TESTER COMMENTS
------------------------------

Additional comments from tester:

none provided

------------------------------
PROGRAM OUTPUT
------------------------------

Output from '/usr/bin/make test':

PERL_DL_NONLAZY=1 "/home/alceu/perl5/perlbrew/perls/perl-5.16.3/bin/perl" "-MExtUtils::Command::MM" "-MTest::Harness" "-e" "undef *Test::Harness::Switches; test_harness(0, 'blib/lib', 'blib/arch')" t/*.t t/named/*.t t/positional/*.t
# 
# Versions for all modules listed in MYMETA.json (including optional ones):
# 
# === Configure Requires ===
# 
#     Module              Want Have
#     ------------------- ---- ----
#     ExtUtils::MakeMaker  any 7.24
# 
# === Build Requires ===
# 
#     Module              Want Have
#     ------------------- ---- ----
#     ExtUtils::MakeMaker  any 7.24
# 
# === Test Requires ===
# 
#     Module                        Want     Have
#     ------------------------- -------- --------
#     ExtUtils::MakeMaker            any     7.24
#     File::Spec                     any     3.62
#     Hash::Util                     any     0.11
#     Specio                        0.14     0.31
#     Test2::Plugin::NoWarnings      any     0.05
#     Test2::Require::Module         any 0.000114
#     Test2::V0                      any 0.000114
#     Test::More                1.302015 1.302136
#     Test::Without::Module          any     0.18
# 
# === Test Recommends ===
# 
#     Module         Want     Have
#     ---------- -------- --------
#     CPAN::Meta 2.120900 2.150010
# 
# === Runtime Requires ===
# 
#     Module           Want Have
#     ---------------- ---- ----
#     B                 any 1.35
#     Carp              any 1.38
#     Eval::Closure     any 0.14
#     Exception::Class  any 1.40
#     Exporter          any 5.72
#     List::Util       1.29 1.46
#     Scalar::Util      any 1.46
#     overload          any 1.18
#     strict            any 1.07
#     warnings          any 1.13
# 
# === Runtime Recommends ===
# 
#     Module    Want Have
#     --------- ---- ----
#     Sub::Util 1.40 1.46
# 
t/00-report-prereqs.t .... ok
t/default.t .............. ok
t/exceptions.t ........... ok
t/moose.t ................ ok
t/name-fails.t ........... ok
t/name.t ................. ok
t/named/args-check.t ..... ok
t/named/const-hash.t ..... skipped: Module 'Const::Fast' is not installed
t/named/locked-hash.t .... ok
t/named/required.t ....... ok
t/named/slurpy.t ......... ok
t/pairs-to-value-list.t .. ok
t/positional/default.t ... ok
t/positional/required.t .. ok
t/positional/slurpy.t .... ok
t/self-check.t ........... ok
t/source_for.t ........... ok
t/specio.t ............... ok
t/type-tiny.t ............ ok
All tests successful.
Files=19, Tests=82,  3 wallclock secs ( 0.06 usr  0.02 sys +  2.41 cusr  0.12 csys =  2.61 CPU)
Result: PASS

------------------------------
PREREQUISITES
------------------------------

Prerequisite modules loaded:

requires:

    Module                    Need     Have    
    ------------------------- -------- --------
    B                         0        1.35    
    Carp                      0        1.38    
    Eval::Closure             0        0.14    
    Exception::Class          0        1.40    
    Exporter                  0        5.72    
    List::Util                1.29     1.46    
    overload                  0        1.18    
    Scalar::Util              0        1.46    
    strict                    0        1.07    
    warnings                  0        1.13    

build_requires:

    Module                    Need     Have    
    ------------------------- -------- --------
    ExtUtils::MakeMaker       0        7.24    
    File::Spec                0        3.62    
    Hash::Util                0        0.11    
    Specio                    0.14     0.31    
    Test2::Plugin::NoWarnings 0        0.05    
    Test2::Require::Module    0        0.000114
    Test2::V0                 0        0.000114
    Test::More                1.302015 1.302136
    Test::Without::Module     0        0.18    

configure_requires:

    Module                    Need     Have    
    ------------------------- -------- --------
    ExtUtils::MakeMaker       0        7.24    


------------------------------
ENVIRONMENT AND OTHER CONTEXT
------------------------------

Environment variables:

    LANG = pt_BR.UTF-8
    LANGUAGE = pt_BR:pt:en
    NONINTERACTIVE_TESTING = 1
    PATH = /home/alceu/perl5/perlbrew/bin:/home/alceu/perl5/perlbrew/perls/perl-5.16.3/bin:/home/alceu/.sdkman/candidates/groovy/current/bin:/home/alceu/.sdkman/candidates/gradle/current/bin:/home/alceu/bin:/usr/local/sbin:/usr/local/bin:/usr/sbin:/usr/bin:/sbin:/bin:/usr/games:/usr/local/games:/snap/bin
    PERL5LIB = 
    PERL5OPT = 
    PERL5_CPANPLUS_IS_RUNNING = 27370
    PERL5_CPAN_IS_RUNNING = 27370
    PERLBREW_HOME = /home/alceu/.perlbrew
    PERLBREW_MANPATH = /home/alceu/perl5/perlbrew/perls/perl-5.16.3/man
    PERLBREW_PATH = /home/alceu/perl5/perlbrew/bin:/home/alceu/perl5/perlbrew/perls/perl-5.16.3/bin
    PERLBREW_PERL = perl-5.16.3
    PERLBREW_ROOT = /home/alceu/perl5/perlbrew
    PERLBREW_SHELLRC_VERSION = 0.82
    PERLBREW_VERSION = 0.82
    PERL_MM_USE_DEFAULT = 1
    SHELL = /bin/bash
    TERM = xterm

Perl special variables (and OS-specific diagnostics, for MSWin32):

    $^X = /home/alceu/perl5/perlbrew/perls/perl-5.16.3/bin/perl
    $UID/$EUID = 1000 / 1000
    $GID = 1000 4 24 27 29 30 44 46 108 122 123 124 129 142 1000 1002
    $EGID = 1000 4 24 27 29 30 44 46 108 122 123 124 129 142 1000 1002

Perl module toolchain versions installed:

    Module              Have    
    ------------------- --------
    CPAN                2.16    
    CPAN::Meta          2.150010
    Cwd                 3.62    
    ExtUtils::CBuilder  0.280224
    ExtUtils::Command   7.24    
    ExtUtils::Install   2.04    
    ExtUtils::MakeMaker 7.24    
    ExtUtils::Manifest  1.70    
    ExtUtils::ParseXS   3.30    
    File::Spec          3.62    
    JSON                2.90    
    JSON::PP            2.27400 
    Module::Build       0.4220  
    Module::Signature   n/a     
    Parse::CPAN::Meta   2.150010
    Test::Harness       3.36    
    Test::More          1.302136
    YAML                1.19    
    YAML::Syck          1.29    
    version             0.9917  


--

Summary of my perl5 (revision 5 version 16 subversion 3) configuration:
   
  Platform:
    osname=linux, osvers=3.13.0-43-generic, archname=x86_64-linux
    uname='linux yggdrasil 3.13.0-43-generic #72-ubuntu smp mon dec 8 19:35:06 utc 2014 x86_64 x86_64 x86_64 gnulinux '
    config_args='-de -Dprefix=/home/alceu/perl5/perlbrew/perls/perl-5.16.3 -Aeval:scriptdir=/home/alceu/perl5/perlbrew/perls/perl-5.16.3/bin'
    hint=recommended, useposix=true, d_sigaction=define
    useithreads=undef, usemultiplicity=undef
    useperlio=define, d_sfio=undef, uselargefiles=define, usesocks=undef
    use64bitint=define, use64bitall=define, uselongdouble=undef
    usemymalloc=n, bincompat5005=undef
  Compiler:
    cc='cc', ccflags ='-fno-strict-aliasing -pipe -fstack-protector -I/usr/local/include -D_LARGEFILE_SOURCE -D_FILE_OFFSET_BITS=64',
    optimize='-O2',
    cppflags='-fno-strict-aliasing -pipe -fstack-protector -I/usr/local/include'
    ccversion='', gccversion='4.8.2', gccosandvers=''
    intsize=4, longsize=8, ptrsize=8, doublesize=8, byteorder=12345678
    d_longlong=define, longlongsize=8, d_longdbl=define, longdblsize=16
    ivtype='long', ivsize=8, nvtype='double', nvsize=8, Off_t='off_t', lseeksize=8
    alignbytes=8, prototype=define
  Linker and Libraries:
    ld='cc', ldflags =' -fstack-protector -L/usr/local/lib'
    libpth=/usr/local/lib /lib/x86_64-linux-gnu /lib/../lib /usr/lib/x86_64-linux-gnu /usr/lib/../lib /lib /usr/lib
    libs=-lnsl -ldl -lm -lcrypt -lutil -lc
    perllibs=-lnsl -ldl -lm -lcrypt -lutil -lc
    libc=libc-2.19.so, so=so, useshrplib=false, libperl=libperl.a
    gnulibc_version='2.19'
  Dynamic Linking:
    dlsrc=dl_dlopen.xs, dlext=so, d_dlsymun=undef, ccdlflags='-Wl,-E'
    cccdlflags='-fPIC', lddlflags='-shared -O2 -L/usr/local/lib -fstack-protector'


Characteristics of this binary (from libperl): 
  Compile-time options: HAS_TIMES PERLIO_LAYERS PERL_DONT_CREATE_GVSV
                        PERL_MALLOC_WRAP PERL_PRESERVE_IVUV USE_64_BIT_ALL
                        USE_64_BIT_INT USE_LARGE_FILES USE_LOCALE
                        USE_LOCALE_COLLATE USE_LOCALE_CTYPE
                        USE_LOCALE_NUMERIC USE_PERLIO USE_PERL_ATOF
  Built under linux
  Compiled at Dec 22 2014 14:39:33
  %ENV:
    PERL5LIB=""
    PERL5OPT=""
    PERL5_CPANPLUS_IS_RUNNING="27370"
    PERL5_CPAN_IS_RUNNING="27370"
    PERLBREW_HOME="/home/alceu/.perlbrew"
    PERLBREW_MANPATH="/home/alceu/perl5/perlbrew/perls/perl-5.16.3/man"
    PERLBREW_PATH="/home/alceu/perl5/perlbrew/bin:/home/alceu/perl5/perlbrew/perls/perl-5.16.3/bin"
    PERLBREW_PERL="perl-5.16.3"
    PERLBREW_ROOT="/home/alceu/perl5/perlbrew"
    PERLBREW_SHELLRC_VERSION="0.82"
    PERLBREW_VERSION="0.82"
    PERL_MM_USE_DEFAULT="1"
  @INC:
    /home/alceu/perl5/perlbrew/perls/perl-5.16.3/lib/site_perl/5.16.3/x86_64-linux
    /home/alceu/perl5/perlbrew/perls/perl-5.16.3/lib/site_perl/5.16.3
    /home/alceu/perl5/perlbrew/perls/perl-5.16.3/lib/5.16.3/x86_64-linux
    /home/alceu/perl5/perlbrew/perls/perl-5.16.3/lib/5.16.3
    .