Report for Config-IOD-0.31

Back
From: metabase:user:314402c4-2aae-11df-837a-5e0a49663a4f
Subject: PASS Config-IOD-0.31 v5.20.3 GNU/Linux
Date: 2016-12-27T15:09:14Z

This distribution has been tested as part of the CPAN Testers
project, supporting the Perl programming language.  See
http://wiki.cpantesters.org/ for more information or email
questions to cpan-testers-discuss@perl.org


--
Dear perlancar,

This is a computer-generated report for Config-IOD-0.31
on perl 5.20.3, created by CPAN-Reporter-1.2018.

Thank you for uploading your work to CPAN.  Congratulations!
All tests were successful.

Sections of this report:

    * Tester comments
    * Program output
    * Prerequisites
    * Environment and other context

------------------------------
TESTER COMMENTS
------------------------------

Additional comments from tester:

none provided

------------------------------
PROGRAM OUTPUT
------------------------------

Output from '/usr/bin/make test':

PERL_DL_NONLAZY=1 "/bbbike/perl-5.20.3/bin/perl5.20.3" "-MExtUtils::Command::MM" "-MTest::Harness" "-e" "undef *Test::Harness::Switches; test_harness(0, 'blib/lib', 'blib/arch')" t/*.t
t/00-compile.t ........... ok
t/01-common.t ............ ok
t/author-pod-coverage.t .. skipped: these tests are for testing by the author
t/author-pod-syntax.t .... skipped: these tests are for testing by the author
t/delete_key.t ........... ok
t/delete_section.t ....... ok
t/dump.t ................. ok
t/each_key.t ............. ok
t/each_section.t ......... ok
t/empty.t ................ ok
t/encoding_path.t ........ ok
t/get_value.t ............ ok
t/insert_key.t ........... ok
t/insert_section.t ....... ok
t/list_keys.t ............ ok
t/list_sections.t ........ ok
t/set_value.t ............ ok
# .IOD files are at /var/tmp/cpansmoker-1023/2016122715/Jf6BaH8lNQ
# [
#   '/var/tmp/cpansmoker-1023/2016122715/Jf6BaH8lNQ/examples/comment.iod',
#   '/var/tmp/cpansmoker-1023/2016122715/Jf6BaH8lNQ/examples/dir-include-child.iod',
#   '/var/tmp/cpansmoker-1023/2016122715/Jf6BaH8lNQ/examples/dir-include.iod',
#   '/var/tmp/cpansmoker-1023/2016122715/Jf6BaH8lNQ/examples/dir-include2.iod',
#   '/var/tmp/cpansmoker-1023/2016122715/Jf6BaH8lNQ/examples/dir-merge-self.iod',
#   '/var/tmp/cpansmoker-1023/2016122715/Jf6BaH8lNQ/examples/dir-merge.iod',
#   '/var/tmp/cpansmoker-1023/2016122715/Jf6BaH8lNQ/examples/dir-merge2.iod',
#   '/var/tmp/cpansmoker-1023/2016122715/Jf6BaH8lNQ/examples/dirsyntax.iod',
#   '/var/tmp/cpansmoker-1023/2016122715/Jf6BaH8lNQ/examples/empty-section.iod',
#   '/var/tmp/cpansmoker-1023/2016122715/Jf6BaH8lNQ/examples/empty.iod',
#   '/var/tmp/cpansmoker-1023/2016122715/Jf6BaH8lNQ/examples/encoding-base64.iod',
#   '/var/tmp/cpansmoker-1023/2016122715/Jf6BaH8lNQ/examples/encoding-hex.iod',
#   '/var/tmp/cpansmoker-1023/2016122715/Jf6BaH8lNQ/examples/encoding-json.iod',
#   '/var/tmp/cpansmoker-1023/2016122715/Jf6BaH8lNQ/examples/extra-bench-basic-compat.iod',
#   '/var/tmp/cpansmoker-1023/2016122715/Jf6BaH8lNQ/examples/extra-bench-basic.iod',
#   '/var/tmp/cpansmoker-1023/2016122715/Jf6BaH8lNQ/examples/extra-bench-typical1.iod',
#   '/var/tmp/cpansmoker-1023/2016122715/Jf6BaH8lNQ/examples/invalid-dir-args.iod',
#   '/var/tmp/cpansmoker-1023/2016122715/Jf6BaH8lNQ/examples/invalid-dir-include-nofile.iod',
#   '/var/tmp/cpansmoker-1023/2016122715/Jf6BaH8lNQ/examples/invalid-dir-include-notfound.iod',
#   '/var/tmp/cpansmoker-1023/2016122715/Jf6BaH8lNQ/examples/invalid-dir-include-recursive.iod',
#   '/var/tmp/cpansmoker-1023/2016122715/Jf6BaH8lNQ/examples/invalid-dir-unknown.iod',
#   '/var/tmp/cpansmoker-1023/2016122715/Jf6BaH8lNQ/examples/invalid-directive-unknown.iod',
#   '/var/tmp/cpansmoker-1023/2016122715/Jf6BaH8lNQ/examples/invalid-encoding-json.iod',
#   '/var/tmp/cpansmoker-1023/2016122715/Jf6BaH8lNQ/examples/invalid-encoding-unknown.iod',
#   '/var/tmp/cpansmoker-1023/2016122715/Jf6BaH8lNQ/examples/invalid-key-emptyname.iod',
#   '/var/tmp/cpansmoker-1023/2016122715/Jf6BaH8lNQ/examples/invalid-key-noassign.iod',
#   '/var/tmp/cpansmoker-1023/2016122715/Jf6BaH8lNQ/examples/invalid-section.iod',
#   '/var/tmp/cpansmoker-1023/2016122715/Jf6BaH8lNQ/examples/key.iod',
#   '/var/tmp/cpansmoker-1023/2016122715/Jf6BaH8lNQ/examples/multisection.iod',
#   '/var/tmp/cpansmoker-1023/2016122715/Jf6BaH8lNQ/examples/multival.iod',
#   '/var/tmp/cpansmoker-1023/2016122715/Jf6BaH8lNQ/examples/nested-section.iod',
#   '/var/tmp/cpansmoker-1023/2016122715/Jf6BaH8lNQ/examples/nested-section2.iod',
#   '/var/tmp/cpansmoker-1023/2016122715/Jf6BaH8lNQ/examples/nosection.iod',
#   '/var/tmp/cpansmoker-1023/2016122715/Jf6BaH8lNQ/examples/section.iod',
#   '/var/tmp/cpansmoker-1023/2016122715/Jf6BaH8lNQ/examples/simple.iod',
#   '/var/tmp/cpansmoker-1023/2016122715/Jf6BaH8lNQ/examples/whitespace.iod'
# ]
t/spec.t ................. ok
All tests successful.
Files=18, Tests=77,  2 wallclock secs ( 0.05 usr  0.08 sys +  0.79 cusr  0.28 csys =  1.20 CPU)
Result: PASS

------------------------------
PREREQUISITES
------------------------------

Prerequisite modules loaded:

requires:

    Module                    Need     Have    
    ------------------------- -------- --------
    Config::IOD::Base         0.22     0.28    
    constant                  0        1.33    
    Exporter                  0        5.71    
    overload                  0        1.22    
    parent                    0        0.236   
    perl                      5.010001 5.020003
    strict                    0        1.08    
    Test::Differences         0        0.64    
    Test::Exception           0        0.43    
    Test::More                0.98     1.302073
    warnings                  0        1.23    

build_requires:

    Module                    Need     Have    
    ------------------------- -------- --------
    ExtUtils::MakeMaker       0        7.24    
    File::ShareDir::Tarball   0        0.2.2   
    File::Slurper             0        0.009   
    File::Spec                0        3.48_01 
    File::Temp                0        0.2304  
    IO::Handle                0        1.35    
    IOD::Examples             0.15     0.18    
    IPC::Open3                0        1.16    
    Test::Config::IOD::Common 0        0.28    
    Test::More                0.98     1.302073

configure_requires:

    Module                    Need     Have    
    ------------------------- -------- --------
    ExtUtils::MakeMaker       0        7.24    


------------------------------
ENVIRONMENT AND OTHER CONTEXT
------------------------------

Environment variables:

    LANG = C
    LC_ALL = de_DE.UTF-8
    PATH = /usr/local/bin:/usr/bin:/bin:/usr/local/sbin:/usr/sbin:/sbin:/home/cpansand/bin/linux-gnu:/home/cpansand/bin/sh:/home/cpansand/bin:/usr/games:/home/cpansand/devel:/home/eserte/src/srezic-misc/scripts
    PERL5LIB = /home/cpansand/.cpan/build/2016122715/App-PMUtils-0.65-6/blib/arch:/home/cpansand/.cpan/build/2016122715/App-PMUtils-0.65-6/blib/lib:/home/cpansand/.cpan/build/2016122715/App-LintPrereqs-0.50-6/blib/arch:/home/cpansand/.cpan/build/2016122715/App-LintPrereqs-0.50-6/blib/lib:/home/cpansand/.cpan/build/2016122715/App-IODUtils-0.13-6/blib/arch:/home/cpansand/.cpan/build/2016122715/App-IODUtils-0.13-6/blib/lib:/home/cpansand/.cpan/build/2016122715/Perinci-CmdLine-Help-0.12-6/blib/arch:/home/cpansand/.cpan/build/2016122715/Perinci-CmdLine-Help-0.12-6/blib/lib:/home/cpansand/.cpan/build/2016122715/Complete-Bash-0.30-6/blib/arch:/home/cpansand/.cpan/build/2016122715/Complete-Bash-0.30-6/blib/lib
    PERL5OPT = 
    PERL5_CPANPLUS_IS_RUNNING = 32186
    PERL5_CPAN_IS_RUNNING = 32186
    PERL5_CPAN_IS_RUNNING_IN_RECURSION = 32127,32186
    PERLDOC = -MPod::Perldoc::ToTextOverstrike
    PERL_BATCH = yes
    PERL_CANARY_STABILITY_NOPROMPT = 1
    PERL_CPAN_REPORTER_CONFIG = /var/tmp/cpansmoker-1023/2016122715/cpanreporter_000_config.ini
    PERL_EXTUTILS_AUTOINSTALL = --defaultdeps
    PERL_PARALLEL_SMOKER = yes
    PERL_USE_UNSAFE_INC = 1
    SHELL = /bin/zsh
    TERM = screen
    TMPDIR = /var/tmp/cpansmoker-1023/2016122715

Perl special variables (and OS-specific diagnostics, for MSWin32):

    $^X = /bbbike/perl-5.20.3/bin/perl5.20.3
    $UID/$EUID = 1023 / 1023
    $GID = 1023 1023
    $EGID = 1023 1023

Perl module toolchain versions installed:

    Module              Have    
    ------------------- --------
    CPAN                2.14    
    CPAN::Meta          2.150010
    Cwd                 3.48_01 
    ExtUtils::CBuilder  0.280224
    ExtUtils::Command   7.24    
    ExtUtils::Install   1.67    
    ExtUtils::MakeMaker 7.24    
    ExtUtils::Manifest  1.70    
    ExtUtils::ParseXS   3.24    
    File::Spec          3.48_01 
    JSON                2.90    
    JSON::PP            2.27400 
    Module::Build       0.4220  
    Module::Signature   0.79    
    Parse::CPAN::Meta   2.150010
    Test::Harness       3.36    
    Test::More          1.302073
    YAML                1.20    
    YAML::Syck          1.29    
    version             0.9917  


--

Summary of my perl5 (revision 5 version 20 subversion 3) configuration:
   
  Platform:
    osname=linux, osvers=3.16.0-4-amd64, archname=x86_64-linux
    uname='linux eserte 3.16.0-4-amd64 #1 smp debian 3.16.7-ckt25-2 (2016-04-08) x86_64 gnulinux '
    config_args='-ds -e -Dprefix=/opt/perl-5.20.3 -Dcf_email=srezic@cpan.org'
    hint=recommended, useposix=true, d_sigaction=define
    useithreads=undef, usemultiplicity=undef
    use64bitint=define, use64bitall=define, uselongdouble=undef
    usemymalloc=n, bincompat5005=undef
  Compiler:
    cc='cc', ccflags ='-fwrapv -fno-strict-aliasing -pipe -fstack-protector -I/usr/local/include -D_LARGEFILE_SOURCE -D_FILE_OFFSET_BITS=64',
    optimize='-O2',
    cppflags='-fwrapv -fno-strict-aliasing -pipe -fstack-protector -I/usr/local/include'
    ccversion='', gccversion='4.9.2', gccosandvers=''
    intsize=4, longsize=8, ptrsize=8, doublesize=8, byteorder=12345678
    d_longlong=define, longlongsize=8, d_longdbl=define, longdblsize=16
    ivtype='long', ivsize=8, nvtype='double', nvsize=8, Off_t='off_t', lseeksize=8
    alignbytes=8, prototype=define
  Linker and Libraries:
    ld='cc', ldflags =' -fstack-protector -L/usr/local/lib'
    libpth=/usr/local/lib /usr/lib/gcc/x86_64-linux-gnu/4.9/include-fixed /usr/include/x86_64-linux-gnu /usr/lib /lib/x86_64-linux-gnu /lib/../lib /usr/lib/x86_64-linux-gnu /usr/lib/../lib /lib
    libs=-lpthread -lnsl -lgdbm -ldb -ldl -lm -lcrypt -lutil -lc -lgdbm_compat
    perllibs=-lpthread -lnsl -ldl -lm -lcrypt -lutil -lc
    libc=libc-2.19.so, so=so, useshrplib=false, libperl=libperl.a
    gnulibc_version='2.19'
  Dynamic Linking:
    dlsrc=dl_dlopen.xs, dlext=so, d_dlsymun=undef, ccdlflags='-Wl,-E'
    cccdlflags='-fPIC', lddlflags='-shared -O2 -L/usr/local/lib -fstack-protector'


Characteristics of this binary (from libperl): 
  Compile-time options: HAS_TIMES PERLIO_LAYERS PERL_DONT_CREATE_GVSV
                        PERL_HASH_FUNC_ONE_AT_A_TIME_HARD PERL_MALLOC_WRAP
                        PERL_NEW_COPY_ON_WRITE PERL_PRESERVE_IVUV
                        USE_64_BIT_ALL USE_64_BIT_INT USE_LARGE_FILES
                        USE_LOCALE USE_LOCALE_COLLATE USE_LOCALE_CTYPE
                        USE_LOCALE_NUMERIC USE_PERLIO USE_PERL_ATOF
  Locally applied patches:
	Devel::PatchPerl 1.42
  Built under linux
  Compiled at May  7 2016 12:07:58
  %ENV:
    PERL5LIB="/home/cpansand/.cpan/build/2016122715/App-PMUtils-0.65-6/blib/arch:/home/cpansand/.cpan/build/2016122715/App-PMUtils-0.65-6/blib/lib:/home/cpansand/.cpan/build/2016122715/App-LintPrereqs-0.50-6/blib/arch:/home/cpansand/.cpan/build/2016122715/App-LintPrereqs-0.50-6/blib/lib:/home/cpansand/.cpan/build/2016122715/App-IODUtils-0.13-6/blib/arch:/home/cpansand/.cpan/build/2016122715/App-IODUtils-0.13-6/blib/lib:/home/cpansand/.cpan/build/2016122715/Perinci-CmdLine-Help-0.12-6/blib/arch:/home/cpansand/.cpan/build/2016122715/Perinci-CmdLine-Help-0.12-6/blib/lib:/home/cpansand/.cpan/build/2016122715/Complete-Bash-0.30-6/blib/arch:/home/cpansand/.cpan/build/2016122715/Complete-Bash-0.30-6/blib/lib"
    PERL5OPT=""
    PERL5_CPANPLUS_IS_RUNNING="32186"
    PERL5_CPAN_IS_RUNNING="32186"
    PERL5_CPAN_IS_RUNNING_IN_RECURSION="32127,32186"
    PERLDOC="-MPod::Perldoc::ToTextOverstrike"
    PERL_BATCH="yes"
    PERL_CANARY_STABILITY_NOPROMPT="1"
    PERL_CPAN_REPORTER_CONFIG="/var/tmp/cpansmoker-1023/2016122715/cpanreporter_000_config.ini"
    PERL_EXTUTILS_AUTOINSTALL="--defaultdeps"
    PERL_PARALLEL_SMOKER="yes"
    PERL_USE_UNSAFE_INC="1"
  @INC:
    /home/cpansand/.cpan/build/2016122715/App-PMUtils-0.65-6/blib/arch
    /home/cpansand/.cpan/build/2016122715/App-PMUtils-0.65-6/blib/lib
    /home/cpansand/.cpan/build/2016122715/App-LintPrereqs-0.50-6/blib/arch
    /home/cpansand/.cpan/build/2016122715/App-LintPrereqs-0.50-6/blib/lib
    /home/cpansand/.cpan/build/2016122715/App-IODUtils-0.13-6/blib/arch
    /home/cpansand/.cpan/build/2016122715/App-IODUtils-0.13-6/blib/lib
    /home/cpansand/.cpan/build/2016122715/Perinci-CmdLine-Help-0.12-6/blib/arch
    /home/cpansand/.cpan/build/2016122715/Perinci-CmdLine-Help-0.12-6/blib/lib
    /home/cpansand/.cpan/build/2016122715/Complete-Bash-0.30-6/blib/arch
    /home/cpansand/.cpan/build/2016122715/Complete-Bash-0.30-6/blib/lib
    /opt/perl-5.20.3/lib/site_perl/5.20.3/x86_64-linux
    /opt/perl-5.20.3/lib/site_perl/5.20.3
    /opt/perl-5.20.3/lib/5.20.3/x86_64-linux
    /opt/perl-5.20.3/lib/5.20.3
    .