Catalyst-Model-CacheFunky-Loader v0.06 Perl 5 v5.18.4 x86_64-linux-thread-multi

Status
Pass
From
Andreas J. König (ANDK)
Dist
Catalyst-Model-CacheFunky-Loader v0.06
Platform
Perl 5 v5.18.4 x86_64-linux-thread-multi
Date
2017-12-03 00:18:03
ID
6d92c51e-d7bf-11e7-9b99-e3a9c4fe1824
This distribution has been tested as part of the CPAN Testers
project, supporting the Perl programming language.  See
http://wiki.cpantesters.org/ for more information or email
questions to cpan-testers-discuss@perl.org


--
Dear Tomohiro Teranishi,

This is a computer-generated report for Catalyst-Model-CacheFunky-Loader-0.06
on perl 5.18.4, created by CPAN-Reporter-1.2018.

Thank you for uploading your work to CPAN.  Congratulations!
All tests were successful.

Sections of this report:

    * Tester comments
    * Program output
    * Prerequisites
    * Environment and other context

------------------------------
TESTER COMMENTS
------------------------------

Additional comments from tester:

this report is from an automated smoke testing program
and was not reviewed by a human for accuracy

------------------------------
PROGRAM OUTPUT
------------------------------

Output from '/usr/bin/make test':

"/home/sand/src/perl/repoperls/installed-perls/host/k93msid/v5.18.4/f11c/bin/perl" "-Iinc" Makefile.PL --config= --installdeps=Cache::Funky,0,Module::Recursive::Require,0.04
Cannot determine perl version info from lib/Catalyst/Model/CacheFunky/Loader.pm
PERL_DL_NONLAZY=1 "/home/sand/src/perl/repoperls/installed-perls/host/k93msid/v5.18.4/f11c/bin/perl" "-MExtUtils::Command::MM" "-MTest::Harness" "-e" "undef *Test::Harness::Switches; test_harness(0, 'inc', 'blib/lib', 'blib/arch')" t/00-load.t t/01_app.t t/boilerplate.t t/pod-coverage.t t/pod.t t/spelling.t
# Testing Catalyst::Model::CacheFunky::Loader 0.06, Perl 5.018004, /home/sand/src/perl/repoperls/installed-perls/host/k93msid/v5.18.4/f11c/bin/perl
t/00-load.t ....... ok
[debug] Debug messages enabled
[debug] Statistics enabled
Catalyst::Model::CacheFunky::Loader uses NEXT, which is deprecated. Please see the Class::C3::Adopt::NEXT documentation for details. NEXT used  at /tmp/loop_over_bdir-10496-2uosf2/Catalyst-Model-CacheFunky-Loader-0.06-0/blib/lib/Catalyst/Model/CacheFunky/Loader.pm line 13.
Term::Size::Any is not installed, can't autodetect terminal column width
Trouble trying to detect your terminal size, looking at $ENV{COLUMNS}
Cannot determine desired terminal width, using default of 80 columns
[debug] Loaded plugins:
.----------------------------------------------------------------------------.
| Catalyst::Plugin::ConfigLoader  0.34                                       |
'----------------------------------------------------------------------------'

[debug] Loaded PSGI Middleware:
.----------------------------------------------------------------------------.
| Catalyst::Middleware::Stash                                                |
| Plack::Middleware::HTTPExceptions                                          |
| Plack::Middleware::RemoveRedundantBody  0.06                               |
| Plack::Middleware::FixMissingBodyInRedirect  0.12                          |
| Plack::Middleware::ContentLength                                           |
| Plack::Middleware::MethodOverride  0.15                                    |
| Plack::Middleware::Head                                                    |
'----------------------------------------------------------------------------'

[debug] Loaded Request Data Handlers:
.----------------------------------------------------------------------------.
| application/x-www-form-urlencoded                                          |
| application/json                                                           |
'----------------------------------------------------------------------------'

[debug] Loaded dispatcher "Catalyst::Dispatcher"
[debug] Loaded engine "Catalyst::Engine"
[debug] Found home "/tmp/loop_over_bdir-10496-2uosf2/Catalyst-Model-CacheFunky-Loader-0.06-0/t/lib/TestApp"
[debug] Loaded components:
.-----------------------------------------------------------------+----------.
| Class                                                           | Type     |
+-----------------------------------------------------------------+----------+
| TestApp::Controller::Root                                       | instance |
| TestApp::Model::Funky                                           | instance |
| TestApp::Model::Funky::Context                                  | class    |
| TestApp::Model::Funky::Date                                     | class    |
'-----------------------------------------------------------------+----------'

[debug] Loaded Private actions:
.----------------------+--------------------------------------+--------------.
| Private              | Class                                | Method       |
+----------------------+--------------------------------------+--------------+
| /context             | TestApp::Controller::Root            | context      |
| /date                | TestApp::Controller::Root            | date         |
| /default             | TestApp::Controller::Root            | default      |
'----------------------+--------------------------------------+--------------'

[debug] Loaded Path actions:
.-------------------------------------+--------------------------------------.
| Path                                | Private                              |
+-------------------------------------+--------------------------------------+
| /context/...                        | /context                             |
| /date/...                           | /date                                |
'-------------------------------------+--------------------------------------'

[info] TestApp powered by Catalyst 5.90115
[info] *** Request 1 (1.000/s) [13501] [Sun Dec  3 00:17:44 2017] ***
[debug] Path is "date"
[debug] "GET" request for "date" from "127.0.0.1"
[debug] Response Code: 200; Content-Type: unknown; Content-Length: unknown
[info] Request took 1.098738s (0.910/s)
.------------------------------------------------------------+-----------.
| Action                                                     | Time      |
+------------------------------------------------------------+-----------+
| /date                                                      | 1.000518s |
'------------------------------------------------------------+-----------'

[info] *** Request 2 (1.000/s) [13501] [Sun Dec  3 00:17:45 2017] ***
[debug] Path is "context"
[debug] "GET" request for "context" from "127.0.0.1"
[debug] Response Code: 200; Content-Type: unknown; Content-Length: unknown
[info] Request took 0.002053s (487.092/s)
.------------------------------------------------------------+-----------.
| Action                                                     | Time      |
+------------------------------------------------------------+-----------+
| /context                                                   | 0.000135s |
'------------------------------------------------------------+-----------'

t/01_app.t ........ ok
t/boilerplate.t ... ok
t/pod-coverage.t .. ok
t/pod.t ........... ok
t/spelling.t ...... ok
All tests successful.
Files=6, Tests=9, 12 wallclock secs ( 0.03 usr  0.03 sys +  1.94 cusr  0.33 csys =  2.33 CPU)
Result: PASS

------------------------------
PREREQUISITES
------------------------------

Prerequisite modules loaded:

requires:

    Module                         Need Have    
    ------------------------------ ---- --------
    Cache::Funky                   0    0.06    
    Catalyst                       0    5.90115 
    Catalyst::Plugin::ConfigLoader 0    0.34    
    Module::Recursive::Require     0.04 0.04    
    Test::More                     0    1.302118
    Test::Spelling                 0    0.20    

build_requires:

    Module                         Need Have    
    ------------------------------ ---- --------
    ExtUtils::MakeMaker            0    7.31_04 


------------------------------
ENVIRONMENT AND OTHER CONTEXT
------------------------------

Environment variables:

    AUTOMATED_TESTING = 1
    LANG = en_US.UTF-8
    PATH = /home/sand/bin:/usr/local/bin:/usr/bin:/bin:/usr/games:/usr/local/perl/bin:/usr/X11/bin:/sbin:/usr/sbin
    PERL5LIB = /tmp/loop_over_bdir-10496-2uosf2/Module-Recursive-Require-0.04-0/blib/arch:/tmp/loop_over_bdir-10496-2uosf2/Module-Recursive-Require-0.04-0/blib/lib:/tmp/loop_over_bdir-10496-2uosf2/Cache-Funky-0.06-0/blib/arch:/tmp/loop_over_bdir-10496-2uosf2/Cache-Funky-0.06-0/blib/lib
    PERL5OPT = 
    PERL5_CPANPLUS_IS_RUNNING = 10497
    PERL5_CPAN_IS_RUNNING = 10497
    PERL5_CPAN_IS_RUNNING_IN_RECURSION = 1821,10497
    PERL_CANARY_STABILITY_NOPROMPT = 1
    PERL_MM_USE_DEFAULT = 1
    PERL_USE_UNSAFE_INC = 1
    SHELL = /usr/bin/zsh
    TERM = screen

Perl special variables (and OS-specific diagnostics, for MSWin32):

    $^X = /home/sand/src/perl/repoperls/installed-perls/host/k93msid/v5.18.4/f11c/bin/perl
    $UID/$EUID = 1005 / 1005
    $GID = 1005 1005
    $EGID = 1005 1005

Perl module toolchain versions installed:

    Module              Have    
    ------------------- --------
    CPAN                2.20    
    CPAN::Meta          2.150010
    Cwd                 3.62    
    ExtUtils::CBuilder  0.280226
    ExtUtils::Command   7.31_04 
    ExtUtils::Install   2.06    
    ExtUtils::MakeMaker 7.31_04 
    ExtUtils::Manifest  1.70    
    ExtUtils::ParseXS   3.35    
    File::Spec          3.62    
    JSON                2.97000 
    JSON::PP            2.97000 
    Module::Build       0.4224  
    Module::Signature   0.81    
    Parse::CPAN::Meta   2.150010
    Test::Harness       3.39    
    Test::More          1.302118
    YAML                1.23    
    YAML::Syck          1.30    
    version             0.9918  


--

Summary of my perl5 (revision 5 version 18 subversion 4) configuration:
  Derived from: 51202371ba68f3f52f13124a3ea1bc3c171e0ee2
  Platform:
    osname=linux, osvers=4.12.0-2-amd64, archname=x86_64-linux-thread-multi
    uname='linux k93msid 4.12.0-2-amd64 #1 smp debian 4.12.13-1 (2017-09-19) x86_64 gnulinux '
    config_args='-Dprefix=/home/sand/src/perl/repoperls/installed-perls/host/k93msid/v5.18.4/f11c -Dmyhostname=k93msid -Dinstallusrbinperl=n -Uversiononly -Dusedevel -des -Ui_db -Dlibswanted=cl pthread socket inet nsl gdbm dbm malloc dl ld sun m crypt sec util c cposix posix ucb BSD gdbm_compat -Duseithreads -Uuselongdouble -DDEBUGGING=-g'
    hint=recommended, useposix=true, d_sigaction=define
    useithreads=define, usemultiplicity=define
    useperlio=define, d_sfio=undef, uselargefiles=define, usesocks=undef
    use64bitint=define, use64bitall=define, uselongdouble=undef
    usemymalloc=n, bincompat5005=undef
  Compiler:
    cc='cc', ccflags ='-D_REENTRANT -D_GNU_SOURCE -fno-strict-aliasing -pipe -fstack-protector -I/usr/local/include -D_LARGEFILE_SOURCE -D_FILE_OFFSET_BITS=64',
    optimize='-O2 -g',
    cppflags='-D_REENTRANT -D_GNU_SOURCE -fno-strict-aliasing -pipe -fstack-protector -I/usr/local/include'
    ccversion='', gccversion='7.2.0', gccosandvers=''
    intsize=4, longsize=8, ptrsize=8, doublesize=8, byteorder=12345678
    d_longlong=define, longlongsize=8, d_longdbl=define, longdblsize=16
    ivtype='long', ivsize=8, nvtype='double', nvsize=8, Off_t='off_t', lseeksize=8
    alignbytes=8, prototype=define
  Linker and Libraries:
    ld='cc', ldflags =' -fstack-protector -L/usr/local/lib'
    libpth=/usr/local/lib /lib/x86_64-linux-gnu /lib/../lib /usr/lib/x86_64-linux-gnu /usr/lib/../lib /lib /usr/lib
    libs=-lpthread -lnsl -ldl -lm -lcrypt -lutil -lc
    perllibs=-lpthread -lnsl -ldl -lm -lcrypt -lutil -lc
    libc=libc-2.24.so, so=so, useshrplib=false, libperl=libperl.a
    gnulibc_version='2.24'
  Dynamic Linking:
    dlsrc=dl_dlopen.xs, dlext=so, d_dlsymun=undef, ccdlflags='-Wl,-E'
    cccdlflags='-fPIC', lddlflags='-shared -O2 -g -L/usr/local/lib -fstack-protector'


Characteristics of this binary (from libperl): 
  Compile-time options: HAS_TIMES MULTIPLICITY PERLIO_LAYERS
                        PERL_DONT_CREATE_GVSV
                        PERL_HASH_FUNC_ONE_AT_A_TIME_HARD
                        PERL_IMPLICIT_CONTEXT PERL_MALLOC_WRAP
                        PERL_PRESERVE_IVUV PERL_SAWAMPERSAND PERL_USE_DEVEL
                        USE_64_BIT_ALL USE_64_BIT_INT USE_ITHREADS
                        USE_LARGE_FILES USE_LOCALE USE_LOCALE_COLLATE
                        USE_LOCALE_CTYPE USE_LOCALE_NUMERIC USE_PERLIO
                        USE_PERL_ATOF USE_REENTRANT_API
  Locally applied patches:
	uncommitted-changes
  Built under linux
  Compiled at Oct  3 2017 19:22:16
  %ENV:
    PERL5LIB="/tmp/loop_over_bdir-10496-2uosf2/Module-Recursive-Require-0.04-0/blib/arch:/tmp/loop_over_bdir-10496-2uosf2/Module-Recursive-Require-0.04-0/blib/lib:/tmp/loop_over_bdir-10496-2uosf2/Cache-Funky-0.06-0/blib/arch:/tmp/loop_over_bdir-10496-2uosf2/Cache-Funky-0.06-0/blib/lib"
    PERL5OPT=""
    PERL5_CPANPLUS_IS_RUNNING="10497"
    PERL5_CPAN_IS_RUNNING="10497"
    PERL5_CPAN_IS_RUNNING_IN_RECURSION="1821,10497"
    PERL_CANARY_STABILITY_NOPROMPT="1"
    PERL_MM_USE_DEFAULT="1"
    PERL_USE_UNSAFE_INC="1"
  @INC:
    /tmp/loop_over_bdir-10496-2uosf2/Module-Recursive-Require-0.04-0/blib/arch
    /tmp/loop_over_bdir-10496-2uosf2/Module-Recursive-Require-0.04-0/blib/lib
    /tmp/loop_over_bdir-10496-2uosf2/Cache-Funky-0.06-0/blib/arch
    /tmp/loop_over_bdir-10496-2uosf2/Cache-Funky-0.06-0/blib/lib
    /home/sand/src/perl/repoperls/installed-perls/host/k93msid/v5.18.4/f11c/lib/site_perl/5.18.4/x86_64-linux-thread-multi
    /home/sand/src/perl/repoperls/installed-perls/host/k93msid/v5.18.4/f11c/lib/site_perl/5.18.4
    /home/sand/src/perl/repoperls/installed-perls/host/k93msid/v5.18.4/f11c/lib/5.18.4/x86_64-linux-thread-multi
    /home/sand/src/perl/repoperls/installed-perls/host/k93msid/v5.18.4/f11c/lib/5.18.4
    .