Parallel-ForkManager v1.19 Perl 5 v5.27.5 darwin-2level
- Status
- Pass
- From
- Nigel Horne
- Dist
-
Parallel-ForkManager v1.19
- Platform
- Perl 5 v5.27.5 darwin-2level
- Date
- 2017-12-05 19:21:00
- ID
- 6d843e3e-d9f1-11e7-9f51-bad2ee93ae84
This distribution has been tested as part of the CPAN Testers
project, supporting the Perl programming language. See
http://wiki.cpantesters.org/ for more information or email
questions to cpan-testers-discuss@perl.org
--
Dear Yanick Champoux,
This is a computer-generated report for Parallel-ForkManager-1.19
on perl 5.27.5, created by CPAN-Reporter-1.2018.
Thank you for uploading your work to CPAN. Congratulations!
All tests were successful.
Sections of this report:
* Tester comments
* Program output
* Prerequisites
* Environment and other context
------------------------------
TESTER COMMENTS
------------------------------
Additional comments from tester:
none provided
------------------------------
PROGRAM OUTPUT
------------------------------
Output from '/sw/bin/make test':
PERL_DL_NONLAZY=1 "/Users/hornenj/perl5/perlbrew/perls/perl-5.27.5/bin/perl" "-MExtUtils::Command::MM" "-MTest::Harness" "-e" "undef *Test::Harness::Switches; test_harness(0, 'blib/lib', 'blib/arch')" t/*.t
t/00-compile.t ............ ok
t/01-utf8-all.t ........... skipped: Need utf8::all for this test crashing on Windows
# time: 1 seconds
# time: 20 seconds
#
# Versions for all modules listed in MYMETA.json (including optional ones):
#
# === Configure Requires ===
#
# Module Want Have
# ------------------- ---- ----
# ExtUtils::MakeMaker any 7.30
#
# === Build Requires ===
#
# Module Want Have
# ------------------- ---- ----
# ExtUtils::MakeMaker any 7.30
#
# === Test Requires ===
#
# Module Want Have
# ------------------- ---- --------
# ExtUtils::MakeMaker any 7.30
# File::Spec any 3.68
# IO::Handle any 1.36
# IPC::Open3 any 1.20
# Test::More 0.94 1.302120
# Test::Warn any 0.32
# warnings any 1.37
#
# === Test Recommends ===
#
# Module Want Have
# ---------- -------- --------
# CPAN::Meta 2.120900 2.150010
#
# === Runtime Requires ===
#
# Module Want Have
# ---------- ---- ------
# Carp any 1.43
# File::Path any 2.15
# File::Spec any 3.68
# File::Temp any 0.2304
# POSIX any 1.78
# Storable any 2.64
# strict any 1.11
#
t/00-report-prereqs.t ..... ok
# time: 0 seconds
# This test can take 10-20 seconds, please wait. Started at Tue Dec 5 14:20:28 2017
t/02-callback.t ........... ok
# time: 2 seconds
t/00-load.t ............... ok
# This test can take 2-6 seconds, please wait. Started at Tue Dec 5 14:20:48 2017
t/changing-pids.t ......... ok
t/03-callback-data.t ...... ok
t/basic-methods.t ......... ok
# code outside of P::FM stole 86876
child process '86876' disappeared. A call to `waitpid` outside of Parallel::ForkManager might have reaped it.
t/waitpid-conflict.t ...... ok
t/start_child.t ........... ok
# code outside of P::FM stole 86882
t/waitpid-waitonechild.t .. ok
t/waitpid_blocking.t ...... ok
All tests successful.
Test Summary Report
-------------------
t/waitpid-conflict.t (Wstat: 0 Tests: 2 Failed: 0)
TODO passed: 1-2
t/waitpid-waitonechild.t (Wstat: 0 Tests: 3 Failed: 0)
TODO passed: 1-3
Files=12, Tests=27, 32 wallclock secs ( 0.03 usr 0.03 sys + 1.09 cusr 0.62 csys = 1.77 CPU)
Result: PASS
------------------------------
PREREQUISITES
------------------------------
Prerequisite modules loaded:
requires:
Module Need Have
------------------- ----- --------
Carp 0 1.43
File::Path 0 2.15
File::Spec 0 3.68
File::Temp 0 0.2304
perl 5.006 5.027005
POSIX 0 1.78
Storable 0 2.64
strict 0 1.11
build_requires:
Module Need Have
------------------- ----- --------
ExtUtils::MakeMaker 0 7.30
File::Spec 0 3.68
IO::Handle 0 1.36
IPC::Open3 0 1.20
Test::More 0.94 1.302120
Test::Warn 0 0.32
warnings 0 1.37
configure_requires:
Module Need Have
------------------- ----- --------
ExtUtils::MakeMaker 0 7.30
------------------------------
ENVIRONMENT AND OTHER CONTEXT
------------------------------
Environment variables:
HARNESS_OPTIONS = c:j3
LANG = en_US.UTF-8
LC_ALL = POSIX
PATH = /Users/hornenj/perl5/perlbrew/bin:/Users/hornenj/perl5/perlbrew/perls/perl-5.27.5/bin:/Users/hornenj/bin:/usr/bin:/bin:/usr/X11R6/bin:/sw/bin
PERL5LIB =
PERL5OPT =
PERL5_CPANPLUS_IS_RUNNING = 52793
PERL5_CPAN_IS_RUNNING = 52793
PERLBREW_BASHRC_VERSION = 0.80
PERLBREW_HOME = /Users/hornenj/.perlbrew
PERLBREW_MANPATH = /Users/hornenj/perl5/perlbrew/perls/perl-5.27.5/man
PERLBREW_PATH = /Users/hornenj/perl5/perlbrew/bin:/Users/hornenj/perl5/perlbrew/perls/perl-5.27.5/bin
PERLBREW_PERL = perl-5.27.5
PERLBREW_ROOT = /Users/hornenj/perl5/perlbrew
PERLBREW_VERSION = 0.80
PERL_USE_UNSAFE_INC = 1
SHELL = /bin/bash
TERM = xterm-256color
TMPDIR = /var/folders/pz/pd7y1qjs6s3cbk170cw50fjc000c61/T/
Perl special variables (and OS-specific diagnostics, for MSWin32):
$^X = /Users/hornenj/perl5/perlbrew/perls/perl-5.27.5/bin/perl
$UID/$EUID = 12481 / 12481
$GID = 14 14 5344 37191 527 12 62 204 399 206 37223 241 223
$EGID = 14 14 5344 37191 527 12 62 204 399 206 37223 241 223
Perl module toolchain versions installed:
Module Have
------------------- --------
CPAN 2.18
CPAN::Meta 2.150010
Cwd 3.68
ExtUtils::CBuilder 0.280228
ExtUtils::Command 7.30
ExtUtils::Install 2.14
ExtUtils::MakeMaker 7.30
ExtUtils::Manifest 1.70
ExtUtils::ParseXS 3.35
File::Spec 3.68
JSON 2.97000
JSON::PP 2.94
Module::Build 0.4224
Module::Signature n/a
Parse::CPAN::Meta 2.150010
Test::Harness 3.39
Test::More 1.302120
YAML 1.24
YAML::Syck 1.30
version 0.9918
--
Summary of my perl5 (revision 5 version 27 subversion 5) configuration:
Platform:
osname=darwin
osvers=16.7.0
archname=darwin-2level
uname='darwin ncbimac2024 16.7.0 darwin kernel version 16.7.0: wed oct 4 00:17:00 pdt 2017; root:xnu-3789.71.6~1release_x86_64 x86_64 '
config_args='-de -Dprefix=/Users/hornenj/perl5/perlbrew/perls/perl-5.27.5 -Dusedevel -Dusedevel -Accflags=-O2 -W -Wformat=2 -Wswitch -Wshadow -Wwrite-strings -Wuninitialized -Wall -pipe -fomit-frame-pointer -pedantic -D_FORTIFY_SOURCE=2 -Wpointer-arith -Wstrict-prototypes -fstack-protector -Wstack-protector -Wextra -Wbad-function-cast -Wcast-align -Wcast-qual -Wdisabled-optimization -Wendif-labels -Wfloat-equal -Wformat-nonliteral -Winline -Wmissing-declarations -Wmissing-prototypes -Wnested-externs -Wpointer-arith -Wundef -Wformat-security -ftree-vectorize -mmmx -msse -mfpmath=sse -msse2 -msse3 -msse4.1 -msse4.2 -fdiagnostics-color=auto -mtune=native -march=native -I/Users/hornenj/openssl/include -Acc=cc -Aeval:scriptdir=/Users/hornenj/perl5/perlbrew/perls/perl-5.27.5/bin'
hint=recommended
useposix=true
d_sigaction=define
useithreads=undef
usemultiplicity=undef
use64bitint=define
use64bitall=define
uselongdouble=undef
usemymalloc=n
default_inc_excludes_dot=define
bincompat5005=undef
Compiler:
cc=' cc'
ccflags ='-fno-common -DPERL_DARWIN -O2 -W -Wformat=2 -Wswitch -Wshadow -Wwrite-strings -Wuninitialized -Wall -pipe -fomit-frame-pointer -pedantic -D_FORTIFY_SOURCE=2 -Wpointer-arith -Wstrict-prototypes -fstack-protector -Wstack-protector -Wextra -Wbad-function-cast -Wcast-align -Wcast-qual -Wdisabled-optimization -Wendif-labels -Wfloat-equal -Wformat-nonliteral -Winline -Wmissing-declarations -Wmissing-prototypes -Wnested-externs -Wpointer-arith -Wundef -Wformat-security -ftree-vectorize -mmmx -msse -mfpmath=sse -msse2 -msse3 -msse4.1 -msse4.2 -fdiagnostics-color=auto -mtune=native -march=native -I/Users/hornenj/openssl/include -fno-strict-aliasing -fstack-protector-strong'
optimize='-O3'
cppflags='-fno-common -DPERL_DARWIN -O2 -W -Wformat=2 -Wswitch -Wshadow -Wwrite-strings -Wuninitialized -Wall -pipe -fomit-frame-pointer -pedantic -D_FORTIFY_SOURCE=2 -Wpointer-arith -Wstrict-prototypes -fstack-protector -Wstack-protector -Wextra -Wbad-function-cast -Wcast-align -Wcast-qual -Wdisabled-optimization -Wendif-labels -Wfloat-equal -Wformat-nonliteral -Winline -Wmissing-declarations -Wmissing-prototypes -Wnested-externs -Wpointer-arith -Wundef -Wformat-security -ftree-vectorize -mmmx -msse -mfpmath=sse -msse2 -msse3 -msse4.1 -msse4.2 -fdiagnostics-color=auto -mtune=native -march=native -I/Users/hornenj/openssl/include -fno-strict-aliasing -fstack-protector-strong'
ccversion=''
gccversion='4.2.1 Compatible Apple LLVM 9.0.0 (clang-900.0.38)'
gccosandvers=''
intsize=4
longsize=8
ptrsize=8
doublesize=8
byteorder=12345678
doublekind=3
d_longlong=define
longlongsize=8
d_longdbl=define
longdblsize=16
longdblkind=3
ivtype='long'
ivsize=8
nvtype='double'
nvsize=8
Off_t='off_t'
lseeksize=8
alignbytes=8
prototype=define
Linker and Libraries:
ld='env MACOSX_DEPLOYMENT_TARGET=10.3 cc'
ldflags =' -fstack-protector-strong -L/usr/local/lib'
libpth=/Applications/Xcode.app/Contents/Developer/Toolchains/XcodeDefault.xctoolchain/usr/lib/clang/9.0.0/lib /Applications/Xcode.app/Contents/Developer/Toolchains/XcodeDefault.xctoolchain/usr/lib /usr/lib /usr/local/lib
libs=-lpthread -ldbm -ldl -lm -lutil -lc
perllibs=-lpthread -ldl -lm -lutil -lc
libc=
so=dylib
useshrplib=false
libperl=libperl.a
gnulibc_version=''
Dynamic Linking:
dlsrc=dl_dlopen.xs
dlext=bundle
d_dlsymun=undef
ccdlflags=' '
cccdlflags=' '
lddlflags=' -bundle -undefined dynamic_lookup -L/usr/local/lib -fstack-protector-strong'
Characteristics of this binary (from libperl):
Compile-time options:
HAS_TIMES
PERLIO_LAYERS
PERL_COPY_ON_WRITE
PERL_DONT_CREATE_GVSV
PERL_MALLOC_WRAP
PERL_OP_PARENT
PERL_PRESERVE_IVUV
PERL_USE_DEVEL
USE_64_BIT_ALL
USE_64_BIT_INT
USE_LARGE_FILES
USE_LOCALE
USE_LOCALE_COLLATE
USE_LOCALE_CTYPE
USE_LOCALE_NUMERIC
USE_LOCALE_TIME
USE_PERLIO
USE_PERL_ATOF
Locally applied patches:
Devel::PatchPerl 1.30
Built under darwin
Compiled at Dec 4 2017 14:38:56
%ENV:
PERL5LIB=""
PERL5OPT=""
PERL5_CPANPLUS_IS_RUNNING="52793"
PERL5_CPAN_IS_RUNNING="52793"
PERLBREW_BASHRC_VERSION="0.80"
PERLBREW_HOME="/Users/hornenj/.perlbrew"
PERLBREW_MANPATH="/Users/hornenj/perl5/perlbrew/perls/perl-5.27.5/man"
PERLBREW_PATH="/Users/hornenj/perl5/perlbrew/bin:/Users/hornenj/perl5/perlbrew/perls/perl-5.27.5/bin"
PERLBREW_PERL="perl-5.27.5"
PERLBREW_ROOT="/Users/hornenj/perl5/perlbrew"
PERLBREW_VERSION="0.80"
PERL_USE_UNSAFE_INC="1"
@INC:
/Users/hornenj/perl5/perlbrew/perls/perl-5.27.5/lib/site_perl/5.27.5/darwin-2level
/Users/hornenj/perl5/perlbrew/perls/perl-5.27.5/lib/site_perl/5.27.5
/Users/hornenj/perl5/perlbrew/perls/perl-5.27.5/lib/5.27.5/darwin-2level
/Users/hornenj/perl5/perlbrew/perls/perl-5.27.5/lib/5.27.5
.