File-Remove v1.61 Perl 5 v5.34.1 amd64-freebsd-thread-multi
        
            - Status
 
            - Pass
 
            - From
 
            - Slaven Rezić
 
            - Dist
 
            - 
                File-Remove v1.61
            
 
            - Platform
 
            - Perl 5 v5.34.1 amd64-freebsd-thread-multi
 
            - Date
 
            - 2023-08-13 21:21:54
 
            - ID
 
            - 6d413c9e-3a1f-11ee-8887-0b3b6e8775ea
 
        
        This distribution has been tested as part of the CPAN Testers
project, supporting the Perl programming language.  See
http://wiki.cpantesters.org/ for more information or email
questions to cpan-testers-discuss@perl.org
--
Dear Shlomi Fish,
This is a computer-generated report for File-Remove-1.61
on perl 5.34.1, created by CPAN-Reporter-1.2018.
Thank you for uploading your work to CPAN.  Congratulations!
All tests were successful.
Sections of this report:
    * Tester comments
    * Program output
    * Prerequisites
    * Environment and other context
------------------------------
TESTER COMMENTS
------------------------------
Additional comments from tester:
none provided
------------------------------
PROGRAM OUTPUT
------------------------------
Output from '/usr/bin/make test':
PERL_DL_NONLAZY=1 "/usr/local/bin/perl" "-MExtUtils::Command::MM" "-MTest::Harness" "-e" "undef *Test::Harness::Switches; test_harness(0, 'blib/lib', 'blib/arch')" t/*.t
t/00-compile.t ........ ok
t/01_compile.t ........ ok
t/02_directories.t .... ok
t/03_deep_readonly.t .. ok
t/04_can_delete.t ..... ok
t/05_links.t .......... ok
t/06_curly.t .......... ok
t/07_cwd.t ............ ok
t/08_spaces.t ......... ok
t/09_fork.t ........... ok
t/10_noglob.t ......... ok
All tests successful.
Files=11, Tests=222,  4 wallclock secs ( 0.08 usr  0.05 sys +  0.94 cusr  0.39 csys =  1.46 CPU)
Result: PASS
------------------------------
PREREQUISITES
------------------------------
Prerequisite modules loaded:
requires:
    Module                Need  Have    
    --------------------- ----- --------
    constant              0     1.33    
    Cwd                   3.29  3.80    
    File::Glob            0     1.33    
    File::Path            0     2.18    
    File::Spec            3.29  3.80    
    perl                  5.008 5.034001
    strict                0     1.12    
    vars                  0     1.05    
    warnings              0     1.51    
build_requires:
    Module                Need  Have    
    --------------------- ----- --------
    File::Copy            0     2.35    
    File::Spec            3.29  3.80    
    File::Spec::Functions 0     3.80    
    IO::Handle            0     1.46    
    IPC::Open3            0     1.21    
    Module::Build         0.28  0.4234  
    Test::More            0.88  1.302183
configure_requires:
    Module                Need  Have    
    --------------------- ----- --------
    ExtUtils::MakeMaker   0     7.62    
    Module::Build         0.28  0.4234  
------------------------------
ENVIRONMENT AND OTHER CONTEXT
------------------------------
Environment variables:
    PATH = /usr/local/bin:/usr/bin:/bin:/usr/local/sbin:/usr/sbin:/sbin:/home/cpansand/bin/sh:/home/cpansand/bin:/usr/games:/home/cpansand/devel:/usr/home/eserte/src/srezic-misc/scripts
    PERL5LIB = /home/cpansand/.cpan/build/2023081321/Module-Build-0.4234-0/blib/arch:/home/cpansand/.cpan/build/2023081321/Module-Build-0.4234-0/blib/lib:/home/cpansand/.cpan/build/2023081321/DBD-SQLite-1.72-0/blib/arch:/home/cpansand/.cpan/build/2023081321/DBD-SQLite-1.72-0/blib/lib
    PERL5OPT = 
    PERL5_CPANPLUS_IS_RUNNING = 3458
    PERL5_CPAN_IS_RUNNING = 3458
    PERL5_CPAN_IS_RUNNING_IN_RECURSION = 3423,3458
    PERL_BATCH = yes
    PERL_CANARY_STABILITY_NOPROMPT = 1
    PERL_CPAN_REPORTER_CONFIG = /var/tmp/cpansmoker-1023/2023081321/cpanreporter_000_config.ini
    PERL_EXTUTILS_AUTOINSTALL = --defaultdeps
    PERL_USE_UNSAFE_INC = 1
    SHELL = /bin/sh
    TMPDIR = /var/tmp/cpansmoker-1023/2023081321
Perl special variables (and OS-specific diagnostics, for MSWin32):
    $^X = /usr/local/bin/perl
    $UID/$EUID = 1023 / 1023
    $GID = 1023 1023
    $EGID = 1023 1023
Perl module toolchain versions installed:
    Module              Have    
    ------------------- --------
    CPAN                2.28    
    CPAN::Meta          2.150010
    Cwd                 3.80    
    ExtUtils::CBuilder  0.280236
    ExtUtils::Command   7.62    
    ExtUtils::Install   2.20    
    ExtUtils::MakeMaker 7.62    
    ExtUtils::Manifest  1.73    
    ExtUtils::ParseXS   3.43    
    File::Spec          3.80    
    JSON                n/a     
    JSON::PP            4.06    
    Module::Build       0.4234  
    Module::Signature   n/a     
    Parse::CPAN::Meta   2.150010
    Test::Harness       3.43    
    Test::More          1.302183
    YAML                n/a     
    YAML::Syck          1.34    
    version             0.9928  
--
Summary of my perl5 (revision 5 version 34 subversion 1) configuration:
   
  Platform:
    osname=freebsd
    osvers=12.4-release-p3
    archname=amd64-freebsd-thread-multi
    uname='freebsd 124amd64-default-job-01 12.4-release-p3 freebsd 12.4-release-p3 amd64 '
    config_args='-Darchlib=/usr/local/lib/perl5/5.34/mach -Dcc=cc -Dcf_by=mat -Dcf_email=mat@FreeBSD.org -Dcf_time=Sun Mar 13 08:40:32 UTC 2022 -Dinc_version_list=none -Dlibperl=libperl.so.5.34.1 -Dman1dir=/usr/local/lib/perl5/5.34/perl/man/man1 -Dman3dir=/usr/local/lib/perl5/5.34/perl/man/man3 -Dprefix=/usr/local -Dprivlib=/usr/local/lib/perl5/5.34 -Dscriptdir=/usr/local/bin -Dsitearch=/usr/local/lib/perl5/site_perl/mach/5.34 -Dsitelib=/usr/local/lib/perl5/site_perl -Dsiteman1dir=/usr/local/lib/perl5/site_perl/man/man1 -Dsiteman3dir=/usr/local/lib/perl5/site_perl/man/man3 -Dusenm=n -Duseshrplib -sde -Ui_iconv -Ui_malloc -Uinstallusrbinperl -Accflags=-DUSE_THREAD_SAFE_LOCALE -Alddlflags=-L/wrkdirs/usr/ports/lang/perl5.34/work/perl-5.34.1 -L/usr/local/lib/perl5/5.34/mach/CORE -lperl -Dshrpldflags=$(LDDLFLAGS:N-L/wrkdirs/usr/ports/lang/perl5.34/work/perl-5.34.1:N-L/usr/local/lib/perl5/5.34/mach/CORE:N-lperl) -Wl,-soname,$(LIBPERL:R) -Doptimize=-O2 -pipe  -fstack-protector-strong -fno-strict-aliasing  -Dusedtrace -Ui_gdbm -Dusemultiplicity=y -Duse64bitint -Dusemymalloc=n -Dusethreads=y'
    hint=recommended
    useposix=true
    d_sigaction=define
    useithreads=define
    usemultiplicity=define
    use64bitint=define
    use64bitall=define
    uselongdouble=undef
    usemymalloc=n
    default_inc_excludes_dot=define
  Compiler:
    cc='cc'
    ccflags ='-DHAS_FPSETMASK -DHAS_FLOATINGPOINT_H -DUSE_THREAD_SAFE_LOCALE -fno-strict-aliasing -pipe -fstack-protector-strong -I/usr/local/include'
    optimize='-O2 -pipe -fstack-protector-strong -fno-strict-aliasing '
    cppflags='-DHAS_FPSETMASK -DHAS_FLOATINGPOINT_H -DUSE_THREAD_SAFE_LOCALE -fno-strict-aliasing -pipe -fstack-protector-strong -I/usr/local/include'
    ccversion=''
    gccversion='FreeBSD Clang 13.0.0 (git@github.com:llvm/llvm-project.git llvmorg-13.0.0-0-gd7b669b3a303)'
    gccosandvers=''
    intsize=4
    longsize=8
    ptrsize=8
    doublesize=8
    byteorder=12345678
    doublekind=3
    d_longlong=define
    longlongsize=8
    d_longdbl=define
    longdblsize=16
    longdblkind=3
    ivtype='long'
    ivsize=8
    nvtype='double'
    nvsize=8
    Off_t='off_t'
    lseeksize=8
    alignbytes=8
    prototype=define
  Linker and Libraries:
    ld='cc'
    ldflags ='-pthread -Wl,-E  -fstack-protector-strong -L/usr/local/lib'
    libpth=/usr/lib /usr/local/lib /usr/lib/clang/13.0.0/lib
    libs=-ldl -lm -lcrypt -lutil
    perllibs=-ldl -lm -lcrypt -lutil
    libc=
    so=so
    useshrplib=true
    libperl=libperl.so.5.34.1
    gnulibc_version=''
  Dynamic Linking:
    dlsrc=dl_dlopen.xs
    dlext=so
    d_dlsymun=undef
    ccdlflags='  -Wl,-R/usr/local/lib/perl5/5.34/mach/CORE'
    cccdlflags='-DPIC -fPIC'
    lddlflags='-shared  -L/usr/local/lib/perl5/5.34/mach/CORE -lperl -L/usr/local/lib -fstack-protector-strong'
Characteristics of this binary (from libperl): 
  Compile-time options:
    HAS_TIMES
    MULTIPLICITY
    PERLIO_LAYERS
    PERL_COPY_ON_WRITE
    PERL_DONT_CREATE_GVSV
    PERL_IMPLICIT_CONTEXT
    PERL_MALLOC_WRAP
    PERL_OP_PARENT
    PERL_PRESERVE_IVUV
    USE_64_BIT_ALL
    USE_64_BIT_INT
    USE_ITHREADS
    USE_LARGE_FILES
    USE_LOCALE
    USE_LOCALE_COLLATE
    USE_LOCALE_CTYPE
    USE_LOCALE_NUMERIC
    USE_LOCALE_TIME
    USE_PERLIO
    USE_PERL_ATOF
    USE_REENTRANT_API
    USE_THREAD_SAFE_LOCALE
  Built under freebsd
  %ENV:
    PERL5LIB="/home/cpansand/.cpan/build/2023081321/Module-Build-0.4234-0/blib/arch:/home/cpansand/.cpan/build/2023081321/Module-Build-0.4234-0/blib/lib:/home/cpansand/.cpan/build/2023081321/DBD-SQLite-1.72-0/blib/arch:/home/cpansand/.cpan/build/2023081321/DBD-SQLite-1.72-0/blib/lib"
    PERL5OPT=""
    PERL5_CPANPLUS_IS_RUNNING="3458"
    PERL5_CPAN_IS_RUNNING="3458"
    PERL5_CPAN_IS_RUNNING_IN_RECURSION="3423,3458"
    PERL_BATCH="yes"
    PERL_CANARY_STABILITY_NOPROMPT="1"
    PERL_CPAN_REPORTER_CONFIG="/var/tmp/cpansmoker-1023/2023081321/cpanreporter_000_config.ini"
    PERL_EXTUTILS_AUTOINSTALL="--defaultdeps"
    PERL_USE_UNSAFE_INC="1"
  @INC:
    /home/cpansand/.cpan/build/2023081321/Module-Build-0.4234-0/blib/arch
    /home/cpansand/.cpan/build/2023081321/Module-Build-0.4234-0/blib/lib
    /home/cpansand/.cpan/build/2023081321/DBD-SQLite-1.72-0/blib/arch
    /home/cpansand/.cpan/build/2023081321/DBD-SQLite-1.72-0/blib/lib
    /usr/local/lib/perl5/site_perl/mach/5.34
    /usr/local/lib/perl5/site_perl
    /usr/local/lib/perl5/5.34/mach
    /usr/local/lib/perl5/5.34
    .