Tapper-Schema v5.0.12 Perl 5 v5.41.11 amd64-freebsd-thread-multi
- Status
- Pass
- From
- James E Keenan
- Dist
-
Tapper-Schema v5.0.12
- Platform
- Perl 5 v5.41.11 amd64-freebsd-thread-multi
- Date
- 2025-04-21 17:52:43
- ID
- 6d3cdf46-1ed9-11f0-899b-dbc8c22b903c
This distribution has been tested as part of the CPAN Testers
project, supporting the Perl programming language. See
http://wiki.cpantesters.org/ for more information or email
questions to cpan-testers-discuss@perl.org
--
Dear Tapper Team,
This is a computer-generated report for Tapper-Schema-5.0.12
on perl 5.41.11, created by CPAN-Reporter-1.2020.
Thank you for uploading your work to CPAN. Congratulations!
All tests were successful.
Sections of this report:
* Tester comments
* Program output
* Prerequisites
* Environment and other context
------------------------------
TESTER COMMENTS
------------------------------
Additional comments from tester:
none provided
------------------------------
PROGRAM OUTPUT
------------------------------
Output from '/usr/bin/make test':
PERL_DL_NONLAZY=1 "/usr/home/jkeenan/testing/perl-5.41.11/bin/perl" "-MExtUtils::Command::MM" "-MTest::Harness" "-e" "undef *Test::Harness::Switches; test_harness(0, 'blib/lib', 'blib/arch')" t/*.t
t/00-compile.t ................................ ok
t/00-load.t ................................... ok
t/author-eol.t ................................ skipped: these tests are for testing by the author
t/author-no-tabs.t ............................ skipped: these tests are for testing by the author
t/author-pod-syntax.t ......................... skipped: these tests are for testing by the author
t/tapper-schema-testrun-pool.t ................ ok
t/tapper-schema-testrun-precondition.t ........ ok
t/tapper-schema-testrun.t ..................... ok
# zomtec
t/tapper_schema_reportsdb.t ................... ok
t/tapper_schema_reportsdb_reportgroups.t ...... ok
t/tapper_schema_reportsdb_reportgroupviews.t .. ok
t/tapper_schema_testrundb.t ................... ok
All tests successful.
Files=12, Tests=226, 24 wallclock secs ( 0.05 usr 0.02 sys + 18.77 cusr 2.17 csys = 21.01 CPU)
Result: PASS
------------------------------
PREREQUISITES
------------------------------
Prerequisite modules loaded:
requires:
Module Need Have
---------------------------------------- ------- --------
Carp 0 1.54
Class::C3 0 0.35
Compress::Bzip2 0 2.28
Data::Dumper 0 2.192
DateTime 0 1.66
DateTime::Duration 0 1.66
DateTime::Format::MySQL 0 0.08
DateTime::Format::Pg 0 0.16014
DateTime::Format::SQLite 0 0.11
DateTime::Format::Strptime 0 1.79
DBD::mysql 0 5.012
DBD::Pg 0 3.18.0
DBD::SQLite 0 1.76
DBIx::Class 0 0.082844
DBIx::Class::Core 0 0
DBIx::Class::InflateColumn::DateTime 0 0
DBIx::Class::InflateColumn::Object::Enum 0 0.06
DBIx::Class::ResultSet 0 0
DBIx::Class::Schema 0 0
DBIx::Class::TimeStamp 0 0.14
Module::Pluggable 0 6.3
MRO::Compat 0 0.15
namespace::clean 0 0.27
parent 0 0.244
perl 5.010 5.041011
SQL::Translator 0.11006 1.66
strict 0 1.13
TAP::DOM 0.13 1.000
Tapper::Config 0 5.0.4
Tapper::TAP::Harness 0 5.0.11
Variable::Magic 0 0.64
warnings 0 1.74
YAML::Syck 0 1.34
YAML::XS 0 v0.903.0
build_requires:
Module Need Have
---------------------------------------- ------- --------
ExtUtils::MakeMaker 0 7.74
File::Spec 0 3.94
IO::Handle 0 1.55
IPC::Open3 0 1.24
lib 0 0.65
Scalar::Util 0 1.68_01
Test::Deep 0 1.205
Test::Fixture::DBIC::Schema 0 0.04
Test::More 0.88 1.302210
configure_requires:
Module Need Have
---------------------------------------- ------- --------
ExtUtils::MakeMaker 0 7.74
------------------------------
ENVIRONMENT AND OTHER CONTEXT
------------------------------
Environment variables:
LANG = C.UTF-8
NONINTERACTIVE_TESTING = 1
P7_TEST_REPORTS_DIR = /home/jkeenan/learn/perl/p5p/core-p7/alpha/test-reports
PATH = /sbin:/bin:/usr/sbin:/usr/bin:/usr/local/sbin:/usr/local/bin:/home/jkeenan/bin:/home/jkeenan/bin/perl:/home/jkeenan/bin/shell:/home/jkeenan/gitwork/metaconfig/bin
PERL2DIR = /home/jkeenan/gitwork/perl2
PERL5LIB =
PERL5OPT =
PERL5_CPANPLUS_IS_RUNNING = 37871
PERL5_CPAN_IS_RUNNING = 37871
PERL_MM_USE_DEFAULT = 1
PERL_USE_UNSAFE_INC = 1
PERL_WORKDIR = /home/jkeenan/gitwork/perl
SHELL = /bin/sh
TERM = screen
Perl special variables (and OS-specific diagnostics, for MSWin32):
$^X = /usr/home/jkeenan/testing/perl-5.41.11/bin/perl
$UID/$EUID = 1002 / 1002
$GID = 1002 1002 0 5 920 1003
$EGID = 1002 1002 0 5 920 1003
Perl module toolchain versions installed:
Module Have
------------------- --------
CPAN 2.38
CPAN::Meta 2.150010
Cwd 3.94
ExtUtils::CBuilder 0.280240
ExtUtils::Command 7.74
ExtUtils::Install 2.22
ExtUtils::MakeMaker 7.74
ExtUtils::Manifest 1.75
ExtUtils::ParseXS 3.57
File::Spec 3.94
JSON 4.10
JSON::PP 4.16
Module::Build 0.4234
Module::Signature n/a
Parse::CPAN::Meta 2.150010
Test2 1.302210
Test::Harness 3.50
Test::More 1.302210
YAML 1.31
YAML::Syck 1.34
version 0.9933
--
Summary of my perl5 (revision 5 version 41 subversion 11) configuration:
Platform:
osname=freebsd
osvers=14.2-release-p1
archname=amd64-freebsd-thread-multi
uname='freebsd perlmonger.nycbug.org 14.2-release-p1 freebsd 14.2-release-p1 generic amd64 '
config_args='-des -Dusedevel -Dprefix=/home/jkeenan/testing/perl-5.41.11 -Uversiononly -Dman1dir=none -Dman3dir=none -Duseithreads -Doptimize=-O2 -pipe -fstack-protector -fno-strict-aliasing'
hint=recommended
useposix=true
d_sigaction=define
useithreads=define
usemultiplicity=define
use64bitint=define
use64bitall=define
uselongdouble=undef
usemymalloc=n
default_inc_excludes_dot=define
Compiler:
cc='cc'
ccflags ='-DHAS_FPSETMASK -DHAS_FLOATINGPOINT_H -DNO_POSIX_2008_LOCALE -fno-strict-aliasing -pipe -fstack-protector-strong -I/usr/local/include'
optimize='-O2 -pipe -fstack-protector -fno-strict-aliasing'
cppflags='-DHAS_FPSETMASK -DHAS_FLOATINGPOINT_H -DNO_POSIX_2008_LOCALE -fno-strict-aliasing -pipe -fstack-protector-strong -I/usr/local/include'
ccversion=''
gccversion='FreeBSD Clang 18.1.6 (https://github.com/llvm/llvm-project.git llvmorg-18.1.6-0-g1118c2e05e67)'
gccosandvers=''
intsize=4
longsize=8
ptrsize=8
doublesize=8
byteorder=12345678
doublekind=3
d_longlong=define
longlongsize=8
d_longdbl=define
longdblsize=16
longdblkind=3
ivtype='long'
ivsize=8
nvtype='double'
nvsize=8
Off_t='off_t'
lseeksize=8
alignbytes=8
prototype=define
Linker and Libraries:
ld='cc'
ldflags ='-pthread -Wl,-E -fstack-protector-strong -L/usr/local/lib'
libpth=/usr/lib /usr/local/lib /usr/lib/clang/18/lib
libs=-lpthread -lgdbm -ldl -lm -lcrypt -lutil
perllibs=-lpthread -ldl -lm -lcrypt -lutil
libc=
so=so
useshrplib=false
libperl=libperl.a
gnulibc_version=''
Dynamic Linking:
dlsrc=dl_dlopen.xs
dlext=so
d_dlsymun=undef
ccdlflags=' '
cccdlflags='-DPIC -fPIC'
lddlflags='-shared -L/usr/local/lib -fstack-protector-strong'
Characteristics of this binary (from libperl):
Compile-time options:
HAS_LONG_DOUBLE
HAS_STRTOLD
HAS_TIMES
MULTIPLICITY
PERLIO_LAYERS
PERL_COPY_ON_WRITE
PERL_DONT_CREATE_GVSV
PERL_HASH_FUNC_SIPHASH13
PERL_HASH_USE_SBOX32
PERL_MALLOC_WRAP
PERL_OP_PARENT
PERL_PRESERVE_IVUV
PERL_USE_DEVEL
PERL_USE_SAFE_PUTENV
USE_64_BIT_ALL
USE_64_BIT_INT
USE_ITHREADS
USE_LARGE_FILES
USE_LOCALE
USE_LOCALE_COLLATE
USE_LOCALE_CTYPE
USE_LOCALE_NUMERIC
USE_LOCALE_TIME
USE_PERLIO
USE_PERL_ATOF
USE_REENTRANT_API
Built under freebsd
Compiled at Apr 21 2025 11:55:44
%ENV:
PERL2DIR="/home/jkeenan/gitwork/perl2"
PERL5LIB=""
PERL5OPT=""
PERL5_CPANPLUS_IS_RUNNING="37871"
PERL5_CPAN_IS_RUNNING="37871"
PERL_MM_USE_DEFAULT="1"
PERL_USE_UNSAFE_INC="1"
PERL_WORKDIR="/home/jkeenan/gitwork/perl"
@INC:
/home/jkeenan/testing/perl-5.41.11/lib/site_perl/5.41.11/amd64-freebsd-thread-multi
/home/jkeenan/testing/perl-5.41.11/lib/site_perl/5.41.11
/home/jkeenan/testing/perl-5.41.11/lib/5.41.11/amd64-freebsd-thread-multi
/home/jkeenan/testing/perl-5.41.11/lib/5.41.11
.