Back
From: metabase:user:2eaff3c8-9f67-11df-9eab-6366102c7c61
Subject: PASS Catalyst-Devel-1.34 v5.14.1 Mac OS X
Date: 2011-08-19T02:39:13Z
This distribution has been tested as part of the CPAN Testers
project, supporting the Perl programming language. See
http://wiki.cpantesters.org/ for more information or email
questions to cpan-testers-discuss@perl.org
--
Dear Tomas Doran,
This is a computer-generated report for Catalyst-Devel-1.34
on perl 5.14.1, created by CPAN-Reporter-1.2002.
Thank you for uploading your work to CPAN. Congratulations!
All tests were successful.
Sections of this report:
* Tester comments
* Program output
* Prerequisites
* Environment and other context
------------------------------
TESTER COMMENTS
------------------------------
Additional comments from tester:
none provided
------------------------------
PROGRAM OUTPUT
------------------------------
Output from 'make test':
PERL_DL_NONLAZY=1 /Users/jtpalmer/.perlbrew/perls/perl-5.14.1/bin/perl "-MExtUtils::Command::MM" "-e" "test_harness(0, 'inc', 'blib/lib', 'blib/arch')" t/01use.t t/back_compat.t t/generated_app.t t/get_sharedir_file.t t/optional_http-server-restart.t t/render_file_contents.t t/render_share_dir_file.t
t/01use.t ......................... ok
t/back_compat.t ................... ok
# Generated app is in /var/folders/iZ/iZuBSpSDGa4gbfLEcF7CZ++++TI/-Tmp-/jPfOBJjyCt
# Installed app is in /var/folders/iZ/iZuBSpSDGa4gbfLEcF7CZ++++TI/-Tmp-/_D2Ue_qsP4
t/generated_app.t ................. ok
t/get_sharedir_file.t ............. ok
t/optional_http-server-restart.t .. skipped: set TEST_HTTP to enable this test
t/render_file_contents.t .......... ok
t/render_share_dir_file.t ......... ok
All tests successful.
Files=7, Tests=91, 14 wallclock secs ( 0.06 usr 0.02 sys + 10.38 cusr 1.74 csys = 12.20 CPU)
Result: PASS
------------------------------
PREREQUISITES
------------------------------
Prerequisite modules loaded:
requires:
Module Need Have
-------------------------------------- ------- -------
Catalyst 5.90001 5.90001
Catalyst::Action::RenderView 0.10 0.16
Catalyst::Plugin::ConfigLoader 0.30 0.30
Catalyst::Plugin::Static::Simple 0.28 0.29
Config::General 2.42 2.50
ExtUtils::MakeMaker 6.11 6.59
File::ChangeNotify 0.07 0.20
File::Copy::Recursive 0 0.38
File::ShareDir 0 1.03
Module::Install 0.91 1.01
Moose 0 2.0202
MooseX::Daemonize 0 0.13
MooseX::Emulate::Class::Accessor::Fast 0 0.00903
namespace::autoclean 0 0.12
namespace::clean 0 0.21
Path::Class 0.09 0.24
Starman 0 0.2013
Template 2.14 2.22
Test::Fatal 0.003 0.006
Test::More 0.94 0.98
build_requires:
Module Need Have
-------------------------------------- ------- -------
ExtUtils::MakeMaker 6.42 6.59
Test::Fatal 0.003 0.006
Test::More 0.94 0.98
configure_requires:
Module Need Have
-------------------------------------- ------- -------
ExtUtils::MakeMaker 6.42 6.59
------------------------------
ENVIRONMENT AND OTHER CONTEXT
------------------------------
Environment variables:
LANG = en_US.utf-8
LC_COLLATE = C
LC_CTYPE = en_US.utf-8
LC_MESSAGES = en_US.utf-8
LC_MONETARY = en_US.utf-8
LC_NUMERIC = en_US.utf-8
LC_TIME = en_US.utf-8
PATH = /Users/jtpalmer/bin:/Users/jtpalmer/.homebrew/bin:/Users/jtpalmer/.homebrew/sbin:/Users/jtpalmer/Library/groovy/bin:/Library/Java/Home/bin:/opt/ledger/bin:/opt/git/bin:/Users/jtpalmer/.perl6/bin:/opt/perl6/bin:/Users/jtpalmer/.perlbrew/bin:/Users/jtpalmer/.perlbrew/perls/perl-5.14.1/bin:/usr/bin:/bin:/usr/sbin:/sbin:/usr/local/bin:/usr/X11/bin
PATH_WITHOUT_PERLBREW = /usr/bin:/bin:/usr/sbin:/sbin:/usr/local/bin:/usr/X11/bin
PERL5LIB =
PERL5OPT =
PERL5_CPANPLUS_IS_RUNNING = 78158
PERL5_CPAN_IS_RUNNING = 78158
PERLBREW_HOME = /Users/jtpalmer/.perlbrew
PERLBREW_PATH = /Users/jtpalmer/.perlbrew/bin:/Users/jtpalmer/.perlbrew/perls/perl-5.14.1/bin
PERLBREW_PERL = perl-5.14.1
PERLBREW_ROOT = /Users/jtpalmer/.perlbrew
PERLBREW_VERSION = 0.24
SHELL = /bin/bash
TERM = xterm
TMPDIR = /var/folders/iZ/iZuBSpSDGa4gbfLEcF7CZ++++TI/-Tmp-/
Perl special variables (and OS-specific diagnostics, for MSWin32):
$^X = /Users/jtpalmer/.perlbrew/perls/perl-5.14.1/bin/perl
$UID/$EUID = 501 / 501
$GID = 20 20 401 101 204 100 98 81 80 79 61 12
$EGID = 20 20 401 101 204 100 98 81 80 79 61 12
Perl module toolchain versions installed:
Module Have
------------------- --------
CPAN 1.9800
CPAN::Meta 2.112150
Cwd 3.36
ExtUtils::CBuilder 0.280203
ExtUtils::Command 1.17
ExtUtils::Install 1.56
ExtUtils::MakeMaker 6.59
ExtUtils::Manifest 1.59
ExtUtils::ParseXS 3.03
File::Spec 3.33
JSON 2.53
JSON::PP 2.27200
Module::Build 0.3800
Module::Signature n/a
Parse::CPAN::Meta 1.4401
Test::Harness 3.23
Test::More 0.98
YAML 0.73
YAML::Syck 1.17
version 0.93
--
Summary of my perl5 (revision 5 version 14 subversion 1) configuration:
Platform:
osname=darwin, osvers=10.7.0, archname=darwin-thread-multi-2level
uname='darwin silver 10.7.0 darwin kernel version 10.7.0: sat jan 29 15:17:16 pst 2011; root:xnu-1504.9.37~1release_i386 i386 i386 '
config_args='-de -Dprefix=/Users/jtpalmer/.perlbrew/perls/perl-5.14.1 -Duseithreads'
hint=recommended, useposix=true, d_sigaction=define
useithreads=define, usemultiplicity=define
useperlio=define, d_sfio=undef, uselargefiles=define, usesocks=undef
use64bitint=define, use64bitall=define, uselongdouble=undef
usemymalloc=n, bincompat5005=undef
Compiler:
cc='cc', ccflags ='-fno-common -DPERL_DARWIN -fno-strict-aliasing -pipe -fstack-protector -I/usr/local/include',
optimize='-O3',
cppflags='-fno-common -DPERL_DARWIN -fno-strict-aliasing -pipe -fstack-protector -I/usr/local/include'
ccversion='', gccversion='4.2.1 (Based on Apple Inc. build 5658) (LLVM build 2335.9)', gccosandvers=''
intsize=4, longsize=8, ptrsize=8, doublesize=8, byteorder=12345678
d_longlong=define, longlongsize=8, d_longdbl=define, longdblsize=16
ivtype='long', ivsize=8, nvtype='double', nvsize=8, Off_t='off_t', lseeksize=8
alignbytes=8, prototype=define
Linker and Libraries:
ld='env MACOSX_DEPLOYMENT_TARGET=10.3 cc', ldflags =' -fstack-protector -L/usr/local/lib'
libpth=/usr/local/lib /usr/lib
libs=-ldbm -ldl -lm -lutil -lc
perllibs=-ldl -lm -lutil -lc
libc=/usr/lib/libc.dylib, so=dylib, useshrplib=false, libperl=libperl.a
gnulibc_version=''
Dynamic Linking:
dlsrc=dl_dlopen.xs, dlext=bundle, d_dlsymun=undef, ccdlflags=' '
cccdlflags=' ', lddlflags=' -bundle -undefined dynamic_lookup -L/usr/local/lib -fstack-protector'
Characteristics of this binary (from libperl):
Compile-time options: MULTIPLICITY PERL_DONT_CREATE_GVSV
PERL_IMPLICIT_CONTEXT PERL_MALLOC_WRAP
PERL_PRESERVE_IVUV USE_64_BIT_ALL USE_64_BIT_INT
USE_ITHREADS USE_LARGE_FILES USE_PERLIO USE_PERL_ATOF
USE_REENTRANT_API
Built under darwin
Compiled at Jun 18 2011 10:11:05
%ENV:
PERL5LIB=""
PERL5OPT=""
PERL5_CPANPLUS_IS_RUNNING="78158"
PERL5_CPAN_IS_RUNNING="78158"
PERLBREW_HOME="/Users/jtpalmer/.perlbrew"
PERLBREW_PATH="/Users/jtpalmer/.perlbrew/bin:/Users/jtpalmer/.perlbrew/perls/perl-5.14.1/bin"
PERLBREW_PERL="perl-5.14.1"
PERLBREW_ROOT="/Users/jtpalmer/.perlbrew"
PERLBREW_VERSION="0.24"
@INC:
/Users/jtpalmer/.perlbrew/perls/perl-5.14.1/lib/site_perl/5.14.1/darwin-thread-multi-2level
/Users/jtpalmer/.perlbrew/perls/perl-5.14.1/lib/site_perl/5.14.1
/Users/jtpalmer/.perlbrew/perls/perl-5.14.1/lib/5.14.1/darwin-thread-multi-2level
/Users/jtpalmer/.perlbrew/perls/perl-5.14.1/lib/5.14.1
.