namespace-autoclean v0.31 Perl 5 v5.41.9 amd64-freebsd-thread-multi

Status
Pass
From
James E Keenan
Dist
namespace-autoclean v0.31
Platform
Perl 5 v5.41.9 amd64-freebsd-thread-multi
Date
2025-02-24 17:47:32
ID
6c859634-f2d7-11ef-b45b-d0bfcfab9e01
This distribution has been tested as part of the CPAN Testers
project, supporting the Perl programming language.  See
http://wiki.cpantesters.org/ for more information or email
questions to cpan-testers-discuss@perl.org


--
Dear Karen Etheridge,

This is a computer-generated report for namespace-autoclean-0.31
on perl 5.41.9, created by CPAN-Reporter-1.2020.

Thank you for uploading your work to CPAN.  Congratulations!
All tests were successful.

Sections of this report:

    * Tester comments
    * Program output
    * Prerequisites
    * Environment and other context

------------------------------
TESTER COMMENTS
------------------------------

Additional comments from tester:

none provided

------------------------------
PROGRAM OUTPUT
------------------------------

Output from '/usr/bin/make test':

PERL_DL_NONLAZY=1 "/usr/home/jkeenan/testing/perl-5.41.9/bin/perl" "-MExtUtils::Command::MM" "-MTest::Harness" "-e" "undef *Test::Harness::Switches; test_harness(0, 'blib/lib', 'blib/arch')" t/*.t
# 
# Versions for all modules listed in MYMETA.json (including optional ones):
# 
# === Configure Requires ===
# 
#     Module               Want     Have
#     ------------------- ----- --------
#     ExtUtils::MakeMaker   any     7.70
#     perl                5.006 5.041009
# 
# === Build Requires ===
# 
#     Module              Want Have
#     ------------------- ---- ----
#     ExtUtils::MakeMaker  any 7.70
# 
# === Test Requires ===
# 
#     Module               Want     Have
#     ------------------- ----- --------
#     Carp                  any     1.54
#     ExtUtils::MakeMaker   any     7.70
#     File::Basename        any     2.86
#     File::Spec            any     3.93
#     FindBin               any     1.54
#     Scalar::Util          any  1.68_01
#     Test::More           0.88 1.302209
#     Test::Needs           any 0.002010
#     constant              any     1.33
#     overload              any     1.40
#     perl                5.006 5.041009
# 
# === Test Recommends ===
# 
#     Module         Want     Have
#     ---------- -------- --------
#     CPAN::Meta 2.120900 2.150010
# 
# === Runtime Requires ===
# 
#     Module                Want     Have
#     -------------------- ----- --------
#     B                      any     1.89
#     B::Hooks::EndOfScope  0.12     0.28
#     List::Util             any  1.68_01
#     namespace::clean      0.20     0.27
#     perl                 5.006 5.041009
#     strict                 any     1.13
#     warnings               any     1.73
# 
# === Other Modules ===
# 
#     Module                            Have
#     ----------------------------- --------
#     Class::MOP                     missing
#     Encode                            3.21
#     Exporter                          5.79
#     File::Temp                      0.2311
#     JSON::PP                          4.16
#     Module::Runtime                  0.016
#     Moo                            missing
#     Moose                          missing
#     MooseX::Role::Parameterized    missing
#     MooseX::Role::WithOverloading  missing
#     Mouse                          missing
#     Mouse::PurePerl                missing
#     Pod::Coverage                  missing
#     Role::Tiny                    2.002004
#     Sub::Exporter                    0.991
#     Sub::Install                     0.929
#     Sub::Name                      missing
#     Sub::Util                      1.68_01
#     Test::Fatal                      0.017
#     YAML                           missing
#     autodie                           2.37
#     parent                           0.244
# 
t/00-report-prereqs.t .............. ok
t/also.t ........................... ok
t/basic.t .......................... ok
t/broken_meta.t .................... ok
t/cleanee.t ........................ ok
t/constant.t ....................... ok
t/except.t ......................... ok
t/matchclean.t ..................... ok
t/moo-with-moose.t ................. skipped: Need Moo 1.004000, Moose
t/moo.t ............................ skipped: Need Moo, Moo::Role
t/moose-with-native-overloading.t .. skipped: Need Moose 2.1300
t/moose-withoverloading.t .......... skipped: Need Moose, MooseX::Role::WithOverloading
t/moose.t .......................... skipped: Need Moose 0.56
t/mouse-pp.t ....................... skipped: Need Mouse
t/mouse.t .......................... skipped: Need Mouse
t/overload.t ....................... ok
t/sub-install.t .................... ok
t/sub-name.t ....................... skipped: Need Sub::Name
All tests successful.
Files=18, Tests=34,  1 wallclock secs ( 0.02 usr  0.05 sys +  1.14 cusr  0.20 csys =  1.41 CPU)
Result: PASS

------------------------------
PREREQUISITES
------------------------------

Prerequisite modules loaded:

requires:

    Module               Need  Have    
    -------------------- ----- --------
    B                    0     1.89    
    B::Hooks::EndOfScope 0.12  0.28    
    List::Util           0     1.68_01 
    namespace::clean     0.20  0.27    
    perl                 5.006 5.041009
    strict               0     1.13    
    warnings             0     1.73    

build_requires:

    Module               Need  Have    
    -------------------- ----- --------
    Carp                 0     1.54    
    constant             0     1.33    
    ExtUtils::MakeMaker  0     7.70    
    File::Basename       0     2.86    
    File::Spec           0     3.93    
    FindBin              0     1.54    
    overload             0     1.40    
    Scalar::Util         0     1.68_01 
    Test::More           0.88  1.302209
    Test::Needs          0     0.002010

configure_requires:

    Module               Need  Have    
    -------------------- ----- --------
    ExtUtils::MakeMaker  0     7.70    
    perl                 5.006 5.041009


------------------------------
ENVIRONMENT AND OTHER CONTEXT
------------------------------

Environment variables:

    LANG = C.UTF-8
    NONINTERACTIVE_TESTING = 1
    P7_TEST_REPORTS_DIR = /home/jkeenan/learn/perl/p5p/core-p7/alpha/test-reports
    PATH = /sbin:/bin:/usr/sbin:/usr/bin:/usr/local/sbin:/usr/local/bin:/home/jkeenan/bin:/home/jkeenan/bin/perl:/home/jkeenan/bin/shell:/home/jkeenan/gitwork/metaconfig/bin
    PERL2DIR = /home/jkeenan/gitwork/perl2
    PERL5LIB = 
    PERL5OPT = 
    PERL5_CPANPLUS_IS_RUNNING = 13431
    PERL5_CPAN_IS_RUNNING = 13431
    PERL_MM_USE_DEFAULT = 1
    PERL_USE_UNSAFE_INC = 1
    PERL_WORKDIR = /home/jkeenan/gitwork/perl
    SHELL = /bin/sh
    TERM = screen

Perl special variables (and OS-specific diagnostics, for MSWin32):

    $^X = /usr/home/jkeenan/testing/perl-5.41.9/bin/perl
    $UID/$EUID = 1002 / 1002
    $GID = 1002 1002 0 5 920 1003
    $EGID = 1002 1002 0 5 920 1003

Perl module toolchain versions installed:

    Module              Have    
    ------------------- --------
    CPAN                2.38    
    CPAN::Meta          2.150010
    Cwd                 3.92    
    ExtUtils::CBuilder  0.280240
    ExtUtils::Command   7.70    
    ExtUtils::Install   2.22    
    ExtUtils::MakeMaker 7.70    
    ExtUtils::Manifest  1.75    
    ExtUtils::ParseXS   3.57    
    File::Spec          3.93    
    JSON                n/a     
    JSON::PP            4.16    
    Module::Build       0.4234  
    Module::Signature   n/a     
    Parse::CPAN::Meta   2.150010
    Test2               1.302209
    Test::Harness       3.50    
    Test::More          1.302209
    YAML                n/a     
    YAML::Syck          n/a     
    version             0.9933  


--

Summary of my perl5 (revision 5 version 41 subversion 9) configuration:
   
  Platform:
    osname=freebsd
    osvers=13.3-release-p6
    archname=amd64-freebsd-thread-multi
    uname='freebsd perlmonger.nycbug.org 13.3-release-p6 freebsd 13.3-release-p6 generic amd64 '
    config_args='-des -Dusedevel -Dprefix=/home/jkeenan/testing/perl-5.41.9 -Uversiononly -Dman1dir=none -Dman3dir=none -Duseithreads -Doptimize=-O2 -pipe -fstack-protector -fno-strict-aliasing'
    hint=recommended
    useposix=true
    d_sigaction=define
    useithreads=define
    usemultiplicity=define
    use64bitint=define
    use64bitall=define
    uselongdouble=undef
    usemymalloc=n
    default_inc_excludes_dot=define
  Compiler:
    cc='cc'
    ccflags ='-DHAS_FPSETMASK -DHAS_FLOATINGPOINT_H -DNO_POSIX_2008_LOCALE -fno-strict-aliasing -pipe -fstack-protector-strong -I/usr/local/include'
    optimize='-O2 -pipe -fstack-protector -fno-strict-aliasing'
    cppflags='-DHAS_FPSETMASK -DHAS_FLOATINGPOINT_H -DNO_POSIX_2008_LOCALE -fno-strict-aliasing -pipe -fstack-protector-strong -I/usr/local/include'
    ccversion=''
    gccversion='FreeBSD Clang 17.0.6 (https://github.com/llvm/llvm-project.git llvmorg-17.0.6-0-g6009708b4367)'
    gccosandvers=''
    intsize=4
    longsize=8
    ptrsize=8
    doublesize=8
    byteorder=12345678
    doublekind=3
    d_longlong=define
    longlongsize=8
    d_longdbl=define
    longdblsize=16
    longdblkind=3
    ivtype='long'
    ivsize=8
    nvtype='double'
    nvsize=8
    Off_t='off_t'
    lseeksize=8
    alignbytes=8
    prototype=define
  Linker and Libraries:
    ld='cc'
    ldflags ='-pthread -Wl,-E  -fstack-protector-strong -L/usr/local/lib'
    libpth=/usr/lib /usr/local/lib /usr/lib/clang/17/lib
    libs=-lpthread -lgdbm -ldl -lm -lcrypt -lutil
    perllibs=-lpthread -ldl -lm -lcrypt -lutil
    libc=
    so=so
    useshrplib=false
    libperl=libperl.a
    gnulibc_version=''
  Dynamic Linking:
    dlsrc=dl_dlopen.xs
    dlext=so
    d_dlsymun=undef
    ccdlflags=' '
    cccdlflags='-DPIC -fPIC'
    lddlflags='-shared  -L/usr/local/lib -fstack-protector-strong'


Characteristics of this binary (from libperl): 
  Compile-time options:
    HAS_LONG_DOUBLE
    HAS_STRTOLD
    HAS_TIMES
    MULTIPLICITY
    PERLIO_LAYERS
    PERL_COPY_ON_WRITE
    PERL_DONT_CREATE_GVSV
    PERL_HASH_FUNC_SIPHASH13
    PERL_HASH_USE_SBOX32
    PERL_MALLOC_WRAP
    PERL_OP_PARENT
    PERL_PRESERVE_IVUV
    PERL_USE_DEVEL
    PERL_USE_SAFE_PUTENV
    USE_64_BIT_ALL
    USE_64_BIT_INT
    USE_ITHREADS
    USE_LARGE_FILES
    USE_LOCALE
    USE_LOCALE_COLLATE
    USE_LOCALE_CTYPE
    USE_LOCALE_NUMERIC
    USE_LOCALE_TIME
    USE_PERLIO
    USE_PERL_ATOF
    USE_REENTRANT_API
  Built under freebsd
  Compiled at Feb 24 2025 12:04:10
  %ENV:
    PERL2DIR="/home/jkeenan/gitwork/perl2"
    PERL5LIB=""
    PERL5OPT=""
    PERL5_CPANPLUS_IS_RUNNING="13431"
    PERL5_CPAN_IS_RUNNING="13431"
    PERL_MM_USE_DEFAULT="1"
    PERL_USE_UNSAFE_INC="1"
    PERL_WORKDIR="/home/jkeenan/gitwork/perl"
  @INC:
    /home/jkeenan/testing/perl-5.41.9/lib/site_perl/5.41.9/amd64-freebsd-thread-multi
    /home/jkeenan/testing/perl-5.41.9/lib/site_perl/5.41.9
    /home/jkeenan/testing/perl-5.41.9/lib/5.41.9/amd64-freebsd-thread-multi
    /home/jkeenan/testing/perl-5.41.9/lib/5.41.9
    .