JSON-Any v1.40 Perl 5 v5.41.12 OpenBSD.amd64-openbsd
- Status
- Pass
- From
- Nigel Horne
- Dist
-
JSON-Any v1.40
- Platform
- Perl 5 v5.41.12 OpenBSD.amd64-openbsd
- Date
- 2025-05-21 17:52:55
- ID
- 6c6536a4-366c-11f0-ae30-99fd3e701a9e
This distribution has been tested as part of the CPAN Testers
project, supporting the Perl programming language. See
http://wiki.cpantesters.org/ for more information or email
questions to cpan-testers-discuss@perl.org
--
Dear Karen Etheridge,
This is a computer-generated report for JSON-Any-1.40
on perl 5.41.12, created by CPAN-Reporter-1.2020.
Thank you for uploading your work to CPAN. Congratulations!
All tests were successful.
Sections of this report:
* Tester comments
* Program output
* Prerequisites
* Environment and other context
------------------------------
TESTER COMMENTS
------------------------------
Additional comments from tester:
none provided
------------------------------
PROGRAM OUTPUT
------------------------------
Output from '/usr/bin/make test':
PERL_DL_NONLAZY=1 "/home/njh/perl5/perlbrew/perls/perl-5.41.12/bin/perl5.41.12" "-MExtUtils::Command::MM" "-MTest::Harness" "-e" "undef *Test::Harness::Switches; test_harness(0, 'blib/lib', 'blib/arch')" t/*.t
# Testing JSON::Any 1.40, Perl 5.041012, /home/njh/perl5/perlbrew/perls/perl-5.41.12/bin/perl5.41.12
t/00-load.t ............ ok
#
# Versions for all modules listed in MYMETA.json (including optional ones):
#
# === Configure Requires ===
#
# Module Want Have
# ------------------------ -------- --------
# CPAN::Meta::Requirements 2.120620 2.143
# ExtUtils::MakeMaker any 7.74
# Module::Metadata any 1.000038
# perl 5.008 5.041012
#
# === Build Requires ===
#
# Module Want Have
# ------------------- ---- ----
# ExtUtils::MakeMaker any 7.74
#
# === Test Requires ===
#
# Module Want Have
# --------------------- ----- --------
# Data::Dumper any 2.192
# ExtUtils::MakeMaker any 7.74
# File::Spec any 3.94
# Storable any 3.37
# Test::Fatal any 0.017
# Test::More 0.88 1.302213
# Test::Needs any 0.002010
# Test::Warnings 0.009 0.038
# Test::Without::Module any 0.23
# open any 1.13
# perl 5.008 5.041012
# utf8 any 1.27
#
# === Test Recommends ===
#
# Module Want Have
# ---------- -------- --------
# CPAN::Meta 2.120900 2.150010
#
# === Runtime Requires ===
#
# Module Want Have
# -------- ----- --------
# Carp any 1.54
# constant any 1.33
# perl 5.008 5.041012
# strict any 1.13
# warnings any 1.74
#
# === Other Modules ===
#
# Module Have
# ---------------- --------
# Cpanel::JSON::XS 4.39
# Encode 3.21
# File::Temp 0.2311
# JSON 4.10
# JSON::DWIW missing
# JSON::MaybeXS 1.004008
# JSON::PP 4.16
# JSON::Syck 1.34
# JSON::XS 4.03
# Module::Runtime 0.018
# Pod::Coverage 0.23
# Sub::Name 0.28
# YAML 1.31
# autodie 2.37
# constant 1.33
#
t/00-report-prereqs.t .. ok
# Testing JSON.pm backend
t/01-JSON.t ............ ok
# Testing JSON::XS backend
t/02-JSON-XS.t ......... ok
t/03-JSON-DWIW.t ....... skipped: JSON::DWIW not installed: Couldn't find a JSON package. Need JSON::DWIW at (eval 8) line 1.
t/04-ENV.t ............. ok
Found deprecated package JSON::Syck. Please upgrade to Cpanel::JSON::XS, JSON::XS, JSON::PP, JSON or JSON::DWIW at (eval 8) line 1.
t/05-JSON-Syck.t ....... ok
# Testing JSON::PP backend
t/06-JSON-PP.t ......... ok
# Testing Cpanel::JSON::XS backend
t/07-CPanel-JSON-XS.t .. ok
t/10_unicode.t ......... ok
t/11-string-escape.t ... ok
t/12-boolean.t ......... ok
t/13-no-backends.t ..... ok
t/14-deprecated.t ...... ok
All tests successful.
Files=14, Tests=232, 2 wallclock secs ( 0.08 usr 0.08 sys + 1.77 cusr 0.37 csys = 2.30 CPU)
Result: PASS
------------------------------
PREREQUISITES
------------------------------
Prerequisite modules loaded:
requires:
Module Need Have
------------------------ -------- --------
Carp 0 1.54
constant 0 1.33
perl 5.008 5.041012
strict 0 1.13
warnings 0 1.74
build_requires:
Module Need Have
------------------------ -------- --------
Data::Dumper 0 2.192
ExtUtils::MakeMaker 0 7.74
File::Spec 0 3.94
open 0 1.13
Storable 0 3.37
Test::Fatal 0 0.017
Test::More 0.88 1.302213
Test::Needs 0 0.002010
Test::Warnings 0.009 0.038
Test::Without::Module 0 0.23
utf8 0 1.27
configure_requires:
Module Need Have
------------------------ -------- --------
CPAN::Meta::Requirements 2.120620 2.143
ExtUtils::MakeMaker 0 7.74
Module::Metadata 0 1.000038
perl 5.008 5.041012
opt_build_requires:
Module Need Have
------------------------ -------- --------
CPAN::Meta 2.120900 2.150010
------------------------------
ENVIRONMENT AND OTHER CONTEXT
------------------------------
Environment variables:
LD_LIBRARY_PATH = /usr/local/lib
NONINTERACTIVE_TESTING = 1
PATH = /home/njh/perl5/perlbrew/bin:/home/njh/perl5/perlbrew/perls/perl-5.41.12/bin:/home/njh/perl5/perlbrew/bin:/home/njh/bin:/bin:/usr/bin:/usr/local/bin
PERL5LIB =
PERL5OPT =
PERL5_CPANPLUS_IS_RUNNING = 57778
PERL5_CPAN_IS_RUNNING = 57778
PERLBREW_HOME = /home/njh/.perlbrew
PERLBREW_LIB =
PERLBREW_MANPATH = /home/njh/perl5/perlbrew/perls/perl-5.41.12/man
PERLBREW_PATH = /home/njh/perl5/perlbrew/bin:/home/njh/perl5/perlbrew/perls/perl-5.41.12/bin
PERLBREW_PERL = perl-5.41.12
PERLBREW_ROOT = /home/njh/perl5/perlbrew
PERLBREW_SHELLRC_VERSION = 1.01
PERLBREW_VERSION = 1.01
PERL_LOCAL_LIB_ROOT =
PERL_MM_USE_DEFAULT = 1
PERL_USE_UNSAFE_INC = 1
SHELL = /bin/bash
TERM = xterm-256color
TMPDIR = /tmp
Perl special variables (and OS-specific diagnostics, for MSWin32):
$^X = /home/njh/perl5/perlbrew/perls/perl-5.41.12/bin/perl5.41.12
$UID/$EUID = 1000 / 1000
$GID = 1000 1000 0
$EGID = 1000 1000 0
Perl module toolchain versions installed:
Module Have
------------------- --------
CPAN 2.38
CPAN::Meta 2.150010
Cwd 3.94
ExtUtils::CBuilder 0.280240
ExtUtils::Command 7.74
ExtUtils::Install 2.22
ExtUtils::MakeMaker 7.74
ExtUtils::Manifest 1.75
ExtUtils::ParseXS 3.57
File::Spec 3.94
JSON 4.10
JSON::PP 4.16
Module::Build 0.4234
Module::Signature n/a
Parse::CPAN::Meta 2.150010
Test2 1.302213
Test::Harness 3.52
Test::More 1.302213
YAML 1.31
YAML::Syck 1.34
version 0.9933
--
Summary of my perl5 (revision 5 version 41 subversion 12) configuration:
Platform:
osname=openbsd
osvers=7.6
archname=OpenBSD.amd64-openbsd
uname='openbsd vultr2.bandsman.co.uk 7.6 generic#1 amd64 '
config_args='-de -Dprefix=/home/njh/perl5/perlbrew/perls/perl-5.41.12 -Dusedevel -Aeval:scriptdir=/home/njh/perl5/perlbrew/perls/perl-5.41.12/bin'
hint=recommended
useposix=true
d_sigaction=define
useithreads=undef
usemultiplicity=undef
use64bitint=define
use64bitall=define
uselongdouble=undef
usemymalloc=n
default_inc_excludes_dot=define
Compiler:
cc='cc'
ccflags ='-DNO_LOCALE_NUMERIC -DNO_LOCALE_COLLATE -DNO_LOCALE_MONETARY -DNO_LOCALE_TIME -DNO_LOCALE_MESSAGES -DLIBC_HANDLES_MISMATCHED_CTYPE -fno-strict-aliasing -pipe -fstack-protector-strong -I/usr/local/include'
optimize='-O2'
cppflags='-DNO_LOCALE_NUMERIC -DNO_LOCALE_COLLATE -DNO_LOCALE_MONETARY -DNO_LOCALE_TIME -DNO_LOCALE_MESSAGES -DLIBC_HANDLES_MISMATCHED_CTYPE -fno-strict-aliasing -pipe -fstack-protector-strong -I/usr/local/include'
ccversion=''
gccversion='OpenBSD Clang 16.0.6'
gccosandvers=''
intsize=4
longsize=8
ptrsize=8
doublesize=8
byteorder=12345678
doublekind=3
d_longlong=define
longlongsize=8
d_longdbl=define
longdblsize=16
longdblkind=3
ivtype='long'
ivsize=8
nvtype='double'
nvsize=8
Off_t='off_t'
lseeksize=8
alignbytes=8
prototype=define
Linker and Libraries:
ld='cc'
ldflags ='-Wl,-E -fstack-protector-strong -L/usr/local/lib'
libpth=/usr/lib/clang/16/lib /usr/lib /usr/local/lib
libs=-lpthread -lm -lutil -lc
perllibs=-lpthread -lm -lutil -lc
libc=/usr/lib/libc.so.100.3
so=so
useshrplib=false
libperl=libperl.a
gnulibc_version=''
Dynamic Linking:
dlsrc=dl_dlopen.xs
dlext=so
d_dlsymun=undef
ccdlflags=' '
cccdlflags='-DPIC -fPIC '
lddlflags='-shared -fPIC -L/usr/local/lib -fstack-protector-strong'
Characteristics of this binary (from libperl):
Compile-time options:
HAS_LONG_DOUBLE
HAS_STRTOLD
HAS_TIMES
PERLIO_LAYERS
PERL_COPY_ON_WRITE
PERL_DONT_CREATE_GVSV
PERL_HASH_FUNC_SIPHASH13
PERL_HASH_USE_SBOX32
PERL_MALLOC_WRAP
PERL_OP_PARENT
PERL_PRESERVE_IVUV
PERL_USE_DEVEL
PERL_USE_SAFE_PUTENV
USE_64_BIT_ALL
USE_64_BIT_INT
USE_LARGE_FILES
USE_LOCALE
USE_LOCALE_CTYPE
USE_PERLIO
USE_PERL_ATOF
Built under openbsd
Compiled at Apr 25 2025 00:37:11
%ENV:
PERL5LIB=""
PERL5OPT=""
PERL5_CPANPLUS_IS_RUNNING="57778"
PERL5_CPAN_IS_RUNNING="57778"
PERLBREW_HOME="/home/njh/.perlbrew"
PERLBREW_LIB=""
PERLBREW_MANPATH="/home/njh/perl5/perlbrew/perls/perl-5.41.12/man"
PERLBREW_PATH="/home/njh/perl5/perlbrew/bin:/home/njh/perl5/perlbrew/perls/perl-5.41.12/bin"
PERLBREW_PERL="perl-5.41.12"
PERLBREW_ROOT="/home/njh/perl5/perlbrew"
PERLBREW_SHELLRC_VERSION="1.01"
PERLBREW_VERSION="1.01"
PERL_LOCAL_LIB_ROOT=""
PERL_MM_USE_DEFAULT="1"
PERL_USE_UNSAFE_INC="1"
@INC:
/home/njh/perl5/perlbrew/perls/perl-5.41.12/lib/site_perl/5.41.12/OpenBSD.amd64-openbsd
/home/njh/perl5/perlbrew/perls/perl-5.41.12/lib/site_perl/5.41.12
/home/njh/perl5/perlbrew/perls/perl-5.41.12/lib/5.41.12/OpenBSD.amd64-openbsd
/home/njh/perl5/perlbrew/perls/perl-5.41.12/lib/5.41.12
.