MetaPOD-Format-JSON v0.3.0 Perl 5 v5.41.7 i86pc-solaris-64

Status
Pass
From
Carlos Guevara
Dist
MetaPOD-Format-JSON v0.3.0
Platform
Perl 5 v5.41.7 i86pc-solaris-64
Date
2024-12-18 12:55:57
ID
6c5cbb10-bd3f-11ef-b9d6-af7c59a25a5e
This distribution has been tested as part of the CPAN Testers
project, supporting the Perl programming language.  See
http://wiki.cpantesters.org/ for more information or email
questions to cpan-testers-discuss@perl.org


--
Dear Kent Fredric (PAUSE Custodial Account),

This is a computer-generated report for MetaPOD-Format-JSON-0.3.0
on perl 5.41.7, created by CPAN-Reporter-1.2020.

Thank you for uploading your work to CPAN.  Congratulations!
All tests were successful.

Sections of this report:

    * Tester comments
    * Program output
    * Prerequisites
    * Environment and other context

------------------------------
TESTER COMMENTS
------------------------------

Additional comments from tester:

this report is from an automated smoke testing program
and was not reviewed by a human for accuracy

------------------------------
PROGRAM OUTPUT
------------------------------

Output from './Build test':

t/00-compile/lib_MetaPOD_Format_JSON_Decoder_v1_pm.t ...... ok
t/00-compile/lib_MetaPOD_Format_JSON_PostCheck_v1_pm.t .... ok
t/00-compile/lib_MetaPOD_Format_JSON_does_v1_pm.t ......... ok
t/00-compile/lib_MetaPOD_Format_JSON_inherits_v1_pm.t ..... ok
t/00-compile/lib_MetaPOD_Format_JSON_interface_v1_1_pm.t .. ok
t/00-compile/lib_MetaPOD_Format_JSON_namespace_v1_pm.t .... ok
t/00-compile/lib_MetaPOD_Format_JSON_pm.t ................. ok
t/00-compile/lib_MetaPOD_Format_JSON_v1_1_pm.t ............ ok
t/00-compile/lib_MetaPOD_Format_JSON_v1_pm.t .............. ok
# 
# 
# Generated by Dist::Zilla::Plugin::ReportVersions::Tiny v1.10
# perl: 5.041007 (wanted v5.10.0) on solaris from /export/home/cpan/bin/perl/bin/perl5.41.7
# 
# Carp                                          => 1.54       (want any version)
# FindBin                                       => 1.54       (want any version)
# JSON                                          => 4.10       (want any version)
# MetaPOD::Assembler                            => v0.4.0     (want any version)
# MetaPOD::Exception::Decode::Data              => v0.4.0     (want any version)
# MetaPOD::Role::Format                         => v0.4.0     (want any version)
# Module::Build                                 => 0.4234     (want 0.4202) 
# Moo                                           => 2.005005   (want 1.000008)
# Moo::Role                                     => 2.005005   (want any version)
# Path::Iterator::Rule                          => 1.015      (want any version)
# Path::Tiny                                    => 0.146      (want any version)
# Test::Fatal                                   => 0.017      (want any version)
# Test::More                                    => 1.302204   (want 1.001002)
# Try::Tiny                                     => 0.32       (want any version)
# strict                                        => 1.13       (want any version)
# version                                       => 0.9933     (want 0.77)   
# warnings                                      => 1.72       (want any version)
# 
# Thanks for using my code.  I hope it works for you.
# If not, please try and include this output in the bug report.
# That will help me reproduce the issue and solve your problem.
# 
t/000-report-versions-tiny.t .............................. ok
t/05-format-json/01-basic.t ............................... ok
t/self-extract.t .......................................... ok
All tests successful.
Files=12, Tests=22,  1 wallclock secs ( 0.04 usr  0.03 sys +  0.80 cusr  0.19 csys =  1.06 CPU)
Result: PASS

------------------------------
PREREQUISITES
------------------------------

Prerequisite modules loaded:

requires:

    Module                           Need     Have    
    -------------------------------- -------- --------
    Carp                             0        1.54    
    JSON                             0        4.10    
    MetaPOD::Exception::Decode::Data 0        v0.4.0  
    MetaPOD::Role::Format            0        v0.4.0  
    Moo                              1.000008 2.005005
    Moo::Role                        0        2.005005
    perl                             v5.10.0  5.041007
    strict                           0        1.13    
    Try::Tiny                        0        0.32    
    version                          0.77     0.9933  
    warnings                         0        1.72    

build_requires:

    Module                           Need     Have    
    -------------------------------- -------- --------
    FindBin                          0        1.54    
    MetaPOD::Assembler               0        v0.4.0  
    Module::Build                    0.4202   0.4234  
    Path::Iterator::Rule             0        1.015   
    Path::Tiny                       0        0.146   
    Test::Fatal                      0        0.017   
    Test::More                       1.001002 1.302204

configure_requires:

    Module                           Need     Have    
    -------------------------------- -------- --------
    Module::Build                    0.4202   0.4234  


------------------------------
ENVIRONMENT AND OTHER CONTEXT
------------------------------

Environment variables:

    AUTOMATED_TESTING = 1
    DATE_MANIP_TEST_DM5 = 1
    LANG = en_US.UTF-8
    LC_ALL = C
    NONINTERACTIVE_TESTING = 1
    NO_NETWORK_TESTING = 1
    PATH = /export/home/cpan/bin/perl/bin:/usr/bin:/usr/sbin:/sbin:/opt/ooce/bin:/usr/gnu/bin
    PERL5LIB = 
    PERL5OPT = 
    PERL5_CPANPLUS_IS_RUNNING = 1326
    PERL5_CPAN_IS_RUNNING = 1326
    PERL_MM_USE_DEFAULT = 1
    PERL_USE_UNSAFE_INC = 1
    SHELL = /bin/bash
    TERM = screen

Perl special variables (and OS-specific diagnostics, for MSWin32):

    $^X = /export/home/cpan/bin/perl/bin/perl5.41.7
    $UID/$EUID = 101 / 101
    $GID = 1 1
    $EGID = 1 1

Perl module toolchain versions installed:

    Module              Have    
    ------------------- --------
    CPAN                2.38    
    CPAN::Meta          2.150010
    Cwd                 3.92    
    ExtUtils::CBuilder  0.280240
    ExtUtils::Command   7.70    
    ExtUtils::Install   2.22    
    ExtUtils::MakeMaker 7.70    
    ExtUtils::Manifest  1.75    
    ExtUtils::ParseXS   3.56    
    File::Spec          3.93    
    JSON                4.10    
    JSON::PP            4.16    
    Module::Build       0.4234  
    Module::Signature   0.89    
    Parse::CPAN::Meta   2.150010
    Test2               1.302204
    Test::Harness       3.50    
    Test::More          1.302204
    YAML                1.31    
    YAML::Syck          1.34    
    version             0.9933  


--

Summary of my perl5 (revision 5 version 41 subversion 7) configuration:
  Commit id: 0877c09313129ad9ab50aeabf870cf5fce9724a0
  Platform:
    osname=solaris
    osvers=2.11
    archname=i86pc-solaris-64
    uname='sunos cjg-omniosce 5.11 omnios-r151050-49db1c0a0fe i86pc i386 i86pc '
    config_args='-des -Dprefix=/export/home/cpan/bin/perl -Dscriptdir=/export/home/cpan/bin/perl/bin -Dusedevel -Duse64bitall -Dcc=gcc'
    hint=recommended
    useposix=true
    d_sigaction=define
    useithreads=undef
    usemultiplicity=undef
    use64bitint=define
    use64bitall=define
    uselongdouble=undef
    usemymalloc=n
    default_inc_excludes_dot=define
  Compiler:
    cc='gcc'
    ccflags ='-m64 -fwrapv -fno-strict-aliasing -pipe -fstack-protector-strong -D_LARGEFILE_SOURCE -D_FILE_OFFSET_BITS=64 -D_FORTIFY_SOURCE=2'
    optimize='-O'
    cppflags='-m64 -fwrapv -fno-strict-aliasing -pipe -fstack-protector-strong'
    ccversion=''
    gccversion='13.2.0'
    gccosandvers=''
    intsize=4
    longsize=8
    ptrsize=8
    doublesize=8
    byteorder=12345678
    doublekind=3
    d_longlong=define
    longlongsize=8
    d_longdbl=define
    longdblsize=16
    longdblkind=3
    ivtype='long'
    ivsize=8
    nvtype='double'
    nvsize=8
    Off_t='off_t'
    lseeksize=8
    alignbytes=8
    prototype=define
  Linker and Libraries:
    ld='gcc'
    ldflags =' -m64 -fstack-protector-strong -L/usr/gnu/lib '
    libpth=/opt/gcc-13/lib /usr/lib /usr/gnu/lib /usr/ccs/lib
    libs=-lpthread -lsocket -lnsl -ldl -lm -lc
    perllibs=-lpthread -lsocket -lnsl -ldl -lm -lc
    libc=/lib/libc.so
    so=so
    useshrplib=true
    libperl=libperl.so
    gnulibc_version=''
  Dynamic Linking:
    dlsrc=dl_dlopen.xs
    dlext=so
    d_dlsymun=undef
    ccdlflags='  -R /export/home/cpan/bin/perl/lib/5.41.7/i86pc-solaris-64/CORE'
    cccdlflags='-fPIC'
    lddlflags=' -shared -m64 -L/usr/gnu/lib -fstack-protector-strong'


Characteristics of this binary (from libperl): 
  Compile-time options:
    HAS_LONG_DOUBLE
    HAS_STRTOLD
    HAS_TIMES
    PERLIO_LAYERS
    PERL_COPY_ON_WRITE
    PERL_DONT_CREATE_GVSV
    PERL_HASH_FUNC_SIPHASH13
    PERL_HASH_USE_SBOX32
    PERL_MALLOC_WRAP
    PERL_OP_PARENT
    PERL_PRESERVE_IVUV
    PERL_USE_DEVEL
    PERL_USE_SAFE_PUTENV
    USE_64_BIT_ALL
    USE_64_BIT_INT
    USE_LARGE_FILES
    USE_LOCALE
    USE_LOCALE_COLLATE
    USE_LOCALE_CTYPE
    USE_LOCALE_NUMERIC
    USE_LOCALE_TIME
    USE_PERLIO
    USE_PERL_ATOF
  Built under solaris
  Compiled at Dec 17 2024 21:29:54
  %ENV:
    PERL5LIB=""
    PERL5OPT=""
    PERL5_CPANPLUS_IS_RUNNING="1326"
    PERL5_CPAN_IS_RUNNING="1326"
    PERL_MM_USE_DEFAULT="1"
    PERL_USE_UNSAFE_INC="1"
  @INC:
    /export/home/cpan/bin/perl/lib/site_perl/5.41.7/i86pc-solaris-64
    /export/home/cpan/bin/perl/lib/site_perl/5.41.7
    /export/home/cpan/bin/perl/lib/5.41.7/i86pc-solaris-64
    /export/home/cpan/bin/perl/lib/5.41.7
    .