Report for Time-Stamp-1.300

Back
From: metabase:user:fed57a20-ca61-11e0-a8f8-2309af9bf95a
Subject: PASS Time-Stamp-1.300 v5.12.4 GNU/Linux
Date: 2013-01-14T03:06:42Z

This distribution has been tested as part of the CPAN Testers
project, supporting the Perl programming language.  See
http://wiki.cpantesters.org/ for more information or email
questions to cpan-testers-discuss@perl.org


--
Dear Randy Stauner,

This is a computer-generated report for Time-Stamp-1.300
on perl 5.12.4, created by CPAN-Reporter-1.2009.

Thank you for uploading your work to CPAN.  Congratulations!
All tests were successful.

Sections of this report:

    * Tester comments
    * Program output
    * Prerequisites
    * Environment and other context

------------------------------
TESTER COMMENTS
------------------------------

Additional comments from tester:

this report is from an automated smoke testing program
and was not reviewed by a human for accuracy

------------------------------
PROGRAM OUTPUT
------------------------------

Output from '/usr/bin/make test':

PERL_DL_NONLAZY=1 /home/kmg/perl5/perlbrew/perls/perl-5.12.4/bin/perl "-MExtUtils::Command::MM" "-e" "test_harness(0, 'blib/lib', 'blib/arch')" t/*.t
t/00-compile.t ......... ok
# Prerequisite Report:
#   Version Module                 
#   ------- -----------------------
#      6.64 ExtUtils::MakeMaker    
#      1.15 File::Find             
#      3.33 File::Spec::Functions  
#      0.22 File::Temp             
#      1.22 List::Util             
#   missing Pod::Coverage::TrustPod
#     0.984 Sub::Exporter          
#   missing Test::CPAN::Meta       
#      0.98 Test::More             
#      1.45 Test::Pod              
#      1.08 Test::Pod::Coverage    
#    1.9725 Time::HiRes            
#    1.2300 Time::Local            
#      1.04 strict                 
#      1.00 subs                   
#      1.09 warnings               
t/00-report-prereqs.t .. ok
t/core_time.t .......... ok
t/exports.t ............ ok
t/format.t ............. ok
t/hires.t .............. ok
t/imports.t ............ ok
t/parse.t .............. ok
t/time.t ............... ok
All tests successful.
Files=9, Tests=215,  3 wallclock secs ( 0.17 usr  0.04 sys +  1.53 cusr  0.15 csys =  1.89 CPU)
Result: PASS

------------------------------
PREREQUISITES
------------------------------

Prerequisite modules loaded:

requires:

    Module                Need  Have  
    --------------------- ----- ------
    strict                0     1.04  
    Sub::Exporter         0.982 0.984 
    Time::Local           0     1.2300
    warnings              0     1.09  

build_requires:

    Module                Need  Have  
    --------------------- ----- ------
    ExtUtils::MakeMaker   0     6.64  
    File::Find            0     1.15  
    File::Spec::Functions 0     3.33  
    File::Temp            0     0.22  
    List::Util            0     1.22  
    subs                  0     1.00  
    Test::More            0.96  0.98  

configure_requires:

    Module                Need  Have  
    --------------------- ----- ------
    ExtUtils::MakeMaker   6.30  6.64  


------------------------------
ENVIRONMENT AND OTHER CONTEXT
------------------------------

Environment variables:

    AUTOMATED_TESTING = 1
    LANG = ja_JP.UTF-8
    LC_MESSAGES = C
    PATH = /home/kmg/perl5/perlbrew/bin:/home/kmg/perl5/perlbrew/perls/perl-5.12.4/bin:/home/kmg/module/bin:/usr/local/bin:/usr/bin:/bin:/usr/local/games:/usr/games
    PERL5LIB = /home/kmg/module/lib/perl5
    PERL5OPT = 
    PERL5_CPANPLUS_IS_RUNNING = 19891
    PERL5_CPAN_IS_RUNNING = 19891
    PERL5_CPAN_IS_RUNNING_IN_RECURSION = 3485,19891
    PERLBREW_BASHRC_VERSION = 0.58
    PERLBREW_HOME = /home/kmg/.perlbrew
    PERLBREW_MANPATH = /home/kmg/perl5/perlbrew/perls/perl-5.12.4/man
    PERLBREW_PATH = /home/kmg/perl5/perlbrew/bin:/home/kmg/perl5/perlbrew/perls/perl-5.12.4/bin
    PERLBREW_PERL = perl-5.12.4
    PERLBREW_ROOT = /home/kmg/perl5/perlbrew
    PERLBREW_VERSION = 0.58
    PERL_CR_SMOKER_CURRENT = Time-Stamp-1.300
    PERL_EXTUTILS_AUTOINSTALL = --defaultdeps
    PERL_MM_USE_DEFAULT = 1
    SHELL = /bin/bash
    TERM = screen

Perl special variables (and OS-specific diagnostics, for MSWin32):

    $^X = /home/kmg/perl5/perlbrew/perls/perl-5.12.4/bin/perl
    $UID/$EUID = 1001 / 1001
    $GID = 1001 1001
    $EGID = 1001 1001

Perl module toolchain versions installed:

    Module              Have    
    ------------------- --------
    CPAN                1.9800  
    CPAN::Meta          2.120921
    Cwd                 3.33    
    ExtUtils::CBuilder  0.280205
    ExtUtils::Command   1.17    
    ExtUtils::Install   1.55    
    ExtUtils::MakeMaker 6.64    
    ExtUtils::Manifest  1.61    
    ExtUtils::ParseXS   3.18    
    File::Spec          3.33    
    JSON                2.53    
    JSON::PP            2.27200 
    Module::Build       0.4003  
    Module::Signature   0.68    
    Parse::CPAN::Meta   1.4404  
    Test::Harness       3.25    
    Test::More          0.98    
    YAML                0.84    
    YAML::Syck          1.22    
    version             0.9901  


--

Summary of my perl5 (revision 5 version 12 subversion 4) configuration:
   
  Platform:
    osname=linux, osvers=2.6.32-5-686, archname=i686-linux-thread-multi
    uname='linux natsume 2.6.32-5-686 #1 smp sun sep 23 09:49:36 utc 2012 i686 gnulinux '
    config_args='-de -Dprefix=/home/kmg/perl5/perlbrew/perls/perl-5.12.4 -Duseithreads -Aeval:scriptdir=/home/kmg/perl5/perlbrew/perls/perl-5.12.4/bin'
    hint=recommended, useposix=true, d_sigaction=define
    useithreads=define, usemultiplicity=define
    useperlio=define, d_sfio=undef, uselargefiles=define, usesocks=undef
    use64bitint=undef, use64bitall=undef, uselongdouble=undef
    usemymalloc=n, bincompat5005=undef
  Compiler:
    cc='cc', ccflags ='-D_REENTRANT -D_GNU_SOURCE -fno-strict-aliasing -pipe -fstack-protector -I/usr/local/include -D_LARGEFILE_SOURCE -D_FILE_OFFSET_BITS=64',
    optimize='-O2',
    cppflags='-D_REENTRANT -D_GNU_SOURCE -fno-strict-aliasing -pipe -fstack-protector -I/usr/local/include'
    ccversion='', gccversion='4.4.5', gccosandvers=''
    intsize=4, longsize=4, ptrsize=4, doublesize=8, byteorder=1234
    d_longlong=define, longlongsize=8, d_longdbl=define, longdblsize=12
    ivtype='long', ivsize=4, nvtype='double', nvsize=8, Off_t='off_t', lseeksize=8
    alignbytes=4, prototype=define
  Linker and Libraries:
    ld='cc', ldflags =' -fstack-protector -L/usr/local/lib'
    libpth=/usr/local/lib /lib/../lib /usr/lib/../lib /lib /usr/lib
    libs=-lnsl -ldl -lm -lcrypt -lutil -lpthread -lc
    perllibs=-lnsl -ldl -lm -lcrypt -lutil -lpthread -lc
    libc=/lib/libc-2.11.3.so, so=so, useshrplib=false, libperl=libperl.a
    gnulibc_version='2.11.3'
  Dynamic Linking:
    dlsrc=dl_dlopen.xs, dlext=so, d_dlsymun=undef, ccdlflags='-Wl,-E'
    cccdlflags='-fPIC', lddlflags='-shared -O2 -L/usr/local/lib -fstack-protector'


Characteristics of this binary (from libperl): 
  Compile-time options: MULTIPLICITY PERL_DONT_CREATE_GVSV
                        PERL_IMPLICIT_CONTEXT PERL_MALLOC_WRAP USE_ITHREADS
                        USE_LARGE_FILES USE_PERLIO USE_PERL_ATOF
                        USE_REENTRANT_API
  Built under linux
  Compiled at Oct 17 2012 19:55:39
  %ENV:
    PERL5LIB="/home/kmg/module/lib/perl5"
    PERL5OPT=""
    PERL5_CPANPLUS_IS_RUNNING="19891"
    PERL5_CPAN_IS_RUNNING="19891"
    PERL5_CPAN_IS_RUNNING_IN_RECURSION="3485,19891"
    PERLBREW_BASHRC_VERSION="0.58"
    PERLBREW_HOME="/home/kmg/.perlbrew"
    PERLBREW_MANPATH="/home/kmg/perl5/perlbrew/perls/perl-5.12.4/man"
    PERLBREW_PATH="/home/kmg/perl5/perlbrew/bin:/home/kmg/perl5/perlbrew/perls/perl-5.12.4/bin"
    PERLBREW_PERL="perl-5.12.4"
    PERLBREW_ROOT="/home/kmg/perl5/perlbrew"
    PERLBREW_VERSION="0.58"
    PERL_CR_SMOKER_CURRENT="Time-Stamp-1.300"
    PERL_EXTUTILS_AUTOINSTALL="--defaultdeps"
    PERL_MM_USE_DEFAULT="1"
  @INC:
    /home/kmg/module/lib/perl5/i686-linux-thread-multi
    /home/kmg/module/lib/perl5
    /home/kmg/perl5/perlbrew/perls/perl-5.12.4/lib/site_perl/5.12.4/i686-linux-thread-multi
    /home/kmg/perl5/perlbrew/perls/perl-5.12.4/lib/site_perl/5.12.4
    /home/kmg/perl5/perlbrew/perls/perl-5.12.4/lib/5.12.4/i686-linux-thread-multi
    /home/kmg/perl5/perlbrew/perls/perl-5.12.4/lib/5.12.4
    .