Back
From: metabase:user:314402c4-2aae-11df-837a-5e0a49663a4f
Subject: PASS Class-DBI-Sweet-0.11 v5.22.0 GNU/Linux
Date: 2015-11-15T12:21:39Z
This distribution has been tested as part of the CPAN Testers
project, supporting the Perl programming language. See
http://wiki.cpantesters.org/ for more information or email
questions to cpan-testers-discuss@perl.org
--
Dear Fred Moyer,
This is a computer-generated report for Class-DBI-Sweet-0.11
on perl 5.22.0, created by CPAN-Reporter-1.2015.
Thank you for uploading your work to CPAN. Congratulations!
All tests were successful.
Sections of this report:
* Tester comments
* Program output
* Prerequisites
* Environment and other context
------------------------------
TESTER COMMENTS
------------------------------
Additional comments from tester:
none provided
------------------------------
PROGRAM OUTPUT
------------------------------
Output from './Build test':
t/01use.t ................................ ok
t/02pod.t ................................ skipped: set TEST_POD to enable this test
t/03podcoverage.t ........................ skipped: set TEST_POD to enable this test
t/04join.t ............................... ok
t/05count.t .............................. ok
t/06object_cache.t ....................... ok
Use of uninitialized value $got in numeric eq (==) at (eval in cmp_ok) t/07prefetch.t line 48.
t/07prefetch.t ........................... ok
t/08pager.t .............................. ok
t/09sequence.t ........................... ok
t/cdbi-t-ocache/01-columns.t ............. ok
t/cdbi-t-ocache/03-subclassing.t ......... ok
t/cdbi-t-ocache/05-Query.t ............... ok
t/cdbi-t-ocache/06-hasa.t ................ ok
t/cdbi-t-ocache/08-inheritcols.t ......... ok
t/cdbi-t-ocache/09-has_many.t ............ ok
DBI connect('test','',...) failed: Access denied for user 'eserte'@'localhost' to database 'test' at t/cdbi-t/testlib/MyBase.pm line 10.
t/cdbi-t-ocache/10-mysql.t ............... skipped: Need MySQL for this test
t/cdbi-t-ocache/11-triggers.t ............ ok
t/cdbi-t-ocache/12-filter.t .............. ok
t/cdbi-t-ocache/13-constraint.t .......... ok
t/cdbi-t-ocache/14-might_have.t .......... ok
t/cdbi-t-ocache/16-reserved.t ............ ok
# Pg connection failed (DBI connect('dbname=template1','postgres',...) failed: FATAL: Peer authentication failed for user "postgres" at /opt/perl-5.22.0/lib/site_perl/5.22.0/Ima/DBI.pm line 328.
# ). Set env variables DBD_PG_DBNAME, DBD_PG_USER,
# DBD_PG_PASSWD to enable testing.
t/cdbi-t-ocache/17-data_type.t ........... skipped: Pg connection failed.
t/cdbi-t-ocache/18-has_a.t ............... ok
t/cdbi-t-ocache/19-set_sql.t ............. ok
t/cdbi-t-ocache/21-iterator.t ............ ok
DBI connect('test','',...) failed: Access denied for user 'eserte'@'localhost' to database 'test' at t/cdbi-t/testlib/MyBase.pm line 10.
t/cdbi-t-ocache/22-deflate_order.t ....... skipped: Need MySQL for this test
t/cdbi-t-ocache/23-cascade.t ............. ok
t/cdbi-t-ocache/24-meta_info.t ........... ok
DBI connect('test','',...) failed: Access denied for user 'eserte'@'localhost' to database 'test' at t/cdbi-t/testlib/MyBase.pm line 10.
t/cdbi-t-ocache/25-closures_in_meta.t .... skipped: Need MySQL for this test
t/cdbi-t-ocache/97-pod.t ................. ok
t/cdbi-t-ocache/98-failure.t ............. ok
t/cdbi-t-ocache/99-misc.t ................ ok
t/cdbi-t-rescache/01-columns.t ........... ok
t/cdbi-t-rescache/03-subclassing.t ....... ok
t/cdbi-t-rescache/05-Query.t ............. ok
t/cdbi-t-rescache/06-hasa.t .............. ok
t/cdbi-t-rescache/08-inheritcols.t ....... ok
t/cdbi-t-rescache/09-has_many.t .......... ok
DBI connect('test','',...) failed: Access denied for user 'eserte'@'localhost' to database 'test' at t/cdbi-t/testlib/MyBase.pm line 10.
t/cdbi-t-rescache/10-mysql.t ............. skipped: Need MySQL for this test
t/cdbi-t-rescache/11-triggers.t .......... ok
t/cdbi-t-rescache/12-filter.t ............ ok
t/cdbi-t-rescache/13-constraint.t ........ ok
t/cdbi-t-rescache/14-might_have.t ........ ok
t/cdbi-t-rescache/16-reserved.t .......... ok
# Pg connection failed (DBI connect('dbname=template1','postgres',...) failed: FATAL: Peer authentication failed for user "postgres" at /opt/perl-5.22.0/lib/site_perl/5.22.0/Ima/DBI.pm line 328.
# ). Set env variables DBD_PG_DBNAME, DBD_PG_USER,
# DBD_PG_PASSWD to enable testing.
t/cdbi-t-rescache/17-data_type.t ......... skipped: Pg connection failed.
t/cdbi-t-rescache/18-has_a.t ............. ok
t/cdbi-t-rescache/19-set_sql.t ........... ok
t/cdbi-t-rescache/21-iterator.t .......... ok
DBI connect('test','',...) failed: Access denied for user 'eserte'@'localhost' to database 'test' at t/cdbi-t/testlib/MyBase.pm line 10.
t/cdbi-t-rescache/22-deflate_order.t ..... skipped: Need MySQL for this test
t/cdbi-t-rescache/23-cascade.t ........... ok
t/cdbi-t-rescache/24-meta_info.t ......... ok
DBI connect('test','',...) failed: Access denied for user 'eserte'@'localhost' to database 'test' at t/cdbi-t/testlib/MyBase.pm line 10.
t/cdbi-t-rescache/25-closures_in_meta.t .. skipped: Need MySQL for this test
t/cdbi-t-rescache/97-pod.t ............... ok
t/cdbi-t-rescache/98-failure.t ........... ok
t/cdbi-t-rescache/99-misc.t .............. ok
t/cdbi-t/01-columns.t .................... ok
t/cdbi-t/02-Film.t ....................... ok
t/cdbi-t/03-subclassing.t ................ ok
t/cdbi-t/04-lazy.t ....................... ok
t/cdbi-t/05-Query.t ...................... ok
t/cdbi-t/06-hasa.t ....................... ok
t/cdbi-t/08-inheritcols.t ................ ok
t/cdbi-t/09-has_many.t ................... ok
DBI connect('test','',...) failed: Access denied for user 'eserte'@'localhost' to database 'test' at t/cdbi-t/testlib/MyBase.pm line 10.
t/cdbi-t/10-mysql.t ...................... skipped: Need MySQL for this test
t/cdbi-t/11-triggers.t ................... ok
t/cdbi-t/12-filter.t ..................... ok
t/cdbi-t/13-constraint.t ................. ok
t/cdbi-t/14-might_have.t ................. ok
# Pg connection failed (DBI connect('dbname=template1','postgres',...) failed: FATAL: Peer authentication failed for user "postgres" at /opt/perl-5.22.0/lib/site_perl/5.22.0/Ima/DBI.pm line 328.
# ). Set env variables DBD_PG_DBNAME, DBD_PG_USER,
# DBD_PG_PASSWD to enable testing.
t/cdbi-t/17-data_type.t .................. skipped: Pg connection failed.
t/cdbi-t/18-has_a.t ...................... ok
t/cdbi-t/19-set_sql.t .................... ok
t/cdbi-t/21-iterator.t ................... ok
DBI connect('test','',...) failed: Access denied for user 'eserte'@'localhost' to database 'test' at t/cdbi-t/testlib/MyBase.pm line 10.
t/cdbi-t/22-deflate_order.t .............. skipped: Need MySQL for this test
t/cdbi-t/23-cascade.t .................... ok
t/cdbi-t/24-meta_info.t .................. ok
DBI connect('test','',...) failed: Access denied for user 'eserte'@'localhost' to database 'test' at t/cdbi-t/testlib/MyBase.pm line 10.
t/cdbi-t/25-closures_in_meta.t ........... skipped: Need MySQL for this test
t/cdbi-t/97-pod.t ........................ ok
t/cdbi-t/98-failure.t .................... ok
t/cdbi-t/99-misc.t ....................... ok
All tests successful.
Files=79, Tests=1280, 43 wallclock secs ( 0.21 usr 0.41 sys + 6.15 cusr 1.71 csys = 8.48 CPU)
Result: PASS
------------------------------
PREREQUISITES
------------------------------
Prerequisite modules loaded:
requires:
Module Need Have
------------- ------- ------
Class::DBI v3.0.12 3.0.17
Data::Page 0 2.02
DBD::SQLite 1.08 1.48
DBI 0 1.633
List::Util 0 1.42
SQL::Abstract 1.55 1.81
configure_requires:
Module Need Have
------------- ------- ------
Module::Build 0.38 0.4214
------------------------------
ENVIRONMENT AND OTHER CONTEXT
------------------------------
Environment variables:
LANG = C
PATH = /usr/local/bin:/usr/bin:/bin:/usr/local/sbin:/usr/sbin:/sbin:/home/eserte/bin/linux-gnu:/home/eserte/bin/sh:/home/eserte/bin:/usr/games:/home/eserte/devel:/home/eserte/src/srezic-misc/scripts
PERL5LIB = /home/eserte/.cpan/build/2015111512/Biblio-Thesaurus-0.43-R1xLK6/blib/arch:/home/eserte/.cpan/build/2015111512/Biblio-Thesaurus-0.43-R1xLK6/blib/lib:/home/eserte/.cpan/build/2015111512/Authen-Radius-0.24-aLV7L5/blib/arch:/home/eserte/.cpan/build/2015111512/Authen-Radius-0.24-aLV7L5/blib/lib:/home/eserte/.cpan/build/2015111512/Data-HexDump-0.02-7Y3j2V/blib/arch:/home/eserte/.cpan/build/2015111512/Data-HexDump-0.02-7Y3j2V/blib/lib
PERL5OPT =
PERL5_CPANPLUS_IS_RUNNING = 30059
PERL5_CPAN_IS_RUNNING = 30059
PERL5_CPAN_IS_RUNNING_IN_RECURSION = 30036,30059
PERLDOC = -MPod::Perldoc::ToTextOverstrike
PERL_BATCH = yes
PERL_CANARY_STABILITY_NOPROMPT = 1
PERL_CPAN_REPORTER_CONFIG = /var/tmp/cpansmoker-1001/2015111512/cpanreporter_000_config.ini
PERL_EXTUTILS_AUTOINSTALL = --defaultdeps
SHELL = /bin/zsh
TERM = screen
TMPDIR = /var/tmp/cpansmoker-1001/2015111512
Perl special variables (and OS-specific diagnostics, for MSWin32):
$^X = /bbbike/perl-5.22.0/bin/perl
$UID/$EUID = 1001 / 1001
$GID = 1001 109 1001
$EGID = 1001 109 1001
Perl module toolchain versions installed:
Module Have
------------------- --------
CPAN 2.10
CPAN::Meta 2.150005
Cwd 3.56
ExtUtils::CBuilder 0.280221
ExtUtils::Command 1.20
ExtUtils::Install 2.04
ExtUtils::MakeMaker 7.04
ExtUtils::Manifest 1.70
ExtUtils::ParseXS 3.28
File::Spec 3.56
JSON 2.90
JSON::PP 2.27300
Module::Build 0.4214
Module::Signature 0.79
Parse::CPAN::Meta 1.4414
Test::Harness 3.35
Test::More 1.001014
YAML 1.15
YAML::Syck 1.29
version 0.9912
--
Summary of my perl5 (revision 5 version 22 subversion 0) configuration:
Platform:
osname=linux, osvers=3.2.0-4-amd64, archname=x86_64-linux
uname='linux eserte 3.2.0-4-amd64 #1 smp debian 3.2.68-1+deb7u1 x86_64 gnulinux '
config_args='-ds -e -Dprefix=/opt/perl-5.22.0 -Dcf_email=srezic@cpan.org'
hint=recommended, useposix=true, d_sigaction=define
useithreads=undef, usemultiplicity=undef
use64bitint=define, use64bitall=define, uselongdouble=undef
usemymalloc=n, bincompat5005=undef
Compiler:
cc='cc', ccflags ='-fwrapv -fno-strict-aliasing -pipe -fstack-protector -I/usr/local/include -D_LARGEFILE_SOURCE -D_FILE_OFFSET_BITS=64 -D_FORTIFY_SOURCE=2',
optimize='-O2',
cppflags='-fwrapv -fno-strict-aliasing -pipe -fstack-protector -I/usr/local/include'
ccversion='', gccversion='4.7.2', gccosandvers=''
intsize=4, longsize=8, ptrsize=8, doublesize=8, byteorder=12345678, doublekind=3
d_longlong=define, longlongsize=8, d_longdbl=define, longdblsize=16, longdblkind=3
ivtype='long', ivsize=8, nvtype='double', nvsize=8, Off_t='off_t', lseeksize=8
alignbytes=8, prototype=define
Linker and Libraries:
ld='cc', ldflags =' -fstack-protector -L/usr/local/lib'
libpth=/usr/local/lib /usr/lib/gcc/x86_64-linux-gnu/4.7/include-fixed /usr/include/x86_64-linux-gnu /usr/lib /lib/x86_64-linux-gnu /lib/../lib /usr/lib/x86_64-linux-gnu /usr/lib/../lib /lib
libs=-lpthread -lnsl -ldb -ldl -lm -lcrypt -lutil -lc
perllibs=-lpthread -lnsl -ldl -lm -lcrypt -lutil -lc
libc=libc-2.13.so, so=so, useshrplib=false, libperl=libperl.a
gnulibc_version='2.13'
Dynamic Linking:
dlsrc=dl_dlopen.xs, dlext=so, d_dlsymun=undef, ccdlflags='-Wl,-E'
cccdlflags='-fPIC', lddlflags='-shared -O2 -L/usr/local/lib -fstack-protector'
Characteristics of this binary (from libperl):
Compile-time options: HAS_TIMES PERLIO_LAYERS PERL_DONT_CREATE_GVSV
PERL_HASH_FUNC_ONE_AT_A_TIME_HARD PERL_MALLOC_WRAP
PERL_NEW_COPY_ON_WRITE PERL_PRESERVE_IVUV
USE_64_BIT_ALL USE_64_BIT_INT USE_LARGE_FILES
USE_LOCALE USE_LOCALE_COLLATE USE_LOCALE_CTYPE
USE_LOCALE_NUMERIC USE_LOCALE_TIME USE_PERLIO
USE_PERL_ATOF
Built under linux
Compiled at Jun 1 2015 18:17:49
%ENV:
PERL5LIB="/home/eserte/.cpan/build/2015111512/Biblio-Thesaurus-0.43-R1xLK6/blib/arch:/home/eserte/.cpan/build/2015111512/Biblio-Thesaurus-0.43-R1xLK6/blib/lib:/home/eserte/.cpan/build/2015111512/Authen-Radius-0.24-aLV7L5/blib/arch:/home/eserte/.cpan/build/2015111512/Authen-Radius-0.24-aLV7L5/blib/lib:/home/eserte/.cpan/build/2015111512/Data-HexDump-0.02-7Y3j2V/blib/arch:/home/eserte/.cpan/build/2015111512/Data-HexDump-0.02-7Y3j2V/blib/lib"
PERL5OPT=""
PERL5_CPANPLUS_IS_RUNNING="30059"
PERL5_CPAN_IS_RUNNING="30059"
PERL5_CPAN_IS_RUNNING_IN_RECURSION="30036,30059"
PERLDOC="-MPod::Perldoc::ToTextOverstrike"
PERL_BATCH="yes"
PERL_CANARY_STABILITY_NOPROMPT="1"
PERL_CPAN_REPORTER_CONFIG="/var/tmp/cpansmoker-1001/2015111512/cpanreporter_000_config.ini"
PERL_EXTUTILS_AUTOINSTALL="--defaultdeps"
@INC:
/home/eserte/.cpan/build/2015111512/Biblio-Thesaurus-0.43-R1xLK6/blib/arch
/home/eserte/.cpan/build/2015111512/Biblio-Thesaurus-0.43-R1xLK6/blib/lib
/home/eserte/.cpan/build/2015111512/Authen-Radius-0.24-aLV7L5/blib/arch
/home/eserte/.cpan/build/2015111512/Authen-Radius-0.24-aLV7L5/blib/lib
/home/eserte/.cpan/build/2015111512/Data-HexDump-0.02-7Y3j2V/blib/arch
/home/eserte/.cpan/build/2015111512/Data-HexDump-0.02-7Y3j2V/blib/lib
/opt/perl-5.22.0/lib/site_perl/5.22.0/x86_64-linux
/opt/perl-5.22.0/lib/site_perl/5.22.0
/opt/perl-5.22.0/lib/5.22.0/x86_64-linux
/opt/perl-5.22.0/lib/5.22.0
.