Back
From: metabase:user:320bfe00-2aae-11df-837a-5e0a49663a4f
Subject: PASS Dancer2-Plugin-Swagger2-0.003_002 v5.22.2 GNU/Linux
Date: 2016-10-26T13:16:36Z
This distribution has been tested as part of the CPAN Testers
project, supporting the Perl programming language. See
http://wiki.cpantesters.org/ for more information or email
questions to cpan-testers-discuss@perl.org
--
Dear Daniel Bohmer,
This is a computer-generated report for Dancer2-Plugin-Swagger2-0.003_002
on perl 5.22.2, created by CPAN-Reporter-1.2018.
Thank you for uploading your work to CPAN. Congratulations!
All tests were successful.
Sections of this report:
* Tester comments
* Program output
* Prerequisites
* Environment and other context
------------------------------
TESTER COMMENTS
------------------------------
Additional comments from tester:
this report is from an automated smoke testing program
and was not reviewed by a human for accuracy
------------------------------
PROGRAM OUTPUT
------------------------------
Output from '/usr/bin/make test':
PERL_DL_NONLAZY=1 "/home/sand/src/perl/repoperls/installed-perls/perl/v5.22.2/f7bf/bin/perl" "-MExtUtils::Command::MM" "-MTest::Harness" "-e" "undef *Test::Harness::Switches; test_harness(0, 'blib/lib', 'blib/arch')" t/*.t
#
# Versions for all modules listed in MYMETA.json (including optional ones):
#
# === Configure Requires ===
#
# Module Want Have
# ------------------- ---- ----
# ExtUtils::MakeMaker any 7.24
#
# === Build Requires ===
#
# Module Want Have
# ------------------- ---- ----
# ExtUtils::MakeMaker any 7.24
#
# === Test Requires ===
#
# Module Want Have
# --------------------- ----------- ----------
# Dancer2 0.162000_01 0.204001
# ExtUtils::MakeMaker any 7.24
# File::Spec any 3.62
# HTTP::Request::Common any 6.11
# Hash::MultiValue any 0.16
# Plack::Test any undef
# Test::MockObject any 1.20150527
# Test::More any 1.302064
# Test::Most any 0.35
# Test::Requires any 0.10
#
# === Test Recommends ===
#
# Module Want Have
# ---------- -------- --------
# CPAN::Meta 2.120900 2.150010
#
# === Runtime Requires ===
#
# Module Want Have
# ------------------------- ----------- --------
# Dancer2 0.162000_01 0.204001
# Dancer2::Plugin any 0.204001
# Module::Runtime any 0.014
# Swagger2 0.63 0.86
# Swagger2::SchemaValidator any undef
# strict any 1.09
# warnings any 1.34
#
# === Other Modules ===
#
# Module Have
# -------------- -------
# CGI::Deurl::XS missing
# Plack 1.0042
#
t/00-report-prereqs.t ... ok
# Swagger2::SchemaValidator is deprecated in favor of JSON::Validator::OpenAPI at /home/sand/src/perl/repoperls/installed-perls/perl/v5.22.2/f7bf/lib/site_perl/5.22.2/Swagger2/SchemaValidator.pm line 3.
t/basic.t ............... ok
# Swagger2::SchemaValidator is deprecated in favor of JSON::Validator::OpenAPI at /home/sand/src/perl/repoperls/installed-perls/perl/v5.22.2/f7bf/lib/site_perl/5.22.2/Swagger2/SchemaValidator.pm line 3.
t/validate_requests.t ... ok
# Swagger2::SchemaValidator is deprecated in favor of JSON::Validator::OpenAPI at /home/sand/src/perl/repoperls/installed-perls/perl/v5.22.2/f7bf/lib/site_perl/5.22.2/Swagger2/SchemaValidator.pm line 3.
t/validate_responses.t .. ok
# Swagger2::SchemaValidator is deprecated in favor of JSON::Validator::OpenAPI at /home/sand/src/perl/repoperls/installed-perls/perl/v5.22.2/f7bf/lib/site_perl/5.22.2/Swagger2/SchemaValidator.pm line 3.
t/validation.t .......... ok
All tests successful.
Files=5, Tests=20, 4 wallclock secs ( 0.02 usr 0.02 sys + 1.94 cusr 0.18 csys = 2.16 CPU)
Result: PASS
------------------------------
PREREQUISITES
------------------------------
Prerequisite modules loaded:
requires:
Module Need Have
------------------------- ----------- ----------
Dancer2 0.162000_01 0.204001
Dancer2::Plugin 0 0.204001
Module::Runtime 0 0.014
perl 5.008000 5.022002
strict 0 1.09
Swagger2 0.63 0.86
Swagger2::SchemaValidator 0 0
warnings 0 1.34
build_requires:
Module Need Have
------------------------- ----------- ----------
Dancer2 0.162000_01 0.204001
ExtUtils::MakeMaker 0 7.24
File::Spec 0 3.62
Hash::MultiValue 0 0.16
HTTP::Request::Common 0 6.11
Plack::Test 0 0
Test::MockObject 0 1.20150527
Test::More 0 1.302064
Test::Most 0 0.35
Test::Requires 0 0.10
configure_requires:
Module Need Have
------------------------- ----------- ----------
ExtUtils::MakeMaker 0 7.24
------------------------------
ENVIRONMENT AND OTHER CONTEXT
------------------------------
Environment variables:
AUTOMATED_TESTING = 1
LANG = en_US.UTF-8
LANGUAGE = en_US:en
PATH = /home/sand/bin:/usr/local/bin:/usr/bin:/bin:/usr/games:/usr/local/perl/bin:/usr/X11/bin:/sbin:/usr/sbin
PERL5LIB =
PERL5OPT =
PERL5_CPANPLUS_IS_RUNNING = 31207
PERL5_CPAN_IS_RUNNING = 31207
PERL_CANARY_STABILITY_NOPROMPT = 1
PERL_MM_USE_DEFAULT = 1
SHELL = /usr/bin/zsh
TERM = screen
Perl special variables (and OS-specific diagnostics, for MSWin32):
$^X = /home/sand/src/perl/repoperls/installed-perls/perl/v5.22.2/f7bf/bin/perl
$UID/$EUID = 1005 / 1005
$GID = 1005 1005
$EGID = 1005 1005
Perl module toolchain versions installed:
Module Have
------------------- --------
CPAN 2.15
CPAN::Meta 2.150010
Cwd 3.62
ExtUtils::CBuilder 0.280224
ExtUtils::Command 7.24
ExtUtils::Install 2.04
ExtUtils::MakeMaker 7.24
ExtUtils::Manifest 1.70
ExtUtils::ParseXS 3.28
File::Spec 3.62
JSON 2.90
JSON::PP 2.27400
Module::Build 0.4220
Module::Signature 0.81
Parse::CPAN::Meta 2.150010
Test::Harness 3.36
Test::More 1.302064
YAML 1.18
YAML::Syck 1.29
version 0.9917
--
Summary of my perl5 (revision 5 version 22 subversion 2) configuration:
Commit id: 9cbffb38735712e3a34e6f537892b6ef06fb815f
Platform:
osname=linux, osvers=4.7.0-1-amd64, archname=x86_64-linux-thread-multi
uname='linux k83 4.7.0-1-amd64 #1 smp debian 4.7.2-1 (2016-08-28) x86_64 gnulinux '
config_args='-Dprefix=/home/sand/src/perl/repoperls/installed-perls/perl/v5.22.2/f7bf -Dmyhostname=k83 -Dinstallusrbinperl=n -Uversiononly -Dusedevel -des -Ui_db -Dlibswanted=cl pthread socket inet nsl gdbm dbm malloc dl ld sun m crypt sec util c cposix posix ucb BSD gdbm_compat -Duseithreads -Uuselongdouble -DDEBUGGING=-g'
hint=recommended, useposix=true, d_sigaction=define
useithreads=define, usemultiplicity=define
use64bitint=define, use64bitall=define, uselongdouble=undef
usemymalloc=n, bincompat5005=undef
Compiler:
cc='cc', ccflags ='-D_REENTRANT -D_GNU_SOURCE -fwrapv -fno-strict-aliasing -pipe -fstack-protector-strong -I/usr/local/include -D_LARGEFILE_SOURCE -D_FILE_OFFSET_BITS=64',
optimize='-O2 -g',
cppflags='-D_REENTRANT -D_GNU_SOURCE -fwrapv -fno-strict-aliasing -pipe -fstack-protector-strong -I/usr/local/include'
ccversion='', gccversion='6.2.0 20160830', gccosandvers=''
intsize=4, longsize=8, ptrsize=8, doublesize=8, byteorder=12345678, doublekind=3
d_longlong=define, longlongsize=8, d_longdbl=define, longdblsize=16, longdblkind=3
ivtype='long', ivsize=8, nvtype='double', nvsize=8, Off_t='off_t', lseeksize=8
alignbytes=8, prototype=define
Linker and Libraries:
ld='cc', ldflags =' -fstack-protector-strong -L/usr/local/lib'
libpth=/usr/local/lib /usr/lib/gcc/x86_64-linux-gnu/6/include-fixed /usr/include/x86_64-linux-gnu /usr/lib /lib/x86_64-linux-gnu /lib/../lib /usr/lib/x86_64-linux-gnu /usr/lib/../lib /lib
libs=-lpthread -lnsl -lgdbm -ldl -lm -lcrypt -lutil -lc -lgdbm_compat
perllibs=-lpthread -lnsl -ldl -lm -lcrypt -lutil -lc
libc=libc-2.24.so, so=so, useshrplib=false, libperl=libperl.a
gnulibc_version='2.24'
Dynamic Linking:
dlsrc=dl_dlopen.xs, dlext=so, d_dlsymun=undef, ccdlflags='-Wl,-E'
cccdlflags='-fPIC', lddlflags='-shared -O2 -g -L/usr/local/lib -fstack-protector-strong'
Characteristics of this binary (from libperl):
Compile-time options: HAS_TIMES MULTIPLICITY PERLIO_LAYERS
PERL_DONT_CREATE_GVSV
PERL_HASH_FUNC_ONE_AT_A_TIME_HARD
PERL_IMPLICIT_CONTEXT PERL_MALLOC_WRAP
PERL_NEW_COPY_ON_WRITE PERL_PRESERVE_IVUV
PERL_USE_DEVEL USE_64_BIT_ALL USE_64_BIT_INT
USE_ITHREADS USE_LARGE_FILES USE_LOCALE
USE_LOCALE_COLLATE USE_LOCALE_CTYPE
USE_LOCALE_NUMERIC USE_LOCALE_TIME USE_PERLIO
USE_PERL_ATOF USE_REENTRANT_API
Built under linux
Compiled at Sep 4 2016 22:53:37
%ENV:
PERL5LIB=""
PERL5OPT=""
PERL5_CPANPLUS_IS_RUNNING="31207"
PERL5_CPAN_IS_RUNNING="31207"
PERL_CANARY_STABILITY_NOPROMPT="1"
PERL_MM_USE_DEFAULT="1"
@INC:
/home/sand/src/perl/repoperls/installed-perls/perl/v5.22.2/f7bf/lib/site_perl/5.22.2/x86_64-linux-thread-multi
/home/sand/src/perl/repoperls/installed-perls/perl/v5.22.2/f7bf/lib/site_perl/5.22.2
/home/sand/src/perl/repoperls/installed-perls/perl/v5.22.2/f7bf/lib/5.22.2/x86_64-linux-thread-multi
/home/sand/src/perl/repoperls/installed-perls/perl/v5.22.2/f7bf/lib/5.22.2
.