Back
From: metabase:user:9820532a-708b-1014-9a05-b18a96298da1
Subject: PASS Yahoo-Marketing-7.03 v5.15.2 GNU/Linux
Date: 2011-08-28T12:44:08Z
This distribution has been tested as part of the CPAN Testers
project, supporting the Perl programming language. See
http://wiki.cpantesters.org/ for more information or email
questions to cpan-testers-discuss@perl.org
--
Dear Johnny Shen,
This is a computer-generated report for Yahoo-Marketing-7.03
on perl 5.15.2, created by CPAN-Reporter-1.2002.
Thank you for uploading your work to CPAN. Congratulations!
All tests were successful.
Sections of this report:
* Tester comments
* Program output
* Prerequisites
* Environment and other context
------------------------------
TESTER COMMENTS
------------------------------
Additional comments from tester:
this report is from an automated smoke testing program
and was not reviewed by a human for accuracy
------------------------------
PROGRAM OUTPUT
------------------------------
Output from './Build test':
NOTE: we can run tests that will connect to Yahoo! Marketing's
EWS, verifying your login credentials and more completely testing
that this package is performing correctly. If you would like to
run these tests, please use perl Build posttest.
# Testing Yahoo::Marketing 7.03, Perl 5.015002, /home/test/perl5/perlbrew/perls/perl-5.15.2/bin/perl5.15.2
t/00-load.t .................................... ok
t/01-instantiate_services.t .................... ok
t/02-cache.t ................................... ok
t/account.t .................................... ok
t/account_aggregate.t .......................... ok
t/account_balance.t ............................ ok
t/account_carrier_config.t ..................... ok
t/account_carrier_setting.t .................... ok
t/account_service.t ............................ ok
t/ad.t ......................................... ok
t/ad_carrier_config.t .......................... ok
t/ad_carrier_editorial_reason_info.t ........... ok
t/ad_carrier_editorial_reasons.t ............... ok
t/ad_carrier_setting.t ......................... ok
t/ad_editorial_reasons.t ....................... ok
t/ad_group.t ................................... ok
t/ad_group_carrier_config.t .................... ok
t/ad_group_carrier_setting.t ................... ok
t/ad_group_forecast_request_data.t ............. ok
t/ad_group_optimization_guidelines.t ........... ok
t/ad_group_optimization_guidelines_response.t .. ok
t/ad_group_response.t .......................... ok
t/ad_group_service.t ........................... ok
t/ad_response.t ................................ ok
t/ad_service.t ................................. ok
t/address.t .................................... ok
t/age_range.t .................................. ok
t/age_target.t ................................. ok
t/ambiguous_geo_match.t ........................ ok
t/api_fault.t .................................. ok
t/authorization.t .............................. ok
t/basic_report_request.t ....................... ok
t/basic_report_service.t ....................... ok
t/basic_response.t ............................. ok
t/bid_information.t ............................ ok
t/bid_information_request.t .................... ok
t/bid_information_service.t .................... ok
t/bid_update_info.t ............................ ok
t/billing_user.t ............................... ok
t/boilerplate.t ................................ ok
t/bucket_type.t ................................ ok
t/budgeting_service.t .......................... ok
t/bulk_download_status_info.t .................. ok
t/bulk_download_status_response.t .............. ok
t/bulk_service.t ............................... ok
t/bulk_upload_status_response.t ................ ok
t/bulk_upload_token_url_response.t ............. ok
t/campaign.t ................................... ok
t/campaign_carrier_config.t .................... ok
t/campaign_carrier_setting.t ................... ok
t/campaign_optimization_guidelines.t ........... ok
t/campaign_optimization_guidelines_response.t .. ok
t/campaign_response.t .......................... ok
t/campaign_service.t ........................... ok
t/capability.t ................................. ok
t/carrier.t .................................... ok
t/carrier_bid_information.t .................... ok
t/carrier_bid_information_request.t ............ ok
t/combined_account_status.t .................... ok
t/company.t .................................... ok
t/company_service.t ............................ ok
t/credit_card_info.t ........................... ok
t/day_part.t ................................... ok
t/day_parting_target.t ......................... ok
t/day_parting_targeting.t ...................... ok
t/demographic_targeting.t ...................... ok
t/download_file.t .............................. ok
t/error.t ...................................... ok
t/error_type.t ................................. ok
t/example.t .................................... ok
t/excluded_word.t .............................. ok
t/excluded_word_response.t ..................... ok
t/excluded_words_service.t ..................... ok
t/file_output_format.t ......................... ok
t/forecast_click_data.t ........................ ok
t/forecast_creative.t .......................... ok
t/forecast_impression_data.t ................... ok
t/forecast_keyword.t ........................... ok
t/forecast_keyword_batch.t ..................... ok
t/forecast_keyword_batch_response.t ............ ok
t/forecast_keyword_batch_response_data.t ....... ok
t/forecast_keyword_response.t .................. ok
t/forecast_request_data.t ...................... ok
t/forecast_response.t .......................... ok
t/forecast_response_data.t ..................... ok
t/forecast_service.t ........................... ok
t/gender_target.t .............................. ok
t/geo_location.t ............................... ok
t/geo_location_probability.t ................... ok
t/geo_location_probability_set.t ............... ok
t/geo_target.t ................................. ok
t/geographical_dictionary_service.t ............ ok
t/historical_keyword.t ......................... ok
t/historical_keyword_response.t ................ ok
t/historical_keyword_response_data.t ........... ok
t/historical_request_data.t .................... ok
t/historical_response_data.t ................... ok
t/keyword.t .................................... ok
t/keyword_carrier_config.t ..................... ok
t/keyword_carrier_editorial_reason_info.t ...... ok
t/keyword_carrier_editorial_reasons.t .......... ok
t/keyword_carrier_setting.t .................... ok
t/keyword_editorial_reasons.t .................. ok
t/keyword_forecast_request_data.t .............. ok
t/keyword_info_request_type.t .................. ok
t/keyword_info_response_type.t ................. ok
t/keyword_info_type.t .......................... ok
t/keyword_optimization_guidelines.t ............ ok
t/keyword_optimization_guidelines_response.t ... ok
t/keyword_participation_status.t ............... ok
t/keyword_rejection_reasons.t .................. ok
t/keyword_research_service.t ................... ok
t/keyword_response.t ........................... ok
t/keyword_service.t ............................ ok
t/master_account.t ............................. ok
t/master_account_service.t ..................... ok
t/mobile_dictionary_service.t .................. ok
t/network.t .................................... ok
t/network_distribution.t ....................... ok
t/network_target.t ............................. ok
t/opt_in_ad_group_response.t ................... ok
t/opt_in_campaign_response.t ................... ok
t/opt_in_status.t .............................. ok
t/page_related_keyword_request_type.t .......... ok
t/payment_info.t ............................... ok
t/payment_method_info.t ........................ ok
t/pod-coverage.t ............................... ok
t/pod.t ........................................ ok
t/preferences.t ................................ ok
t/process_status.t ............................. ok
t/range_definition_request_type.t .............. ok
t/range_definition_response_type.t ............. ok
t/range_definition_type.t ...................... ok
t/range_value_type.t ........................... ok
t/related_keyword_request_type.t ............... ok
t/related_keyword_response_type.t .............. ok
t/related_keyword_type.t ....................... ok
t/report_download_info.t ....................... ok
t/report_info.t ................................ ok
t/response.t ................................... ok
t/response_status_type.t ....................... ok
t/role.t ....................................... ok
t/service.t .................................... ok
t/set_geographic_location_response.t ........... ok
t/spend_limit.t ................................ ok
t/sponsored_search_min_bid_request.t ........... ok
t/sub_phrase_keyword_request_type.t ............ ok
t/summary.t .................................... ok
t/tactic_spend_cap.t ........................... ok
t/targeting_attribute.t ........................ ok
t/targeting_attribute_descriptor.t ............. ok
t/targeting_converter_service.t ................ ok
t/targeting_dictionary_service.t ............... ok
t/targeting_premium.t .......................... ok
t/targeting_profile.t .......................... ok
t/targeting_service.t .......................... ok
t/targeting_type.t ............................. ok
t/token.t ...................................... ok
t/update_for_ad.t .............................. ok
t/update_for_ad_carrier_config.t ............... ok
t/update_for_ad_carrier_setting.t .............. ok
t/update_for_keyword.t ......................... ok
t/update_for_keyword_carrier_config.t .......... ok
t/update_for_keyword_carrier_setting.t ......... ok
t/user.t ....................................... ok
t/user_authorization.t ......................... ok
t/user_management_service.t .................... ok
t/vault_service.t .............................. ok
t/warning.t .................................... ok
t/z_cleanup.t .................................. ok
All tests successful.
Files=170, Tests=1364, 50 wallclock secs ( 0.58 usr 0.30 sys + 39.24 cusr 5.76 csys = 45.88 CPU)
Result: PASS
------------------------------
PREREQUISITES
------------------------------
Prerequisite modules loaded:
requires:
Module Need Have
------------------------- ------ --------
Cache::Cache 1.01 1.06
Class::Accessor::Chained 0.01 0.01
Crypt::SSLeay 0.40 0.58
DateTime::Format::ISO8601 0 0.07
DateTime::Format::W3CDTF 0 0.06
Error 0.15 0.17016
Module::Build 0.26 0.39_01
perl v5.6.1 5.015002
Scalar::Util 1.01 1.23
! SOAP::Lite 0.66 broken
Test::Class 0.10 0.36
Test::More 0 0.98
Test::Simple 0.60 0.98
XML::XPath 1.10 1.13
YAML 0.01 0.73
build_requires:
Module Need Have
------------------------- ------ --------
Module::Build 0.26 0.39_01
Test::More 0 0.98
YAML 0.01 0.73
------------------------------
ENVIRONMENT AND OTHER CONTEXT
------------------------------
Environment variables:
AUTOMATED_TESTING = 1
LANG = C
LC_ALL = C
PATH = /home/test/bin:/home/test/perl5/perlbrew/bin:/home/test/perl5/perlbrew/perls/perl-5.15.2/bin:~/bin:/usr/bin:/bin
PATH_WITHOUT_PERLBREW = ~/bin:/usr/bin:/bin
PERL5LIB =
PERL5OPT =
PERL5_CPANPLUS_IS_RUNNING = 1974
PERL5_CPAN_IS_RUNNING = 1974
PERL5_CPAN_IS_RUNNING_IN_RECURSION = 5819,1974
PERLBREW_HOME = /home/test/.perlbrew
PERLBREW_PATH = /home/test/perl5/perlbrew/bin:/home/test/perl5/perlbrew/perls/perl-5.15.2/bin
PERLBREW_PERL = perl-5.15.2
PERLBREW_ROOT = /home/test/perl5/perlbrew
PERLBREW_VERSION = 0.28
PERL_CR_SMOKER_CURRENT = Yahoo-Marketing-APT-6.01
PERL_EXTUTILS_AUTOINSTALL = --defaultdeps
PERL_MM_USE_DEFAULT = 1
SHELL = /bin/bash
TERM = linux
Perl special variables (and OS-specific diagnostics, for MSWin32):
$^X = /home/test/perl5/perlbrew/perls/perl-5.15.2/bin/perl5.15.2
$UID/$EUID = 1001 / 1001
$GID = 1001 1001
$EGID = 1001 1001
Perl module toolchain versions installed:
Module Have
------------------- --------
CPAN 1.9800
CPAN::Meta 2.112150
Cwd 3.33
ExtUtils::CBuilder 0.280204
ExtUtils::Command 1.17
ExtUtils::Install 1.57
ExtUtils::MakeMaker 6.59
ExtUtils::Manifest 1.60
ExtUtils::ParseXS 3.04
File::Spec 3.33
JSON 2.27
JSON::PP 2.27008
Module::Build 0.39_01
Module::Signature 0.68
Parse::CPAN::Meta 1.4401
Test::Harness 3.23
Test::More 0.98
YAML 0.73
YAML::Syck n/a
version 0.94
--
Summary of my perl5 (revision 5 version 15 subversion 2) configuration:
Platform:
osname=linux, osvers=2.6.35-28-generic, archname=x86_64-linux
uname='linux zippy 2.6.35-28-generic #50-ubuntu smp fri mar 18 18:42:20 utc 2011 x86_64 gnulinux '
config_args='-de -Dprefix=/home/test/perl5/perlbrew/perls/perl-5.15.2 -Dusedevel'
hint=recommended, useposix=true, d_sigaction=define
useithreads=undef, usemultiplicity=undef
useperlio=define, d_sfio=undef, uselargefiles=define, usesocks=undef
use64bitint=define, use64bitall=define, uselongdouble=undef
usemymalloc=n, bincompat5005=undef
Compiler:
cc='cc', ccflags ='-fno-strict-aliasing -pipe -fstack-protector -I/usr/local/include -D_LARGEFILE_SOURCE -D_FILE_OFFSET_BITS=64',
optimize='-O2',
cppflags='-fno-strict-aliasing -pipe -fstack-protector -I/usr/local/include'
ccversion='', gccversion='4.4.5', gccosandvers=''
intsize=4, longsize=8, ptrsize=8, doublesize=8, byteorder=12345678
d_longlong=define, longlongsize=8, d_longdbl=define, longdblsize=16
ivtype='long', ivsize=8, nvtype='double', nvsize=8, Off_t='off_t', lseeksize=8
alignbytes=8, prototype=define
Linker and Libraries:
ld='cc', ldflags =' -fstack-protector -L/usr/local/lib'
libpth=/usr/local/lib /lib/../lib /usr/lib/../lib /lib /usr/lib /usr/lib/x86_64-linux-gnu /lib64 /usr/lib64
libs=-lnsl -ldl -lm -lcrypt -lutil -lc
perllibs=-lnsl -ldl -lm -lcrypt -lutil -lc
libc=/lib/libc-2.12.1.so, so=so, useshrplib=false, libperl=libperl.a
gnulibc_version='2.12.1'
Dynamic Linking:
dlsrc=dl_dlopen.xs, dlext=so, d_dlsymun=undef, ccdlflags='-Wl,-E'
cccdlflags='-fPIC', lddlflags='-shared -O2 -L/usr/local/lib -fstack-protector'
Characteristics of this binary (from libperl):
Compile-time options: HAS_TIMES PERLIO_LAYERS PERL_DONT_CREATE_GVSV
PERL_MALLOC_WRAP PERL_PRESERVE_IVUV PERL_USE_DEVEL
USE_64_BIT_ALL USE_64_BIT_INT USE_LARGE_FILES
USE_LOCALE USE_LOCALE_COLLATE USE_LOCALE_CTYPE
USE_LOCALE_NUMERIC USE_PERLIO USE_PERL_ATOF
Built under linux
Compiled at Aug 21 2011 01:19:24
%ENV:
PERL5LIB=""
PERL5OPT=""
PERL5_CPANPLUS_IS_RUNNING="1974"
PERL5_CPAN_IS_RUNNING="1974"
PERL5_CPAN_IS_RUNNING_IN_RECURSION="5819,1974"
PERLBREW_HOME="/home/test/.perlbrew"
PERLBREW_PATH="/home/test/perl5/perlbrew/bin:/home/test/perl5/perlbrew/perls/perl-5.15.2/bin"
PERLBREW_PERL="perl-5.15.2"
PERLBREW_ROOT="/home/test/perl5/perlbrew"
PERLBREW_VERSION="0.28"
PERL_CR_SMOKER_CURRENT="Yahoo-Marketing-APT-6.01"
PERL_EXTUTILS_AUTOINSTALL="--defaultdeps"
PERL_MM_USE_DEFAULT="1"
@INC:
/home/test/perl5/perlbrew/perls/perl-5.15.2/lib/site_perl/5.15.2/x86_64-linux
/home/test/perl5/perlbrew/perls/perl-5.15.2/lib/site_perl/5.15.2
/home/test/perl5/perlbrew/perls/perl-5.15.2/lib/5.15.2/x86_64-linux
/home/test/perl5/perlbrew/perls/perl-5.15.2/lib/5.15.2
.