CGI-Cache v1.4214 Perl 5 v5.18.4 x86_64-linux

Status
Pass
From
Oleg Pronin (SYBER)
Dist
CGI-Cache v1.4214
Platform
Perl 5 v5.18.4 x86_64-linux
Date
2019-08-06 20:26:07
ID
6bcf41b6-b888-11e9-a70e-e9662958ff60
This distribution has been tested as part of the CPAN Testers
project, supporting the Perl programming language.  See
http://wiki.cpantesters.org/ for more information or email
questions to cpan-testers-discuss@perl.org


--
Dear David Coppit,

This is a computer-generated report for CGI-Cache-1.4214
on perl 5.18.4, created by CPAN-Reporter-1.2018.

Thank you for uploading your work to CPAN.  Congratulations!
All tests were successful.

Sections of this report:

    * Tester comments
    * Program output
    * Prerequisites
    * Environment and other context

------------------------------
TESTER COMMENTS
------------------------------

Additional comments from tester:

this report is from an automated smoke testing program
and was not reviewed by a human for accuracy

------------------------------
PROGRAM OUTPUT
------------------------------

Output from '/usr/bin/make test':

PERL_DL_NONLAZY=1 "/home/syber/perl5/perlbrew/perls/5.18.4/bin/perl" "-MExtUtils::Command::MM" "-MTest::Harness" "-e" "undef *Test::Harness::Switches; test_harness(1, 'blib/lib', 'blib/arch')" t/*.t
t/000_standard__compile.t ....... 
1..1
ok 1 - Compile test for blib/lib/CGI/Cache.pm
ok
t/000_standard__perl_critic.t ... skipped: Author test. Set $ENV{TEST_AUTHOR} to a true value to run.
t/000_standard__pod.t ........... 
1..1
ok 1 - POD test for blib/lib/CGI/Cache.pm
ok
t/000_standard__pod_coverage.t .. 
1..1
ok 1 - Pod coverage on CGI::Cache
ok
t/basic.t ....................... 
1..11
ok 1 - use CGI::Cache;
ok 2 - No errors initializing with default values
ok 3 - Return value after initializing with default values
ok 4 - No errors initializing with non-default values
ok 5 - Return value after initializing with non-default values
ok 6 - No errors setting a simple key
ok 7 - Return value after setting a simple key
ok 8 - No errors setting a complex key
ok 9 - Return value after setting a complex key
ok 10 - Empty cache directory until something cached
Cached output
ok 11 - Cache directory after something cached
ok
t/buffer.t ...................... 
1..6
ok 1 - read buffer(): Computing the right output
ok 2 - read buffer(): Computing the right errors
ok 3 - read buffer(): Correct cached data
ok 4 - write buffer(): Computing the right output
ok 5 - write buffer(): Computing the right errors
ok 6 - write buffer(): Correct cached data
ok
t/cgi_carp.t .................... 
1..7
ok 1 - CGI::Carp not caching with default attributes: Computing the right output
ok 2 - CGI::Carp not caching with default attributes: Computing the right errors
ok 3 - CGI::Carp not caching with default attributes: Undefined cached data
ok 4 - Empty cache directory until something cached
ok 5 - CGI::Carp caching with default attributes: Computing the right output
ok 6 - CGI::Carp caching with default attributes: Computing the right errors
ok 7 - CGI::Carp caching with default attributes: Correct cached data
ok
t/disabled_ouput.t .............. 
1..3
ok 1 - Disabled output: Computing the right output
ok 2 - Disabled output: Computing the right errors
ok 3 - Disabled output: Correct cached data
ok
t/invalidate_cache_entry.t ...... 
1..6
ok 1 - invalidate_cache_entry() setup: Computing the right output
ok 2 - invalidate_cache_entry() setup: Computing the right errors
ok 3 - invalidate_cache_entry() setup: Correct cached data
ok 4 - invalidate_cache_entry() operation: Computing the right output
ok 5 - invalidate_cache_entry() operation: Computing the right errors
ok 6 - invalidate_cache_entry() operation: Correct cached data
ok
t/non-caching.t ................. 
1..15
ok 1 - die() prevents caching: Computing the right output
ok 2 - die() prevents caching: Computing the right errors
ok 3 - die() prevents caching: Undefined cached data
ok 4 - Empty cache directory until something cached
ok 5 - Print to STDERR prevents caching: Computing the right output
ok 6 - Print to STDERR prevents caching: Computing the right errors
ok 7 - Print to STDERR prevents caching: Undefined cached data
ok 8 - Empty cache directory until something cached
ok 9 - redirected die() prevents caching: Computing the right output
ok 10 - redirected die() prevents caching: Computing the right errors
ok 11 - redirected die() prevents caching: Undefined cached data
ok 12 - Empty cache directory until something cached
ok 13 - die() (with filehandles) prevents caching: Computing the right output
ok 14 - die() (with filehandles) prevents caching: Computing the right errors
ok 15 - die() (with filehandles) prevents caching: Undefined cached data
ok
t/pause_continue.t .............. 
1..6
ok 1 - pause() and continue(): Computing the right output
ok 2 - pause() and continue(): Computing the right errors
ok 3 - pause() and continue(): Correct cached data
ok 4 - pause() and continue() with filehandles: Computing the right output
ok 5 - pause() and continue() with filehandles: Computing the right errors
ok 6 - pause() and continue() with filehandles: Correct cached data
ok
t/stop.t ........................ 
1..6
ok 1 - stop(): Computing the right output
ok 2 - stop(): Computing the right errors
ok 3 - stop(): Correct cached data
ok 4 - stop() with filehandles: Computing the right output
ok 5 - stop() with filehandles: Computing the right errors
ok 6 - stop() with filehandles: Correct cached data
ok
t/user_specified_filehandle.t ... 
1..6
ok 1 - Output to non-STDOUT filehandle: Computing the right output
ok 2 - Output to non-STDOUT filehandle: Computing the right errors
ok 3 - Output to non-STDOUT filehandle: Correct cached data
ok 4 - Monitor non-STDOUT filehandle: Computing the right output
ok 5 - Monitor non-STDOUT filehandle: Computing the right errors
ok 6 - Monitor non-STDOUT filehandle: Correct cached data
ok
All tests successful.
Files=13, Tests=69,  6 wallclock secs ( 0.05 usr  0.00 sys +  1.44 cusr  0.20 csys =  1.69 CPU)
Result: PASS

------------------------------
PREREQUISITES
------------------------------

Prerequisite modules loaded:

requires:

    Module              Need  Have    
    ------------------- ----- --------
    Cache::Cache        0     1.08    
    File::Path          0     2.16    
    File::Spec          0     3.75    
    perl                5.005 5.018004
    Storable            0     3.15_04 
    Tie::Restore        0     0.11    

build_requires:

    Module              Need  Have    
    ------------------- ----- --------
    Error               0     0.17027 
    ExtUtils::MakeMaker 6.36  7.37_03 
    File::Slurper       0     0.012   
    Test::Compile       0     v2.2.2  
    Test::More          0     1.302164
    UNIVERSAL::require  0     0.18    
    URI::Escape         0     3.31    

configure_requires:

    Module              Need  Have    
    ------------------- ----- --------
    ExtUtils::MakeMaker 6.36  7.37_03 
    URI::Escape         0     3.31    


------------------------------
ENVIRONMENT AND OTHER CONTEXT
------------------------------

Environment variables:

    AUTOMATED_TESTING = 1
    LC_COLLATE = ru_RU.utf8
    LC_CTYPE = ru_RU.utf8
    PATH = /home/syber/perl5/perlbrew/bin:/home/syber/perl5/perlbrew/perls/5.18.4/bin:/usr/local/bin:/usr/bin:/bin:/usr/local/games:/usr/games
    PERL5LIB = 
    PERL5OPT = 
    PERL5_CPANPLUS_IS_RUNNING = 2977
    PERL5_CPAN_IS_RUNNING = 2977
    PERL5_CPAN_IS_RUNNING_IN_RECURSION = 24915,2977
    PERLBREW_HOME = /home/syber/.perlbrew
    PERLBREW_MANPATH = /home/syber/perl5/perlbrew/perls/5.18.4/man
    PERLBREW_PATH = /home/syber/perl5/perlbrew/bin:/home/syber/perl5/perlbrew/perls/5.18.4/bin
    PERLBREW_PERL = 5.18.4
    PERLBREW_ROOT = /home/syber/perl5/perlbrew
    PERLBREW_SHELLRC_VERSION = 0.86
    PERLBREW_VERSION = 0.86
    PERL_CR_SMOKER_CURRENT = CGI-Cache-1.4214
    PERL_EXTUTILS_AUTOINSTALL = --defaultdeps
    PERL_MM_USE_DEFAULT = 1
    PERL_USE_UNSAFE_INC = 1
    SHELL = /bin/bash
    TERM = screen

Perl special variables (and OS-specific diagnostics, for MSWin32):

    $^X = /home/syber/perl5/perlbrew/perls/5.18.4/bin/perl
    $UID/$EUID = 1003 / 1003
    $GID = 1003 11 1003
    $EGID = 1003 11 1003

Perl module toolchain versions installed:

    Module              Have     
    ------------------- ---------
    CPAN                2.27     
    CPAN::Meta          2.150010 
    Cwd                 3.75     
    ExtUtils::CBuilder  0.280231 
    ExtUtils::Command   7.37_03  
    ExtUtils::Install   2.14     
    ExtUtils::MakeMaker 7.37_03  
    ExtUtils::Manifest  1.72     
    ExtUtils::ParseXS   3.35     
    File::Spec          3.75     
    JSON                4.02     
    JSON::PP            4.04     
    Module::Build       0.42_30  
    Module::Signature   0.83     
    Parse::CPAN::Meta   2.150010 
    Test::Harness       3.42     
    Test::More          1.302164 
    YAML                1.29     
    YAML::Syck          1.31     
    version             0.9924_02


--

Summary of my perl5 (revision 5 version 18 subversion 4) configuration:
   
  Platform:
    osname=linux, osvers=4.9.0-8-amd64, archname=x86_64-linux
    uname='linux dexter.crazypanda.ru 4.9.0-8-amd64 #1 smp debian 4.9.110-3+deb9u6 (2018-10-08) x86_64 gnulinux '
    config_args='-de -Dprefix=/home/syber/perl5/perlbrew/perls/5.18.4 -Aeval:scriptdir=/home/syber/perl5/perlbrew/perls/5.18.4/bin'
    hint=recommended, useposix=true, d_sigaction=define
    useithreads=undef, usemultiplicity=undef
    useperlio=define, d_sfio=undef, uselargefiles=define, usesocks=undef
    use64bitint=define, use64bitall=define, uselongdouble=undef
    usemymalloc=n, bincompat5005=undef
  Compiler:
    cc='cc', ccflags ='-fwrapv -fno-strict-aliasing -pipe -fstack-protector -I/usr/local/include -D_LARGEFILE_SOURCE -D_FILE_OFFSET_BITS=64',
    optimize='-O2',
    cppflags='-fwrapv -fno-strict-aliasing -pipe -fstack-protector -I/usr/local/include'
    ccversion='', gccversion='6.3.0 20170516', gccosandvers=''
    intsize=4, longsize=8, ptrsize=8, doublesize=8, byteorder=12345678
    d_longlong=define, longlongsize=8, d_longdbl=define, longdblsize=16
    ivtype='long', ivsize=8, nvtype='double', nvsize=8, Off_t='off_t', lseeksize=8
    alignbytes=8, prototype=define
  Linker and Libraries:
    ld='cc', ldflags =' -fstack-protector -L/usr/local/lib'
    libpth=/usr/local/lib /lib/x86_64-linux-gnu /lib/../lib /usr/lib/x86_64-linux-gnu /usr/lib/../lib /lib /usr/lib
    libs=-lnsl -ldl -lm -lcrypt -lutil -lc
    perllibs=-lnsl -ldl -lm -lcrypt -lutil -lc
    libc=libc-2.24.so, so=so, useshrplib=false, libperl=libperl.a
    gnulibc_version='2.24'
  Dynamic Linking:
    dlsrc=dl_dlopen.xs, dlext=so, d_dlsymun=undef, ccdlflags='-Wl,-E'
    cccdlflags='-fPIC', lddlflags='-shared -O2 -L/usr/local/lib -fstack-protector'


Characteristics of this binary (from libperl): 
  Compile-time options: HAS_TIMES PERLIO_LAYERS PERL_DONT_CREATE_GVSV
                        PERL_HASH_FUNC_ONE_AT_A_TIME_HARD PERL_MALLOC_WRAP
                        PERL_PRESERVE_IVUV PERL_SAWAMPERSAND USE_64_BIT_ALL
                        USE_64_BIT_INT USE_LARGE_FILES USE_LOCALE
                        USE_LOCALE_COLLATE USE_LOCALE_CTYPE
                        USE_LOCALE_NUMERIC USE_PERLIO USE_PERL_ATOF
  Locally applied patches:
	Devel::PatchPerl 1.64
  Built under linux
  Compiled at Aug  5 2019 14:02:29
  %ENV:
    PERL5LIB=""
    PERL5OPT=""
    PERL5_CPANPLUS_IS_RUNNING="2977"
    PERL5_CPAN_IS_RUNNING="2977"
    PERL5_CPAN_IS_RUNNING_IN_RECURSION="24915,2977"
    PERLBREW_HOME="/home/syber/.perlbrew"
    PERLBREW_MANPATH="/home/syber/perl5/perlbrew/perls/5.18.4/man"
    PERLBREW_PATH="/home/syber/perl5/perlbrew/bin:/home/syber/perl5/perlbrew/perls/5.18.4/bin"
    PERLBREW_PERL="5.18.4"
    PERLBREW_ROOT="/home/syber/perl5/perlbrew"
    PERLBREW_SHELLRC_VERSION="0.86"
    PERLBREW_VERSION="0.86"
    PERL_CR_SMOKER_CURRENT="CGI-Cache-1.4214"
    PERL_EXTUTILS_AUTOINSTALL="--defaultdeps"
    PERL_MM_USE_DEFAULT="1"
    PERL_USE_UNSAFE_INC="1"
  @INC:
    /home/syber/perl5/perlbrew/perls/5.18.4/lib/site_perl/5.18.4/x86_64-linux
    /home/syber/perl5/perlbrew/perls/5.18.4/lib/site_perl/5.18.4
    /home/syber/perl5/perlbrew/perls/5.18.4/lib/5.18.4/x86_64-linux
    /home/syber/perl5/perlbrew/perls/5.18.4/lib/5.18.4
    .