Back
From: metabase:user:15c6debe-b638-11e6-8ec8-f42bcddd27ba
Subject: PASS CGI-Cache-1.4207 v5.25.7 GNU/Linux
Date: 2017-01-17T09:43:37Z
This distribution has been tested as part of the CPAN Testers
project, supporting the Perl programming language. See
http://wiki.cpantesters.org/ for more information or email
questions to cpan-testers-discuss@perl.org
--
Dear David Coppit,
This is a computer-generated report for CGI-Cache-1.4207
on perl 5.25.7, created by CPAN-Reporter-1.2018.
Thank you for uploading your work to CPAN. Congratulations!
All tests were successful.
Sections of this report:
* Tester comments
* Program output
* Prerequisites
* Environment and other context
------------------------------
TESTER COMMENTS
------------------------------
Additional comments from tester:
this report is from an automated smoke testing program
and was not reviewed by a human for accuracy
------------------------------
PROGRAM OUTPUT
------------------------------
Output from '/usr/bin/make test':
PERL_DL_NONLAZY=1 "/home/mb-5025007/perl5/perlbrew/perls/perl-5.25.7/bin/perl5.25.7" "-MExtUtils::Command::MM" "-MTest::Harness" "-e" "undef *Test::Harness::Switches; test_harness(1, 'blib/lib', 'blib/arch')" t/*.t
t/000_standard__compile.t .......
1..1
ok 1 - Compile test for blib/lib/CGI/Cache.pm
ok
t/000_standard__perl_critic.t ... skipped: Author test. Set $ENV{TEST_AUTHOR} to a true value to run.
t/000_standard__pod.t ........... skipped: Test::Pod required for testing POD
t/000_standard__pod_coverage.t .. skipped: Test::Pod::Coverage required for testing POD coverage
t/basic.t .......................
1..11
ok 1 - use CGI::Cache;
ok 2 - No errors initializing with default values
ok 3 - Return value after initializing with default values
ok 4 - No errors initializing with non-default values
ok 5 - Return value after initializing with non-default values
ok 6 - No errors setting a simple key
ok 7 - Return value after setting a simple key
ok 8 - No errors setting a complex key
ok 9 - Return value after setting a complex key
ok 10 - Empty cache directory until something cached
Cached output
ok 11 - Cache directory after something cached
ok
t/buffer.t ......................
1..6
ok 1 - read buffer(): Computing the right output
ok 2 - read buffer(): Computing the right errors
ok 3 - read buffer(): Correct cached data
ok 4 - write buffer(): Computing the right output
ok 5 - write buffer(): Computing the right errors
ok 6 - write buffer(): Correct cached data
ok
t/cgi_carp.t .................... skipped: CGI::Carp not installed
t/disabled_ouput.t ..............
1..3
ok 1 - Disabled output: Computing the right output
ok 2 - Disabled output: Computing the right errors
ok 3 - Disabled output: Correct cached data
ok
t/invalidate_cache_entry.t ......
1..6
ok 1 - invalidate_cache_entry() setup: Computing the right output
ok 2 - invalidate_cache_entry() setup: Computing the right errors
ok 3 - invalidate_cache_entry() setup: Correct cached data
ok 4 - invalidate_cache_entry() operation: Computing the right output
ok 5 - invalidate_cache_entry() operation: Computing the right errors
ok 6 - invalidate_cache_entry() operation: Correct cached data
ok
t/non-caching.t .................
1..15
ok 1 - die() prevents caching: Computing the right output
ok 2 - die() prevents caching: Computing the right errors
ok 3 - die() prevents caching: Undefined cached data
ok 4 - Empty cache directory until something cached
ok 5 - Print to STDERR prevents caching: Computing the right output
ok 6 - Print to STDERR prevents caching: Computing the right errors
ok 7 - Print to STDERR prevents caching: Undefined cached data
ok 8 - Empty cache directory until something cached
ok 9 - redirected die() prevents caching: Computing the right output
ok 10 - redirected die() prevents caching: Computing the right errors
ok 11 - redirected die() prevents caching: Undefined cached data
ok 12 - Empty cache directory until something cached
ok 13 - die() (with filehandles) prevents caching: Computing the right output
ok 14 - die() (with filehandles) prevents caching: Computing the right errors
ok 15 - die() (with filehandles) prevents caching: Undefined cached data
ok
t/pause_continue.t ..............
1..6
ok 1 - pause() and continue(): Computing the right output
ok 2 - pause() and continue(): Computing the right errors
ok 3 - pause() and continue(): Correct cached data
ok 4 - pause() and continue() with filehandles: Computing the right output
ok 5 - pause() and continue() with filehandles: Computing the right errors
ok 6 - pause() and continue() with filehandles: Correct cached data
ok
t/stop.t ........................
1..6
ok 1 - stop(): Computing the right output
ok 2 - stop(): Computing the right errors
ok 3 - stop(): Correct cached data
ok 4 - stop() with filehandles: Computing the right output
ok 5 - stop() with filehandles: Computing the right errors
ok 6 - stop() with filehandles: Correct cached data
ok
t/user_specified_filehandle.t ...
1..6
ok 1 - Output to non-STDOUT filehandle: Computing the right output
ok 2 - Output to non-STDOUT filehandle: Computing the right errors
ok 3 - Output to non-STDOUT filehandle: Correct cached data
ok 4 - Monitor non-STDOUT filehandle: Computing the right output
ok 5 - Monitor non-STDOUT filehandle: Computing the right errors
ok 6 - Monitor non-STDOUT filehandle: Correct cached data
ok
All tests successful.
Files=13, Tests=60, 6 wallclock secs ( 0.04 usr 0.00 sys + 1.22 cusr 0.14 csys = 1.40 CPU)
Result: PASS
------------------------------
PREREQUISITES
------------------------------
Prerequisite modules loaded:
requires:
Module Need Have
------------------- ----- --------
Cache::Cache 0 1.08
File::Path 0 2.12_01
File::Spec 0 3.66
perl 5.005 5.025007
Storable 0 2.59
Tie::Restore 0 0.11
build_requires:
Module Need Have
------------------- ----- --------
Error 0 0.17024
ExtUtils::MakeMaker 6.36 7.24
File::Slurp 0 9999.19
Test::Compile 0 v1.3.0
Test::More 0 1.302067
UNIVERSAL::require 0 0.18
URI::Escape 0 3.31
configure_requires:
Module Need Have
------------------- ----- --------
ExtUtils::MakeMaker 6.36 7.24
URI::Escape 0 3.31
------------------------------
ENVIRONMENT AND OTHER CONTEXT
------------------------------
Environment variables:
AUTOMATED_TESTING = 1
LANG = en_US.UTF-8
LANGUAGE = en_US:en
PATH = /home/mb-5025007/perl5/perlbrew/bin:/home/mb-5025007/perl5/perlbrew/perls/perl-5.25.7/bin:/usr/local/bin:/usr/bin:/bin:/usr/local/games:/usr/games:/opt/puppetlabs/bin
PERL5LIB = /home/mb-5025007/.cpan/build/Tie-Restore-0.11-0/blib/arch:/home/mb-5025007/.cpan/build/Tie-Restore-0.11-0/blib/lib:/home/mb-5025007/.cpan/build/Devel-CheckOS-1.79-0/blib/arch:/home/mb-5025007/.cpan/build/Devel-CheckOS-1.79-0/blib/lib:/home/mb-5025007/.cpan/build/Test-Compile-v1.3.0-0/blib/arch:/home/mb-5025007/.cpan/build/Test-Compile-v1.3.0-0/blib/lib:/home/mb-5025007/.cpan/build/UNIVERSAL-require-0.18-0/blib/arch:/home/mb-5025007/.cpan/build/UNIVERSAL-require-0.18-0/blib/lib:/home/mb-5025007/.cpan/build/Cache-Cache-1.08-0/blib/arch:/home/mb-5025007/.cpan/build/Cache-Cache-1.08-0/blib/lib:/home/mb-5025007/.cpan/build/File-Slurp-9999.19-0/blib/arch:/home/mb-5025007/.cpan/build/File-Slurp-9999.19-0/blib/lib:/home/mb-5025007/.cpan/build/Error-0.17024-0/blib/arch:/home/mb-5025007/.cpan/build/Error-0.17024-0/blib/lib:/home/mb-5025007/.cpan/build/Digest-SHA1-2.13-0/blib/arch:/home/mb-5025007/.cpan/build/Digest-SHA1-2.13-0/blib/lib
PERL5OPT =
PERL5_CPANPLUS_IS_RUNNING = 17560
PERL5_CPAN_IS_RUNNING = 17560
PERL5_CPAN_IS_RUNNING_IN_RECURSION = 3016,17560
PERLBREW_BASHRC_VERSION = 0.71
PERLBREW_HOME = /home/mb-5025007/.perlbrew
PERLBREW_MANPATH = /home/mb-5025007/perl5/perlbrew/perls/perl-5.25.7/man
PERLBREW_PATH = /home/mb-5025007/perl5/perlbrew/bin:/home/mb-5025007/perl5/perlbrew/perls/perl-5.25.7/bin
PERLBREW_PERL = perl-5.25.7
PERLBREW_ROOT = /home/mb-5025007/perl5/perlbrew
PERLBREW_VERSION = 0.71
PERL_CR_SMOKER_CURRENT = CGI-Cache-1.4207
PERL_EXTUTILS_AUTOINSTALL = --defaultdeps
PERL_MM_USE_DEFAULT = 1
SHELL = /bin/bash
TERM = screen
Perl special variables (and OS-specific diagnostics, for MSWin32):
$^X = /home/mb-5025007/perl5/perlbrew/perls/perl-5.25.7/bin/perl5.25.7
$UID/$EUID = 1002 / 1002
$GID = 1002 1002
$EGID = 1002 1002
Perl module toolchain versions installed:
Module Have
------------------- --------
CPAN 2.14_01
CPAN::Meta 2.150010
Cwd 3.66
ExtUtils::CBuilder 0.280225
ExtUtils::Command 7.24
ExtUtils::Install 2.04
ExtUtils::MakeMaker 7.24
ExtUtils::Manifest 1.70
ExtUtils::ParseXS 3.33
File::Spec 3.66
JSON n/a
JSON::PP 2.27400
Module::Build 0.4220
Module::Signature n/a
Parse::CPAN::Meta 2.150010
Test::Harness 3.36_01
Test::More 1.302067
YAML n/a
YAML::Syck n/a
version 0.9917
--
Summary of my perl5 (revision 5 version 25 subversion 7) configuration:
Platform:
osname=linux
osvers=3.16.0-4-amd64
archname=x86_64-linux
uname='linux smoker-linux 3.16.0-4-amd64 #1 smp debian 3.16.36-1+deb8u2 (2016-10-19) x86_64 gnulinux '
config_args='-de -Dprefix=/home/mb-5025007/perl5/perlbrew/perls/perl-5.25.7 -Dusedevel -Aeval:scriptdir=/home/mb-5025007/perl5/perlbrew/perls/perl-5.25.7/bin'
hint=recommended
useposix=true
d_sigaction=define
useithreads=undef
usemultiplicity=undef
use64bitint=define
use64bitall=define
uselongdouble=undef
usemymalloc=n
bincompat5005=undef
Compiler:
cc='cc'
ccflags ='-fwrapv -fno-strict-aliasing -pipe -fstack-protector-strong -I/usr/local/include -D_LARGEFILE_SOURCE -D_FILE_OFFSET_BITS=64 -D_FORTIFY_SOURCE=2'
optimize='-O2'
cppflags='-fwrapv -fno-strict-aliasing -pipe -fstack-protector-strong -I/usr/local/include'
ccversion=''
gccversion='4.9.2'
gccosandvers=''
intsize=4
longsize=8
ptrsize=8
doublesize=8
byteorder=12345678
doublekind=3
d_longlong=define
longlongsize=8
d_longdbl=define
longdblsize=16
longdblkind=3
ivtype='long'
ivsize=8
nvtype='double'
nvsize=8
Off_t='off_t'
lseeksize=8
alignbytes=8
prototype=define
Linker and Libraries:
ld='cc'
ldflags =' -fstack-protector-strong -L/usr/local/lib'
libpth=/usr/local/lib /usr/lib/gcc/x86_64-linux-gnu/4.9/include-fixed /usr/include/x86_64-linux-gnu /usr/lib /lib/x86_64-linux-gnu /lib/../lib /usr/lib/x86_64-linux-gnu /usr/lib/../lib /lib
libs=-lpthread -lnsl -ldl -lm -lcrypt -lutil -lc
perllibs=-lpthread -lnsl -ldl -lm -lcrypt -lutil -lc
libc=libc-2.19.so
so=so
useshrplib=false
libperl=libperl.a
gnulibc_version='2.19'
Dynamic Linking:
dlsrc=dl_dlopen.xs
dlext=so
d_dlsymun=undef
ccdlflags='-Wl,-E'
cccdlflags='-fPIC'
lddlflags='-shared -O2 -L/usr/local/lib -fstack-protector-strong'
Characteristics of this binary (from libperl):
Compile-time options:
HAS_TIMES
PERLIO_LAYERS
PERL_COPY_ON_WRITE
PERL_DONT_CREATE_GVSV
PERL_HASH_FUNC_ONE_AT_A_TIME_HARD
PERL_MALLOC_WRAP
PERL_OP_PARENT
PERL_PRESERVE_IVUV
PERL_USE_DEVEL
USE_64_BIT_ALL
USE_64_BIT_INT
USE_LARGE_FILES
USE_LOCALE
USE_LOCALE_COLLATE
USE_LOCALE_CTYPE
USE_LOCALE_NUMERIC
USE_LOCALE_TIME
USE_PERLIO
USE_PERL_ATOF
Built under linux
Compiled at Nov 29 2016 17:42:58
%ENV:
PERL5LIB="/home/mb-5025007/.cpan/build/Tie-Restore-0.11-0/blib/arch:/home/mb-5025007/.cpan/build/Tie-Restore-0.11-0/blib/lib:/home/mb-5025007/.cpan/build/Devel-CheckOS-1.79-0/blib/arch:/home/mb-5025007/.cpan/build/Devel-CheckOS-1.79-0/blib/lib:/home/mb-5025007/.cpan/build/Test-Compile-v1.3.0-0/blib/arch:/home/mb-5025007/.cpan/build/Test-Compile-v1.3.0-0/blib/lib:/home/mb-5025007/.cpan/build/UNIVERSAL-require-0.18-0/blib/arch:/home/mb-5025007/.cpan/build/UNIVERSAL-require-0.18-0/blib/lib:/home/mb-5025007/.cpan/build/Cache-Cache-1.08-0/blib/arch:/home/mb-5025007/.cpan/build/Cache-Cache-1.08-0/blib/lib:/home/mb-5025007/.cpan/build/File-Slurp-9999.19-0/blib/arch:/home/mb-5025007/.cpan/build/File-Slurp-9999.19-0/blib/lib:/home/mb-5025007/.cpan/build/Error-0.17024-0/blib/arch:/home/mb-5025007/.cpan/build/Error-0.17024-0/blib/lib:/home/mb-5025007/.cpan/build/Digest-SHA1-2.13-0/blib/arch:/home/mb-5025007/.cpan/build/Digest-SHA1-2.13-0/blib/lib"
PERL5OPT=""
PERL5_CPANPLUS_IS_RUNNING="17560"
PERL5_CPAN_IS_RUNNING="17560"
PERL5_CPAN_IS_RUNNING_IN_RECURSION="3016,17560"
PERLBREW_BASHRC_VERSION="0.71"
PERLBREW_HOME="/home/mb-5025007/.perlbrew"
PERLBREW_MANPATH="/home/mb-5025007/perl5/perlbrew/perls/perl-5.25.7/man"
PERLBREW_PATH="/home/mb-5025007/perl5/perlbrew/bin:/home/mb-5025007/perl5/perlbrew/perls/perl-5.25.7/bin"
PERLBREW_PERL="perl-5.25.7"
PERLBREW_ROOT="/home/mb-5025007/perl5/perlbrew"
PERLBREW_VERSION="0.71"
PERL_CR_SMOKER_CURRENT="CGI-Cache-1.4207"
PERL_EXTUTILS_AUTOINSTALL="--defaultdeps"
PERL_MM_USE_DEFAULT="1"
@INC:
/home/mb-5025007/.cpan/build/Tie-Restore-0.11-0/blib/arch
/home/mb-5025007/.cpan/build/Tie-Restore-0.11-0/blib/lib
/home/mb-5025007/.cpan/build/Devel-CheckOS-1.79-0/blib/arch
/home/mb-5025007/.cpan/build/Devel-CheckOS-1.79-0/blib/lib
/home/mb-5025007/.cpan/build/Test-Compile-v1.3.0-0/blib/arch
/home/mb-5025007/.cpan/build/Test-Compile-v1.3.0-0/blib/lib
/home/mb-5025007/.cpan/build/UNIVERSAL-require-0.18-0/blib/arch
/home/mb-5025007/.cpan/build/UNIVERSAL-require-0.18-0/blib/lib
/home/mb-5025007/.cpan/build/Cache-Cache-1.08-0/blib/arch
/home/mb-5025007/.cpan/build/Cache-Cache-1.08-0/blib/lib
/home/mb-5025007/.cpan/build/File-Slurp-9999.19-0/blib/arch
/home/mb-5025007/.cpan/build/File-Slurp-9999.19-0/blib/lib
/home/mb-5025007/.cpan/build/Error-0.17024-0/blib/arch
/home/mb-5025007/.cpan/build/Error-0.17024-0/blib/lib
/home/mb-5025007/.cpan/build/Digest-SHA1-2.13-0/blib/arch
/home/mb-5025007/.cpan/build/Digest-SHA1-2.13-0/blib/lib
/home/mb-5025007/perl5/perlbrew/perls/perl-5.25.7/lib/site_perl/5.25.7/x86_64-linux
/home/mb-5025007/perl5/perlbrew/perls/perl-5.25.7/lib/site_perl/5.25.7
/home/mb-5025007/perl5/perlbrew/perls/perl-5.25.7/lib/5.25.7/x86_64-linux
/home/mb-5025007/perl5/perlbrew/perls/perl-5.25.7/lib/5.25.7
.