MozRepl-RemoteObject v0.40 Perl 5 v5.32.1 MSWin32-x86-multi-thread-64int

Status
Pass
From
gregor herrmann
Dist
MozRepl-RemoteObject v0.40
Platform
Perl 5 v5.32.1 MSWin32-x86-multi-thread-64int
Date
2023-11-13 22:47:39
ID
6bb89bf5-772f-1014-84bf-44df4a20714c
This distribution has been tested as part of the CPAN Testers
project, supporting the Perl programming language.  See
http://wiki.cpantesters.org/ for more information or email
questions to cpan-testers-discuss@perl.org


--
Dear Max Maischein,

This is a computer-generated report for MozRepl-RemoteObject-0.40
on perl 5.32.1, created by CPAN-Reporter-1.2019.

Thank you for uploading your work to CPAN.  Congratulations!
All tests were successful.

Sections of this report:

    * Tester comments
    * Program output
    * Prerequisites
    * Environment and other context

------------------------------
TESTER COMMENTS
------------------------------

Additional comments from tester:

this report is from an automated smoke testing program
and was not reviewed by a human for accuracy

------------------------------
PROGRAM OUTPUT
------------------------------

Output from 'C:\strawberry\c\bin\gmake.EXE test':

"C:\Strawberry\perl\bin\perl.exe" "-MExtUtils::Command::MM" "-MTest::Harness" "-e" "undef *Test::Harness::Switches; test_harness(0, 'blib\lib', 'blib\arch')" t/*.t
# Testing MozRepl::RemoteObject 0.40, Perl 5.032001
# AutoLoader 5.74
# Carp 1.50
# Config 5.032001
# Encode 3.20
# Encode::Alias 2.25
# Encode::Config 2.05
# Encode::Encoding 2.08
# Encode::MIME::Name 1.03
# Exporter 5.77
# Exporter::Heavy 5.77
# Fcntl 1.13
# JSON 4.10
# JSON::XS 4.03
# List::Util 1.63
# Log::Agent 1.005
# Log::Agent::Formatting <unknown>
# Log::Agent::Message <unknown>
# Log::Agent::Priorities <unknown>
# MozRepl::RemoteObject 0.40
# MozRepl::RemoteObject::Methods 0.40
# POSIX 1.94
# PerlIO 1.11
# Scalar::Util 1.63
# Storable 3.25
# Test::Builder 1.302196
# Test::Builder::Formatter 1.302196
# Test::Builder::Module 1.302196
# Test::Builder::TodoDiag 1.302196
# Test::More 1.302196
# Test2::API 1.302196
# Test2::API::Context 1.302196
# Test2::API::Instance 1.302196
# Test2::API::Stack 1.302196
# Test2::Event 1.302196
# Test2::Event::Bail 1.302196
# Test2::Event::Diag 1.302196
# Test2::Event::Exception 1.302196
# Test2::Event::Fail 1.302196
# Test2::Event::Note 1.302196
# Test2::Event::Ok 1.302196
# Test2::Event::Pass 1.302196
# Test2::Event::Plan 1.302196
# Test2::Event::Skip 1.302196
# Test2::Event::Subtest 1.302196
# Test2::Event::V2 1.302196
# Test2::Event::Waiting 1.302196
# Test2::EventFacet 1.302196
# Test2::EventFacet::About 1.302196
# Test2::EventFacet::Amnesty 1.302196
# Test2::EventFacet::Assert 1.302196
# Test2::EventFacet::Control 1.302196
# Test2::EventFacet::Error 1.302196
# Test2::EventFacet::Hub 1.302196
# Test2::EventFacet::Info 1.302196
# Test2::EventFacet::Meta 1.302196
# Test2::EventFacet::Parent 1.302196
# Test2::EventFacet::Plan 1.302196
# Test2::EventFacet::Trace 1.302196
# Test2::Formatter 1.302196
# Test2::Formatter::TAP 1.302196
# Test2::Hub 1.302196
# Test2::Hub::Interceptor 1.302196
# Test2::Hub::Interceptor::Terminator 1.302196
# Test2::Hub::Subtest 1.302196
# Test2::Util 1.302196
# Test2::Util::ExternalMeta 1.302196
# Test2::Util::Facets2Legacy 1.302196
# Test2::Util::HashBase 1.302196
# Test2::Util::Trace 1.302196
# Tie::Hash 1.05
# Time::HiRes 1.976402
# Types::Serialiser 1.01
# XSLoader 0.30
# attributes 0.33
# base 2.27
# bytes 1.07
# common::sense 3.75
# constant 1.33
# mro 1.23
# overload 1.31
# overloading 0.02
# parent 0.238
# strict 1.11
# vars 1.05
# warnings 1.47
# warnings::register 1.04
t/00-load.t .................... ok
t/01-appversion.t .............. skipped: Couldn't connect to MozRepl: Failed to connect to , problem connecting to "localhost", port 4242: Es konnte keine Verbindung hergestellt werden, da der Zielcomputer die Verbindung verweigerte. at C:\cpan\build\MozRepl-0.06-0/blib/lib/MozRepl/Client.pm line 144
# --- Loading object functionality into repl
t/01-array.t ................... skipped: Couldn't connect to MozRepl: Failed to connect to , problem connecting to "localhost", port 4242: Es konnte keine Verbindung hergestellt werden, da der Zielcomputer die Verbindung verweigerte. at C:\cpan\build\MozRepl-0.06-0/blib/lib/MozRepl/Client.pm line 144
t/01-backend-anyevent-timer.t .. skipped: Couldn't connect to Firefox: Can't locate AnyEvent.pm in @INC (you may need to install the AnyEvent module) (@INC contains: C:\cpan\build\MozRepl-RemoteObject-0.40-0\blib\lib C:\cpan\build\MozRepl-RemoteObject-0.40-0\blib\arch C:\cpan\build\MozRepl-0.06-0/blib/arch C:\cpan\build\MozRepl-0.06-0/blib/lib C:\cpan\build\Template-Provider-FromDATA-0.13-0/blib/arch C:\cpan\build\Template-Provider-FromDATA-0.13-0/blib/lib C:\cpan\build\Data-JavaScript-Anon-1.03-0/blib/arch C:\cpan\build\Data-JavaScript-Anon-1.03-0/blib/lib C:\cpan\build\Class-Default-1.51-0/blib/arch C:\cpan\build\Class-Default-1.51-0/blib/lib C:\cpan\build\MozRepl-0.06-0/blib/arch C:\cpan\build\MozRepl-0.06-0/blib/lib C:\cpan\build\Template-Provider-FromDATA-0.13-0/blib/arch C:\cpan\build\Template-Provider-FromDATA-0.13-0/blib/lib C:\cpan\build\Data-JavaScript-Anon-1.03-0/blib/arch C:\cpan\build\Data-JavaScript-Anon-1.03-0/blib/lib C:\cpan\build\Class-Default-1.51-0/blib/arch C:\cpan\build\Class-Default-1.51-0/blib/lib C:/Strawberry/perl/site/lib/MSWin32-x86-multi-thread-64int C:/Strawberry/perl/site/lib C:/Strawberry/perl/vendor/lib C:/Strawberry/perl/lib .) at t/01-backend-anyevent-timer.t line 8.
t/01-backend-anyevent.t ........ skipped: Couldn't connect to Firefox: Can't locate AnyEvent.pm in @INC (you may need to install the AnyEvent module) (@INC contains: C:\cpan\build\MozRepl-RemoteObject-0.40-0\blib\lib C:\cpan\build\MozRepl-RemoteObject-0.40-0\blib\arch C:\cpan\build\MozRepl-0.06-0/blib/arch C:\cpan\build\MozRepl-0.06-0/blib/lib C:\cpan\build\Template-Provider-FromDATA-0.13-0/blib/arch C:\cpan\build\Template-Provider-FromDATA-0.13-0/blib/lib C:\cpan\build\Data-JavaScript-Anon-1.03-0/blib/arch C:\cpan\build\Data-JavaScript-Anon-1.03-0/blib/lib C:\cpan\build\Class-Default-1.51-0/blib/arch C:\cpan\build\Class-Default-1.51-0/blib/lib C:\cpan\build\MozRepl-0.06-0/blib/arch C:\cpan\build\MozRepl-0.06-0/blib/lib C:\cpan\build\Template-Provider-FromDATA-0.13-0/blib/arch C:\cpan\build\Template-Provider-FromDATA-0.13-0/blib/lib C:\cpan\build\Data-JavaScript-Anon-1.03-0/blib/arch C:\cpan\build\Data-JavaScript-Anon-1.03-0/blib/lib C:\cpan\build\Class-Default-1.51-0/blib/arch C:\cpan\build\Class-Default-1.51-0/blib/lib C:/Strawberry/perl/site/lib/MSWin32-x86-multi-thread-64int C:/Strawberry/perl/site/lib C:/Strawberry/perl/vendor/lib C:/Strawberry/perl/lib .) at t/01-backend-anyevent.t line 8.
t/01-callback-overhead.t ....... skipped: Couldn't connect to MozRepl: Failed to connect to , problem connecting to "localhost", port 4242: Es konnte keine Verbindung hergestellt werden, da der Zielcomputer die Verbindung verweigerte. at C:\cpan\build\MozRepl-0.06-0/blib/lib/MozRepl/Client.pm line 144
t/01-callback.t ................ skipped: Couldn't connect to MozRepl: Failed to connect to , problem connecting to "localhost", port 4242: Es konnte keine Verbindung hergestellt werden, da der Zielcomputer die Verbindung verweigerte. at C:\cpan\build\MozRepl-0.06-0/blib/lib/MozRepl/Client.pm line 144
t/01-constant.t ................ skipped: Couldn't connect to MozRepl: Failed to connect to , problem connecting to "localhost", port 4242: Es konnte keine Verbindung hergestellt werden, da der Zielcomputer die Verbindung verweigerte. at C:\cpan\build\MozRepl-0.06-0/blib/lib/MozRepl/Client.pm line 144
t/01-dive.t .................... skipped: Couldn't connect to MozRepl: Failed to connect to , problem connecting to "localhost", port 4242: Es konnte keine Verbindung hergestellt werden, da der Zielcomputer die Verbindung verweigerte. at C:\cpan\build\MozRepl-0.06-0/blib/lib/MozRepl/Client.pm line 144
t/01-expr-anyevent.t ........... skipped: Couldn't connect to Firefix: Can't locate AnyEvent.pm in @INC (you may need to install the AnyEvent module) (@INC contains: C:\cpan\build\MozRepl-RemoteObject-0.40-0\blib\lib C:\cpan\build\MozRepl-RemoteObject-0.40-0\blib\arch C:\cpan\build\MozRepl-0.06-0/blib/arch C:\cpan\build\MozRepl-0.06-0/blib/lib C:\cpan\build\Template-Provider-FromDATA-0.13-0/blib/arch C:\cpan\build\Template-Provider-FromDATA-0.13-0/blib/lib C:\cpan\build\Data-JavaScript-Anon-1.03-0/blib/arch C:\cpan\build\Data-JavaScript-Anon-1.03-0/blib/lib C:\cpan\build\Class-Default-1.51-0/blib/arch C:\cpan\build\Class-Default-1.51-0/blib/lib C:\cpan\build\MozRepl-0.06-0/blib/arch C:\cpan\build\MozRepl-0.06-0/blib/lib C:\cpan\build\Template-Provider-FromDATA-0.13-0/blib/arch C:\cpan\build\Template-Provider-FromDATA-0.13-0/blib/lib C:\cpan\build\Data-JavaScript-Anon-1.03-0/blib/arch C:\cpan\build\Data-JavaScript-Anon-1.03-0/blib/lib C:\cpan\build\Class-Default-1.51-0/blib/arch C:\cpan\build\Class-Default-1.51-0/blib/lib C:/Strawberry/perl/site/lib/MSWin32-x86-multi-thread-64int C:/Strawberry/perl/site/lib C:/Strawberry/perl/vendor/lib C:/Strawberry/perl/lib .) at C:\cpan\build\MozRepl-RemoteObject-0.40-0\blib\lib/MozRepl/AnyEvent.pm line 3.
t/01-expr.t .................... skipped: Couldn't connect to MozRepl: Failed to connect to , problem connecting to "localhost", port 4242: Es konnte keine Verbindung hergestellt werden, da der Zielcomputer die Verbindung verweigerte. at C:\cpan\build\MozRepl-0.06-0/blib/lib/MozRepl/Client.pm line 144
t/01-hash.t .................... skipped: Couldn't connect to MozRepl: Failed to connect to , problem connecting to "localhost", port 4242: Es konnte keine Verbindung hergestellt werden, da der Zielcomputer die Verbindung verweigerte. at C:\cpan\build\MozRepl-0.06-0/blib/lib/MozRepl/Client.pm line 144
t/01-invoke.t .................. skipped: Couldn't connect to MozRepl: Failed to connect to , problem connecting to "localhost", port 4242: Es konnte keine Verbindung hergestellt werden, da der Zielcomputer die Verbindung verweigerte. at C:\cpan\build\MozRepl-0.06-0/blib/lib/MozRepl/Client.pm line 144
# --- Loading object functionality into repl
t/01-multiline-string.t ........ skipped: Couldn't connect to MozRepl: Failed to connect to , problem connecting to "localhost", port 4242: Es konnte keine Verbindung hergestellt werden, da der Zielcomputer die Verbindung verweigerte. at C:\cpan\build\MozRepl-0.06-0/blib/lib/MozRepl/Client.pm line 144
# --- Loading object functionality into repl
t/01-object.t .................. skipped: Couldn't connect to MozRepl: Failed to connect to , problem connecting to "localhost", port 4242: Es konnte keine Verbindung hergestellt werden, da der Zielcomputer die Verbindung verweigerte. at C:\cpan\build\MozRepl-0.06-0/blib/lib/MozRepl/Client.pm line 144
# --- Loading object functionality into repl
t/01-queue.t ................... skipped: Couldn't connect to MozRepl: Failed to connect to , problem connecting to "localhost", port 4242: Es konnte keine Verbindung hergestellt werden, da der Zielcomputer die Verbindung verweigerte. at C:\cpan\build\MozRepl-0.06-0/blib/lib/MozRepl/Client.pm line 144
t/01-release-action.t .......... skipped: Couldn't connect to MozRepl: Failed to connect to , problem connecting to "localhost", port 4242: Es konnte keine Verbindung hergestellt werden, da der Zielcomputer die Verbindung verweigerte. at C:\cpan\build\MozRepl-0.06-0/blib/lib/MozRepl/Client.pm line 144
t/02-multiple-instances.t ...... skipped: Couldn't connect to MozRepl: Failed to connect to , problem connecting to "localhost", port 4242: Es konnte keine Verbindung hergestellt werden, da der Zielcomputer die Verbindung verweigerte. at C:\cpan\build\MozRepl-0.06-0/blib/lib/MozRepl/Client.pm line 144
t/02-repl.t .................... skipped: Couldn't connect to MozRepl: Failed to connect to , problem connecting to "localhost", port 4242: Es konnte keine Verbindung hergestellt werden, da der Zielcomputer die Verbindung verweigerte. at C:\cpan\build\MozRepl-0.06-0/blib/lib/MozRepl/Client.pm line 144
t/02-synopsis.t ................ skipped: Couldn't connect to MozRepl: Failed to connect to , problem connecting to "localhost", port 4242: Es konnte keine Verbindung hergestellt werden, da der Zielcomputer die Verbindung verweigerte. at C:\cpan\build\MozRepl-0.06-0/blib/lib/MozRepl/Client.pm line 144
t/03-unicode.t ................. skipped: Couldn't connect to MozRepl: Failed to connect to , problem connecting to "localhost", port 4242: Es konnte keine Verbindung hergestellt werden, da der Zielcomputer die Verbindung verweigerte. at C:\cpan\build\MozRepl-0.06-0/blib/lib/MozRepl/Client.pm line 144
t/04-looong-input.t ............ skipped: Couldn't connect to MozRepl: Failed to connect to , problem connecting to "localhost", port 4242: Es konnte keine Verbindung hergestellt werden, da der Zielcomputer die Verbindung verweigerte. at C:\cpan\build\MozRepl-0.06-0/blib/lib/MozRepl/Client.pm line 144
t/05-callback-parameter.t ...... skipped: Couldn't connect to MozRepl: Failed to connect to , problem connecting to "localhost", port 4242: Es konnte keine Verbindung hergestellt werden, da der Zielcomputer die Verbindung verweigerte. at C:\cpan\build\MozRepl-0.06-0/blib/lib/MozRepl/Client.pm line 144
t/10-xul-hud.t ................. skipped: Couldn't connect to MozRepl: Failed to connect to , problem connecting to "localhost", port 4242: Es konnte keine Verbindung hergestellt werden, da der Zielcomputer die Verbindung verweigerte. at C:\cpan\build\MozRepl-0.06-0/blib/lib/MozRepl/Client.pm line 144
t/11-memleak-callback.t ........ skipped: Couldn't connect to MozRepl: Failed to connect to , problem connecting to "localhost", port 4242: Es konnte keine Verbindung hergestellt werden, da der Zielcomputer die Verbindung verweigerte. at C:\cpan\build\MozRepl-0.06-0/blib/lib/MozRepl/Client.pm line 144
t/11-memleak-constant.t ........ skipped: Couldn't connect to MozRepl: Failed to connect to , problem connecting to "localhost", port 4242: Es konnte keine Verbindung hergestellt werden, da der Zielcomputer die Verbindung verweigerte. at C:\cpan\build\MozRepl-0.06-0/blib/lib/MozRepl/Client.pm line 144
t/11-memleak-declare.t ......... skipped: Couldn't connect to MozRepl: Failed to connect to , problem connecting to "localhost", port 4242: Es konnte keine Verbindung hergestellt werden, da der Zielcomputer die Verbindung verweigerte. at C:\cpan\build\MozRepl-0.06-0/blib/lib/MozRepl/Client.pm line 144
t/11-memleak.t ................. skipped: Couldn't connect to MozRepl: Failed to connect to , problem connecting to "localhost", port 4242: Es konnte keine Verbindung hergestellt werden, da der Zielcomputer die Verbindung verweigerte. at C:\cpan\build\MozRepl-0.06-0/blib/lib/MozRepl/Client.pm line 144
All tests successful.
Files=28, Tests=1, 74 wallclock secs ( 0.25 usr +  0.14 sys =  0.39 CPU)
Result: PASS

------------------------------
PREREQUISITES
------------------------------

Prerequisite modules loaded:

requires:

    Module         Need  Have      
    -------------- ----- ----------
    Encode         0     3.20      
    Exporter       0     5.77      
    File::Basename 0     2.85      
    IPC::Run       0     20231003.0
    JSON           2     4.10      
    MozRepl        0.06  0.06      
    parent         0     0.238     
    perl           5.006 5.032001  
    Scalar::Util   0     1.63      

build_requires:

    Module         Need  Have      
    -------------- ----- ----------
    Task::Weaken   0     1.06      


------------------------------
ENVIRONMENT AND OTHER CONTEXT
------------------------------

Environment variables:

    AUTOMATED_TESTING = 1
    COMSPEC = C:\WINDOWS\system32\cmd.exe
    NONINTERACTIVE_TESTING = 1
    NUMBER_OF_PROCESSORS = 2
    PATH = C:\WINDOWS\system32;C:\strawberry\c\bin;C:\strawberry\perl\site\bin;C:\strawberry\perl\bin
    PERL5LIB = C:\cpan\build\MozRepl-0.06-0/blib/arch;C:\cpan\build\MozRepl-0.06-0/blib/lib;C:\cpan\build\Template-Provider-FromDATA-0.13-0/blib/arch;C:\cpan\build\Template-Provider-FromDATA-0.13-0/blib/lib;C:\cpan\build\Data-JavaScript-Anon-1.03-0/blib/arch;C:\cpan\build\Data-JavaScript-Anon-1.03-0/blib/lib;C:\cpan\build\Class-Default-1.51-0/blib/arch;C:\cpan\build\Class-Default-1.51-0/blib/lib
    PERL5OPT = 
    PERL5_CPANPLUS_IS_RUNNING = 9196
    PERL5_CPAN_IS_RUNNING = 9196
    PERL5_CPAN_IS_RUNNING_IN_RECURSION = 7704,9196
    PERL_CR_SMOKER_CURRENT = MozRepl-RemoteObject-0.40
    PERL_EXTUTILS_AUTOINSTALL = --defaultdeps
    PERL_MM_USE_DEFAULT = 1
    PERL_USE_UNSAFE_INC = 1
    PROCESSOR_IDENTIFIER = x86 Family 6 Model 15 Stepping 11, GenuineIntel
    TEMP = C:\Users\smoker\AppData\Local\Temp

Perl special variables (and OS-specific diagnostics, for MSWin32):

    $^X = C:\Strawberry\perl\bin\perl.exe
    $UID/$EUID = 0 / 0
    $GID = 0
    $EGID = 0
    Win32::GetOSName = Win10
    Win32::GetOSVersion = , 10, 0, 19045, 2, 0, 0, 256, 1
    Win32::FsType = NTFS
    Win32::IsAdminUser = 0

Perl module toolchain versions installed:

    Module              Have    
    ------------------- --------
    CPAN                2.36    
    CPAN::Meta          2.150010
    Cwd                 3.78    
    ExtUtils::CBuilder  0.280236
    ExtUtils::Command   7.70    
    ExtUtils::Install   2.20    
    ExtUtils::MakeMaker 7.70    
    ExtUtils::Manifest  1.75    
    ExtUtils::ParseXS   3.51    
    File::Spec          3.78    
    JSON                4.10    
    JSON::PP            4.17_01 
    Module::Build       0.42_35 
    Module::Signature   0.88    
    Parse::CPAN::Meta   2.150010
    Test2               1.302196
    Test::Harness       3.48    
    Test::More          1.302196
    YAML                1.30    
    YAML::Syck          1.34    
    version             0.9930  


--

Summary of my perl5 (revision 5 version 32 subversion 1) configuration:
   
  Platform:
    osname=MSWin32
    osvers=10.0.19042.746
    archname=MSWin32-x86-multi-thread-64int
    uname='Win32 strawberry-perl 5.32.1.1 #1 Sun Jan 24 12:17:47 2021 i386'
    config_args='undef'
    hint=recommended
    useposix=true
    d_sigaction=undef
    useithreads=define
    usemultiplicity=define
    use64bitint=define
    use64bitall=undef
    uselongdouble=undef
    usemymalloc=n
    default_inc_excludes_dot=define
    bincompat5005=undef
  Compiler:
    cc='gcc'
    ccflags =' -DWIN32 -D__USE_MINGW_ANSI_STDIO -DPERL_TEXTMODE_SCRIPTS -DPERL_IMPLICIT_CONTEXT -DPERL_IMPLICIT_SYS -DUSE_PERLIO -fwrapv -fno-strict-aliasing -mms-bitfields'
    optimize='-s -O2'
    cppflags='-DWIN32'
    ccversion=''
    gccversion='8.3.0'
    gccosandvers=''
    intsize=4
    longsize=4
    ptrsize=4
    doublesize=8
    byteorder=12345678
    doublekind=3
    d_longlong=define
    longlongsize=8
    d_longdbl=define
    longdblsize=12
    longdblkind=3
    ivtype='long long'
    ivsize=8
    nvtype='double'
    nvsize=8
    Off_t='long long'
    lseeksize=8
    alignbytes=8
    prototype=define
  Linker and Libraries:
    ld='g++'
    ldflags ='-s -L"C:\STRAWB~1\perl\lib\CORE" -L"C:\STRAWB~1\c\lib"'
    libpth=C:\STRAWB~1\c\lib C:\STRAWB~1\c\i686-w64-mingw32\lib C:\STRAWB~1\c\lib\gcc\i686-w64-mingw32\8.3.0
    libs= -lmoldname -lkernel32 -luser32 -lgdi32 -lwinspool -lcomdlg32 -ladvapi32 -lshell32 -lole32 -loleaut32 -lnetapi32 -luuid -lws2_32 -lmpr -lwinmm -lversion -lodbc32 -lodbccp32 -lcomctl32
    perllibs= -lmoldname -lkernel32 -luser32 -lgdi32 -lwinspool -lcomdlg32 -ladvapi32 -lshell32 -lole32 -loleaut32 -lnetapi32 -luuid -lws2_32 -lmpr -lwinmm -lversion -lodbc32 -lodbccp32 -lcomctl32
    libc=
    so=dll
    useshrplib=true
    libperl=libperl532.a
    gnulibc_version=''
  Dynamic Linking:
    dlsrc=dl_win32.xs
    dlext=xs.dll
    d_dlsymun=undef
    ccdlflags=' '
    cccdlflags=' '
    lddlflags='-mdll -s -L"C:\STRAWB~1\perl\lib\CORE" -L"C:\STRAWB~1\c\lib"'


Characteristics of this binary (from libperl): 
  Compile-time options:
    HAS_TIMES
    HAVE_INTERP_INTERN
    MULTIPLICITY
    PERLIO_LAYERS
    PERL_COPY_ON_WRITE
    PERL_DONT_CREATE_GVSV
    PERL_IMPLICIT_CONTEXT
    PERL_IMPLICIT_SYS
    PERL_MALLOC_WRAP
    PERL_OP_PARENT
    PERL_PRESERVE_IVUV
    USE_64_BIT_INT
    USE_ITHREADS
    USE_LARGE_FILES
    USE_LOCALE
    USE_LOCALE_COLLATE
    USE_LOCALE_CTYPE
    USE_LOCALE_NUMERIC
    USE_LOCALE_TIME
    USE_PERLIO
    USE_PERL_ATOF
  Built under MSWin32
  Compiled at Jan 24 2021 12:22:49
  %ENV:
    PERL5LIB="C:\cpan\build\MozRepl-0.06-0/blib/arch;C:\cpan\build\MozRepl-0.06-0/blib/lib;C:\cpan\build\Template-Provider-FromDATA-0.13-0/blib/arch;C:\cpan\build\Template-Provider-FromDATA-0.13-0/blib/lib;C:\cpan\build\Data-JavaScript-Anon-1.03-0/blib/arch;C:\cpan\build\Data-JavaScript-Anon-1.03-0/blib/lib;C:\cpan\build\Class-Default-1.51-0/blib/arch;C:\cpan\build\Class-Default-1.51-0/blib/lib"
    PERL5_CPANPLUS_IS_RUNNING="9196"
    PERL5_CPAN_IS_RUNNING="9196"
    PERL5_CPAN_IS_RUNNING_IN_RECURSION="7704,9196"
    PERL_CR_SMOKER_CURRENT="MozRepl-RemoteObject-0.40"
    PERL_EXTUTILS_AUTOINSTALL="--defaultdeps"
    PERL_MM_USE_DEFAULT="1"
    PERL_USE_UNSAFE_INC="1"
  @INC:
    C:\cpan\build\MozRepl-0.06-0/blib/arch
    C:\cpan\build\MozRepl-0.06-0/blib/lib
    C:\cpan\build\Template-Provider-FromDATA-0.13-0/blib/arch
    C:\cpan\build\Template-Provider-FromDATA-0.13-0/blib/lib
    C:\cpan\build\Data-JavaScript-Anon-1.03-0/blib/arch
    C:\cpan\build\Data-JavaScript-Anon-1.03-0/blib/lib
    C:\cpan\build\Class-Default-1.51-0/blib/arch
    C:\cpan\build\Class-Default-1.51-0/blib/lib
    C:/Strawberry/perl/site/lib/MSWin32-x86-multi-thread-64int
    C:/Strawberry/perl/site/lib
    C:/Strawberry/perl/vendor/lib
    C:/Strawberry/perl/lib
    .