Module-Install v1.21 Perl 5 v5.18.4 i386-freebsd-thread-multi-64int

Status
Pass
From
Chris Williams (BINGOS)
Dist
Module-Install v1.21
Platform
Perl 5 v5.18.4 i386-freebsd-thread-multi-64int
Date
2025-06-21 02:14:10
ID
6b51f978-4e45-11f0-acaa-c91c7f7edd59
This distribution has been tested as part of the CPAN Testers
project, supporting the Perl programming language.  See
http://wiki.cpantesters.org/ for more information or email
questions to cpan-testers-discuss@perl.org


--

Dear Karen Etheridge,

This is a computer-generated error report created automatically by
CPANPLUS, version 0.9914. Testers personal comments may appear
at the end of this report.


Thank you for uploading your work to CPAN.  Congratulations!
All tests were successful.

TEST RESULTS:

Below is the error stack from stage 'make test':

PERL_DL_NONLAZY=1 "/home/cpan/pit/rel/perl-5.18.4/bin/perl" "-MExtUtils::Command::MM" "-MTest::Harness" "-e" "undef *Test::Harness::Switches; test_harness(0, 'inc', 'blib/lib', 'blib/arch')" t/*.t t/recursive/*.t
t/01_compile.t .......................... ok
t/02_mymeta.t ........................... skipped: New EU::MM has own MYMETA support
t/03_autoinstall.t ...................... skipped: Skipping dangerous test
t/04_version.t .......................... ok
t/05_share.t ............................ ok
t/06_ppport.t ........................... ok
t/07_perl_version.t ..................... ok
t/09_read.t ............................. ok
t/10_test.t ............................. ok
t/11_extraction.t ....................... ok
t/12_eumm_params.t ...................... ok
t/13_author_tests.t ..................... ok
t/13_author_tests_ext.t ................. skipped: requires Module::Install::AuthorTests
t/13_author_tests_ext2.t ................ skipped: requires Module::Install::ExtraTests 0.007
t/14_auto_include_deps_with_version.t ... skipped: your perl is new enough to have File::Spec 3.30 in core
t/15_wrong_usage.t ...................... ok
t/16_require.t .......................... ok
t/17_sign.t ............................. ok
t/18_all_from.t ......................... ok
t/19_authors.t .......................... ok
t/20_authors_with_special_characters.t .. ok
t/21_makemaker_args.t ................... ok
Use of uninitialized value $cmd in substitution (s///) at /home/cpan/pit/rel/perl-5.18.4/lib/site_perl/5.18.4/ExtUtils/MM_Any.pm line 347.
Use of uninitialized value $mandir in pattern match (m//) at /home/cpan/pit/rel/perl-5.18.4/lib/site_perl/5.18.4/ExtUtils/MM_Unix.pm line 1530.
Use of uninitialized value $mandir in pattern match (m//) at /home/cpan/pit/rel/perl-5.18.4/lib/site_perl/5.18.4/ExtUtils/MM_Unix.pm line 1530.
Use of uninitialized value $mandir in pattern match (m//) at /home/cpan/pit/rel/perl-5.18.4/lib/site_perl/5.18.4/ExtUtils/MM_Unix.pm line 1530.
Use of uninitialized value $mandir in pattern match (m//) at /home/cpan/pit/rel/perl-5.18.4/lib/site_perl/5.18.4/ExtUtils/MM_Unix.pm line 1530.
Use of uninitialized value $mandir in pattern match (m//) at /home/cpan/pit/rel/perl-5.18.4/lib/site_perl/5.18.4/ExtUtils/MM_Unix.pm line 1530.
Use of uninitialized value $mandir in pattern match (m//) at /home/cpan/pit/rel/perl-5.18.4/lib/site_perl/5.18.4/ExtUtils/MM_Unix.pm line 1530.
Use of uninitialized value $mandir in pattern match (m//) at /home/cpan/pit/rel/perl-5.18.4/lib/site_perl/5.18.4/ExtUtils/MM_Unix.pm line 1530.
Use of uninitialized value $mandir in pattern match (m//) at /home/cpan/pit/rel/perl-5.18.4/lib/site_perl/5.18.4/ExtUtils/MM_Unix.pm line 1530.
Use of uninitialized value $mandir in pattern match (m//) at /home/cpan/pit/rel/perl-5.18.4/lib/site_perl/5.18.4/ExtUtils/MM_Unix.pm line 1530.
Use of uninitialized value $cmd in substitution (s///) at /home/cpan/pit/rel/perl-5.18.4/lib/site_perl/5.18.4/ExtUtils/MM_Any.pm line 347.
Use of uninitialized value $mandir in pattern match (m//) at /home/cpan/pit/rel/perl-5.18.4/lib/site_perl/5.18.4/ExtUtils/MM_Unix.pm line 1530.
Use of uninitialized value $mandir in pattern match (m//) at /home/cpan/pit/rel/perl-5.18.4/lib/site_perl/5.18.4/ExtUtils/MM_Unix.pm line 1530.
Use of uninitialized value $mandir in pattern match (m//) at /home/cpan/pit/rel/perl-5.18.4/lib/site_perl/5.18.4/ExtUtils/MM_Unix.pm line 1530.
Use of uninitialized value $mandir in pattern match (m//) at /home/cpan/pit/rel/perl-5.18.4/lib/site_perl/5.18.4/ExtUtils/MM_Unix.pm line 1530.
Use of uninitialized value $mandir in pattern match (m//) at /home/cpan/pit/rel/perl-5.18.4/lib/site_perl/5.18.4/ExtUtils/MM_Unix.pm line 1530.
Use of uninitialized value $mandir in pattern match (m//) at /home/cpan/pit/rel/perl-5.18.4/lib/site_perl/5.18.4/ExtUtils/MM_Unix.pm line 1530.
Use of uninitialized value $mandir in pattern match (m//) at /home/cpan/pit/rel/perl-5.18.4/lib/site_perl/5.18.4/ExtUtils/MM_Unix.pm line 1530.
Use of uninitialized value $mandir in pattern match (m//) at /home/cpan/pit/rel/perl-5.18.4/lib/site_perl/5.18.4/ExtUtils/MM_Unix.pm line 1530.
Use of uninitialized value $mandir in pattern match (m//) at /home/cpan/pit/rel/perl-5.18.4/lib/site_perl/5.18.4/ExtUtils/MM_Unix.pm line 1530.
Use of uninitialized value $cmd in substitution (s///) at /home/cpan/pit/rel/perl-5.18.4/lib/site_perl/5.18.4/ExtUtils/MM_Any.pm line 347.
Use of uninitialized value $mandir in pattern match (m//) at /home/cpan/pit/rel/perl-5.18.4/lib/site_perl/5.18.4/ExtUtils/MM_Unix.pm line 1530.
Use of uninitialized value $mandir in pattern match (m//) at /home/cpan/pit/rel/perl-5.18.4/lib/site_perl/5.18.4/ExtUtils/MM_Unix.pm line 1530.
Use of uninitialized value $mandir in pattern match (m//) at /home/cpan/pit/rel/perl-5.18.4/lib/site_perl/5.18.4/ExtUtils/MM_Unix.pm line 1530.
Use of uninitialized value $mandir in pattern match (m//) at /home/cpan/pit/rel/perl-5.18.4/lib/site_perl/5.18.4/ExtUtils/MM_Unix.pm line 1530.
Use of uninitialized value $mandir in pattern match (m//) at /home/cpan/pit/rel/perl-5.18.4/lib/site_perl/5.18.4/ExtUtils/MM_Unix.pm line 1530.
Use of uninitialized value $mandir in pattern match (m//) at /home/cpan/pit/rel/perl-5.18.4/lib/site_perl/5.18.4/ExtUtils/MM_Unix.pm line 1530.
Use of uninitialized value $mandir in pattern match (m//) at /home/cpan/pit/rel/perl-5.18.4/lib/site_perl/5.18.4/ExtUtils/MM_Unix.pm line 1530.
Use of uninitialized value $mandir in pattern match (m//) at /home/cpan/pit/rel/perl-5.18.4/lib/site_perl/5.18.4/ExtUtils/MM_Unix.pm line 1530.
Use of uninitialized value $mandir in pattern match (m//) at /home/cpan/pit/rel/perl-5.18.4/lib/site_perl/5.18.4/ExtUtils/MM_Unix.pm line 1530.
Use of uninitialized value $cmd in substitution (s///) at /home/cpan/pit/rel/perl-5.18.4/lib/site_perl/5.18.4/ExtUtils/MM_Any.pm line 347.
Use of uninitialized value $mandir in pattern match (m//) at /home/cpan/pit/rel/perl-5.18.4/lib/site_perl/5.18.4/ExtUtils/MM_Unix.pm line 1530.
Use of uninitialized value $mandir in pattern match (m//) at /home/cpan/pit/rel/perl-5.18.4/lib/site_perl/5.18.4/ExtUtils/MM_Unix.pm line 1530.
Use of uninitialized value $mandir in pattern match (m//) at /home/cpan/pit/rel/perl-5.18.4/lib/site_perl/5.18.4/ExtUtils/MM_Unix.pm line 1530.
Use of uninitialized value $mandir in pattern match (m//) at /home/cpan/pit/rel/perl-5.18.4/lib/site_perl/5.18.4/ExtUtils/MM_Unix.pm line 1530.
Use of uninitialized value $mandir in pattern match (m//) at /home/cpan/pit/rel/perl-5.18.4/lib/site_perl/5.18.4/ExtUtils/MM_Unix.pm line 1530.
Use of uninitialized value $mandir in pattern match (m//) at /home/cpan/pit/rel/perl-5.18.4/lib/site_perl/5.18.4/ExtUtils/MM_Unix.pm line 1530.
Use of uninitialized value $mandir in pattern match (m//) at /home/cpan/pit/rel/perl-5.18.4/lib/site_perl/5.18.4/ExtUtils/MM_Unix.pm line 1530.
Use of uninitialized value $mandir in pattern match (m//) at /home/cpan/pit/rel/perl-5.18.4/lib/site_perl/5.18.4/ExtUtils/MM_Unix.pm line 1530.
Use of uninitialized value $mandir in pattern match (m//) at /home/cpan/pit/rel/perl-5.18.4/lib/site_perl/5.18.4/ExtUtils/MM_Unix.pm line 1530.
old INSTALLDIRS (probably set by makemaker_args) is overriden by installdirs
Use of uninitialized value $cmd in substitution (s///) at /home/cpan/pit/rel/perl-5.18.4/lib/site_perl/5.18.4/ExtUtils/MM_Any.pm line 347.
Use of uninitialized value $mandir in pattern match (m//) at /home/cpan/pit/rel/perl-5.18.4/lib/site_perl/5.18.4/ExtUtils/MM_Unix.pm line 1530.
Use of uninitialized value $mandir in pattern match (m//) at /home/cpan/pit/rel/perl-5.18.4/lib/site_perl/5.18.4/ExtUtils/MM_Unix.pm line 1530.
Use of uninitialized value $mandir in pattern match (m//) at /home/cpan/pit/rel/perl-5.18.4/lib/site_perl/5.18.4/ExtUtils/MM_Unix.pm line 1530.
Use of uninitialized value $mandir in pattern match (m//) at /home/cpan/pit/rel/perl-5.18.4/lib/site_perl/5.18.4/ExtUtils/MM_Unix.pm line 1530.
Use of uninitialized value $mandir in pattern match (m//) at /home/cpan/pit/rel/perl-5.18.4/lib/site_perl/5.18.4/ExtUtils/MM_Unix.pm line 1530.
Use of uninitialized value $mandir in pattern match (m//) at /home/cpan/pit/rel/perl-5.18.4/lib/site_perl/5.18.4/ExtUtils/MM_Unix.pm line 1530.
Use of uninitialized value $mandir in pattern match (m//) at /home/cpan/pit/rel/perl-5.18.4/lib/site_perl/5.18.4/ExtUtils/MM_Unix.pm line 1530.
Use of uninitialized value $mandir in pattern match (m//) at /home/cpan/pit/rel/perl-5.18.4/lib/site_perl/5.18.4/ExtUtils/MM_Unix.pm line 1530.
Use of uninitialized value $mandir in pattern match (m//) at /home/cpan/pit/rel/perl-5.18.4/lib/site_perl/5.18.4/ExtUtils/MM_Unix.pm line 1530.
Use of uninitialized value $cmd in substitution (s///) at /home/cpan/pit/rel/perl-5.18.4/lib/site_perl/5.18.4/ExtUtils/MM_Any.pm line 347.
Use of uninitialized value $mandir in pattern match (m//) at /home/cpan/pit/rel/perl-5.18.4/lib/site_perl/5.18.4/ExtUtils/MM_Unix.pm line 1530.
Use of uninitialized value $mandir in pattern match (m//) at /home/cpan/pit/rel/perl-5.18.4/lib/site_perl/5.18.4/ExtUtils/MM_Unix.pm line 1530.
Use of uninitialized value $mandir in pattern match (m//) at /home/cpan/pit/rel/perl-5.18.4/lib/site_perl/5.18.4/ExtUtils/MM_Unix.pm line 1530.
Use of uninitialized value $mandir in pattern match (m//) at /home/cpan/pit/rel/perl-5.18.4/lib/site_perl/5.18.4/ExtUtils/MM_Unix.pm line 1530.
Use of uninitialized value $mandir in pattern match (m//) at /home/cpan/pit/rel/perl-5.18.4/lib/site_perl/5.18.4/ExtUtils/MM_Unix.pm line 1530.
Use of uninitialized value $mandir in pattern match (m//) at /home/cpan/pit/rel/perl-5.18.4/lib/site_perl/5.18.4/ExtUtils/MM_Unix.pm line 1530.
Use of uninitialized value $mandir in pattern match (m//) at /home/cpan/pit/rel/perl-5.18.4/lib/site_perl/5.18.4/ExtUtils/MM_Unix.pm line 1530.
Use of uninitialized value $mandir in pattern match (m//) at /home/cpan/pit/rel/perl-5.18.4/lib/site_perl/5.18.4/ExtUtils/MM_Unix.pm line 1530.
Use of uninitialized value $mandir in pattern match (m//) at /home/cpan/pit/rel/perl-5.18.4/lib/site_perl/5.18.4/ExtUtils/MM_Unix.pm line 1530.
t/22_installdirs.t ...................... ok
t/23_pl_files.t ......................... ok
t/24_multiple_license_blocks.t .......... ok
t/25_perl_version_from.t ................ ok
t/26_unknown_func.t ..................... ok
Warning: prerequisite Test::More 9999 not found. We have 1.302214.
t/27_build_requires_and_include.t ....... ok
t/28_makemaker_args.t ................... ok
t/29_requires_from.t .................... ok
t/30_build_subdirs.t .................... ok
t/31_add_metadata.t ..................... ok
t/32_module_name.t ...................... ok
t/33_copy.t ............................. ok
t/34_readwrite.t ........................ ok
t/recursive/test.t ...................... ok
All tests successful.
Files=36, Tests=547, 69 wallclock secs ( 0.48 usr  0.20 sys + 43.26 cusr 15.21 csys = 59.15 CPU)
Result: PASS


PREREQUISITES:

Here is a list of prerequisites you specified and versions we
managed to load:

	  Module Name                        Have     Want
	  Devel::PPPort                      3.20     3.16
	  ExtUtils::Install                  2.22     1.52
	  ExtUtils::MakeMaker                7.70     6.59
	  ExtUtils::ParseXS                  3.51     2.19
	  File::Path                         2.18        0
	  File::Remove                       1.61     1.42
	  File::Spec                         3.75     3.28
	  Module::Build                    0.4234     0.29
	  Module::CoreList               5.20240609     2.17
	  Module::ScanDeps                   1.37     1.09
	  Parse::CPAN::Meta              2.150010   1.4413
	  Test::Harness                      3.48     3.13
	  Test::More                     1.302214     0.86
	  YAML::Tiny                         1.76     1.38
	  autodie                            2.13        0

Perl module toolchain versions installed:
	Module Name                        Have
	CPANPLUS                         0.9914
	CPANPLUS::Dist::Build              0.90
	Cwd                                3.75
	ExtUtils::CBuilder             0.280236
	ExtUtils::Command                  7.70
	ExtUtils::Install                  2.22
	ExtUtils::MakeMaker                7.70
	ExtUtils::Manifest                 1.75
	ExtUtils::ParseXS                  3.51
	File::Spec                         3.75
	Module::Build                    0.4234
	Pod::Parser                        1.60
	Pod::Simple                        3.28
	Test2                          1.302214
	Test::Harness                      3.48
	Test::More                     1.302214
	version                          0.9932

******************************** NOTE ********************************
The comments above are created mechanically, possibly without manual
checking by the sender.  As there are many people performing automatic
tests on each upload to CPAN, it is likely that you will receive
identical messages about the same problem.

If you believe that the message is mistaken, please reply to the first
one with correction and/or additional informations, and do not take
it personally.  We appreciate your patience. :)
**********************************************************************

Additional comments:


This report was machine-generated by CPANPLUS::Dist::YACSmoke 1.08.
Powered by minismokebox version 0.68

CPANPLUS is prefering Build.PL

------------------------------
ENVIRONMENT AND OTHER CONTEXT
------------------------------

Environment variables:

    AUTOMATED_TESTING = 1
    LANG = C.UTF-8
    NONINTERACTIVE_TESTING = 1
    PATH = /sbin:/bin:/usr/sbin:/usr/bin:/usr/local/sbin:/usr/local/bin:/home/cpan/bin
    PERL5LIB = /home/cpan/pit/jail/kK4gzap_l6/lib/perl5:/home/cpan/pit/rel/conf/perl-5.18.4/.cpanplus/5.18.4/build/DFK0c0KpPD/Module-Install-1.21/blib/lib:/home/cpan/pit/rel/conf/perl-5.18.4/.cpanplus/5.18.4/build/DFK0c0KpPD/Module-Install-1.21/blib/arch
    PERL5_CPANPLUS_IS_RUNNING = 64263
    PERL5_CPANPLUS_IS_VERSION = 0.9914
    PERL5_MINISMOKEBOX = 0.68
    PERL5_YACSMOKE_BASE = /home/cpan/pit/rel/conf/perl-5.18.4
    PERL_EXTUTILS_AUTOINSTALL = --defaultdeps
    PERL_LOCAL_LIB_ROOT = /home/cpan/pit/jail/kK4gzap_l6
    PERL_MB_OPT = --install_base "/home/cpan/pit/jail/kK4gzap_l6"
    PERL_MM_OPT = INSTALL_BASE=/home/cpan/pit/jail/kK4gzap_l6
    PERL_MM_USE_DEFAULT = 1
    PERL_USE_UNSAFE_INC = 1
    SHELL = /usr/local/bin/bash
    TERM = screen

Perl special variables (and OS-specific diagnostics, for MSWin32):

    Perl: $^X = /home/cpan/pit/rel/perl-5.18.4/bin/perl
    UID:  $<  = 1002
    EUID: $>  = 1002
    GID:  $(  = 1002 1002
    EGID: $)  = 1002 1002


-------------------------------


--

Summary of my perl5 (revision 5 version 18 subversion 4) configuration:
   
  Platform:
    osname=freebsd, osvers=14.1-release, archname=i386-freebsd-thread-multi-64int
    uname='freebsd felgarten 14.1-release freebsd 14.1-release releng14.1-n267679-10e31f0946d8 generic i386 '
    config_args='-des -Dprefix=/home/cpan/pit/rel/perl-5.18.4 -Dusethreads -Duse64bitint'
    hint=recommended, useposix=true, d_sigaction=define
    useithreads=define, usemultiplicity=define
    useperlio=define, d_sfio=undef, uselargefiles=define, usesocks=undef
    use64bitint=define, use64bitall=undef, uselongdouble=undef
    usemymalloc=n, bincompat5005=undef
  Compiler:
    cc='cc', ccflags ='-DHAS_FPSETMASK -DHAS_FLOATINGPOINT_H -DNO_POSIX_2008_LOCALE -fno-strict-aliasing -pipe -fstack-protector -I/usr/local/include',
    optimize='-O2',
    cppflags='-DHAS_FPSETMASK -DHAS_FLOATINGPOINT_H -DNO_POSIX_2008_LOCALE -fno-strict-aliasing -pipe -fstack-protector -I/usr/local/include'
    ccversion='', gccversion='FreeBSD Clang 18.1.5 (https://github.com/llvm/llvm-project.git llvmorg-18.1.5-0-g617a15a9eac9)', gccosandvers=''
    intsize=4, longsize=4, ptrsize=4, doublesize=8, byteorder=12345678
    d_longlong=define, longlongsize=8, d_longdbl=define, longdblsize=12
    ivtype='long long', ivsize=8, nvtype='double', nvsize=8, Off_t='off_t', lseeksize=8
    alignbytes=4, prototype=define
  Linker and Libraries:
    ld='cc', ldflags ='-pthread -Wl,-E  -fstack-protector -L/usr/local/lib'
    libpth=/usr/lib /usr/local/lib
    libs=-lgdbm -ldl -lm -lcrypt -lutil
    perllibs=-ldl -lm -lcrypt -lutil
    libc=, so=so, useshrplib=false, libperl=libperl.a
    gnulibc_version=''
  Dynamic Linking:
    dlsrc=dl_dlopen.xs, dlext=so, d_dlsymun=undef, ccdlflags=' '
    cccdlflags='-DPIC -fPIC', lddlflags='-shared  -L/usr/local/lib -fstack-protector'


Characteristics of this binary (from libperl): 
  Compile-time options: HAS_TIMES MULTIPLICITY PERLIO_LAYERS
                        PERL_DONT_CREATE_GVSV
                        PERL_HASH_FUNC_ONE_AT_A_TIME_HARD
                        PERL_IMPLICIT_CONTEXT PERL_MALLOC_WRAP
                        PERL_PRESERVE_IVUV PERL_SAWAMPERSAND USE_64_BIT_INT
                        USE_ITHREADS USE_LARGE_FILES USE_LOCALE
                        USE_LOCALE_COLLATE USE_LOCALE_CTYPE
                        USE_LOCALE_NUMERIC USE_PERLIO USE_PERL_ATOF
                        USE_REENTRANT_API
  Locally applied patches:
	Devel::PatchPerl 2.09
  Built under freebsd
  Compiled at Jun 25 2024 14:22:39
  %ENV:
    PERL5LIB="/home/cpan/pit/jail/kK4gzap_l6/lib/perl5:/home/cpan/pit/rel/conf/perl-5.18.4/.cpanplus/5.18.4/build/DFK0c0KpPD/Module-Install-1.21/blib/lib:/home/cpan/pit/rel/conf/perl-5.18.4/.cpanplus/5.18.4/build/DFK0c0KpPD/Module-Install-1.21/blib/arch"
    PERL5_CPANPLUS_IS_RUNNING="64263"
    PERL5_CPANPLUS_IS_VERSION="0.9914"
    PERL5_MINISMOKEBOX="0.68"
    PERL5_YACSMOKE_BASE="/home/cpan/pit/rel/conf/perl-5.18.4"
    PERL_EXTUTILS_AUTOINSTALL="--defaultdeps"
    PERL_LOCAL_LIB_ROOT="/home/cpan/pit/jail/kK4gzap_l6"
    PERL_MB_OPT="--install_base "/home/cpan/pit/jail/kK4gzap_l6""
    PERL_MM_OPT="INSTALL_BASE=/home/cpan/pit/jail/kK4gzap_l6"
    PERL_MM_USE_DEFAULT="1"
    PERL_USE_UNSAFE_INC="1"
  @INC:
    /home/cpan/pit/jail/kK4gzap_l6/lib/perl5/5.18.4/i386-freebsd-thread-multi-64int
    /home/cpan/pit/jail/kK4gzap_l6/lib/perl5/5.18.4
    /home/cpan/pit/jail/kK4gzap_l6/lib/perl5/i386-freebsd-thread-multi-64int
    /home/cpan/pit/jail/kK4gzap_l6/lib/perl5
    /home/cpan/pit/rel/conf/perl-5.18.4/.cpanplus/5.18.4/build/DFK0c0KpPD/Module-Install-1.21/blib/lib
    /home/cpan/pit/rel/conf/perl-5.18.4/.cpanplus/5.18.4/build/DFK0c0KpPD/Module-Install-1.21/blib/arch
    /home/cpan/pit/rel/perl-5.18.4/lib/site_perl/5.18.4/i386-freebsd-thread-multi-64int
    /home/cpan/pit/rel/perl-5.18.4/lib/site_perl/5.18.4
    /home/cpan/pit/rel/perl-5.18.4/lib/5.18.4/i386-freebsd-thread-multi-64int
    /home/cpan/pit/rel/perl-5.18.4/lib/5.18.4
    .