Path-IsDev v1.001003 Perl 5 v5.29.0 x86_64-linux-multi
- Status
- Pass
- From
- Serguei Trouchelle (STRO)
- Dist
-
Path-IsDev v1.001003
- Platform
- Perl 5 v5.29.0 x86_64-linux-multi
- Date
- 2018-11-22 17:16:58
- ID
- 6b2ed90c-ee7a-11e8-9d22-c12a8c7c0682
This distribution has been tested as part of the CPAN Testers
project, supporting the Perl programming language. See
http://wiki.cpantesters.org/ for more information or email
questions to cpan-testers-discuss@perl.org
--
Dear Kent Fredric,
This is a computer-generated report for Path-IsDev-1.001003
on perl 5.29.0, created by CPAN-Reporter-1.2018.
Thank you for uploading your work to CPAN. Congratulations!
All tests were successful.
Sections of this report:
* Tester comments
* Program output
* Prerequisites
* Environment and other context
------------------------------
TESTER COMMENTS
------------------------------
Additional comments from tester:
this report is from an automated smoke testing program
and was not reviewed by a human for accuracy
------------------------------
PROGRAM OUTPUT
------------------------------
Output from '/usr/bin/make test':
PERL_DL_NONLAZY=1 "/home/stro/perl/5.29.0m/bin/perl" "-MExtUtils::Command::MM" "-MTest::Harness" "-e" "undef *Test::Harness::Switches; test_harness(0, 'blib/lib', 'blib/arch')" t/*.t t/00-compile/*.t t/Path-IsDev-Object/*.t t/Path-IsDev/is_dev/*.t
t/00-compile/lib_Path_IsDev_Heuristic_Changelog_pm.t ........................... ok
t/00-compile/lib_Path_IsDev_Heuristic_DevDirMarker_pm.t ........................ ok
t/00-compile/lib_Path_IsDev_Heuristic_Makefile_pm.t ............................ ok
t/00-compile/lib_Path_IsDev_Heuristic_META_pm.t ................................ ok
t/00-compile/lib_Path_IsDev_Heuristic_MYMETA_pm.t .............................. ok
t/00-compile/lib_Path_IsDev_Heuristic_TestDir_pm.t ............................. ok
t/00-compile/lib_Path_IsDev_Heuristic_Tool_Dzil_pm.t ........................... ok
t/00-compile/lib_Path_IsDev_Heuristic_Tool_MakeMaker_pm.t ...................... ok
t/00-compile/lib_Path_IsDev_Heuristic_Tool_ModuleBuild_pm.t .................... ok
t/00-compile/lib_Path_IsDev_Heuristic_VCS_Git_pm.t ............................. ok
t/00-compile/lib_Path_IsDev_HeuristicSet_Basic_pm.t ............................ ok
t/00-compile/lib_Path_IsDev_NegativeHeuristic_HomeDir_pm.t ..................... ok
t/00-compile/lib_Path_IsDev_NegativeHeuristic_IsDev_IgnoreFile_pm.t ............ ok
t/00-compile/lib_Path_IsDev_NegativeHeuristic_PerlINC_pm.t ..................... ok
t/00-compile/lib_Path_IsDev_Object_pm.t ........................................ ok
t/00-compile/lib_Path_IsDev_pm.t ............................................... ok
t/00-compile/lib_Path_IsDev_Result_pm.t ........................................ ok
t/00-compile/lib_Path_IsDev_Role_Heuristic_pm.t ................................ ok
t/00-compile/lib_Path_IsDev_Role_HeuristicSet_pm.t ............................. ok
t/00-compile/lib_Path_IsDev_Role_HeuristicSet_Simple_pm.t ...................... ok
t/00-compile/lib_Path_IsDev_Role_Matcher_Child_BaseName_MatchRegexp_File_pm.t .. ok
t/00-compile/lib_Path_IsDev_Role_Matcher_Child_BaseName_MatchRegexp_pm.t ....... ok
t/00-compile/lib_Path_IsDev_Role_Matcher_Child_Exists_Any_Dir_pm.t ............. ok
t/00-compile/lib_Path_IsDev_Role_Matcher_Child_Exists_Any_File_pm.t ............ ok
t/00-compile/lib_Path_IsDev_Role_Matcher_Child_Exists_Any_pm.t ................. ok
t/00-compile/lib_Path_IsDev_Role_Matcher_FullPath_Is_Any_pm.t .................. ok
t/00-compile/lib_Path_IsDev_Role_NegativeHeuristic_pm.t ........................ ok
#
# Versions for all modules listed in MYMETA.json (including optional ones):
#
# === Configure Requires ===
#
# Module Want Have
# ------------------- ---- ----
# ExtUtils::MakeMaker any 7.34
#
# === Configure Recommends ===
#
# Module Want Have
# ------------------- ---- ----
# ExtUtils::MakeMaker 7.00 7.34
#
# === Build Requires ===
#
# Module Want Have
# ------------------- ---- ----
# ExtUtils::MakeMaker any 7.34
#
# === Test Requires ===
#
# Module Want Have
# ------------------- ---- --------
# ExtUtils::MakeMaker any 7.34
# File::Spec any 3.75
# File::Temp any 0.2308
# FindBin any 1.51
# Test::Fatal any 0.014
# Test::More any 1.302140
#
# === Test Recommends ===
#
# Module Want Have
# ------------------- -------- --------
# CPAN::Meta 2.120900 2.150010
# ExtUtils::MakeMaker 7.00 7.34
# Test::More 0.99 1.302140
#
# === Runtime Requires ===
#
# Module Want Have
# ---------------- ----- --------
# Carp any 1.50
# Class::Tiny 0.010 1.006
# File::HomeDir any 1.004
# Module::Runtime any 0.016
# Path::Tiny 0.004 0.108
# Role::Tiny any 2.000006
# Role::Tiny::With any 2.000006
# Scalar::Util any 1.50
# Sub::Exporter any 0.987
# strict any 1.11
# utf8 any 1.21
# warnings any 1.42
#
# === Runtime Recommends ===
#
# Module Want Have
# ---------- ----- -----
# Path::Tiny 0.058 0.108
#
t/00-report-prereqs.t .......................................................... ok
t/basic.t ...................................................................... ok
t/Path-IsDev-Object/_matches.t ................................................. ok
# $path_isdev_source = /home/stro/cpan/build/5.29.0m/build/Path-IsDev-1.001003-0
# $corpus_Changes_dir = /home/stro/cpan/build/5.29.0m/build/Path-IsDev-1.001003-0/corpus/Changelog
# $corpus_Changes_dir/../ = /home/stro/cpan/build/5.29.0m/build/Path-IsDev-1.001003-0/corpus
t/Path-IsDev-Object/basic.t .................................................... ok
t/Path-IsDev/is_dev/Changelog.t ................................................ ok
t/Path-IsDev/is_dev/DevDir.t ................................................... ok
t/Path-IsDev/is_dev/DZil.t ..................................................... ok
t/Path-IsDev/is_dev/MakeMaker.t ................................................ ok
t/Path-IsDev/is_dev/META.t ..................................................... ok
t/Path-IsDev/is_dev/ModuleBuild.t .............................................. ok
t/Path-IsDev/is_dev/MYMETA.t ................................................... ok
t/Path-IsDev/is_dev/TestDir.t .................................................. ok
All tests successful.
Files=39, Tests=111, 2 wallclock secs ( 0.08 usr 0.02 sys + 1.12 cusr 0.09 csys = 1.31 CPU)
Result: PASS
------------------------------
PREREQUISITES
------------------------------
Prerequisite modules loaded:
requires:
Module Need Have
------------------- ----- --------
Carp 0 1.50
Class::Tiny 0.010 1.006
File::HomeDir 0 1.004
Module::Runtime 0 0.016
Path::Tiny 0.004 0.108
perl 5.008 5.029000
Role::Tiny 0 2.000006
Role::Tiny::With 0 2.000006
Scalar::Util 0 1.50
strict 0 1.11
Sub::Exporter 0 0.987
utf8 0 1.21
warnings 0 1.42
build_requires:
Module Need Have
------------------- ----- --------
ExtUtils::MakeMaker 0 7.34
File::Spec 0 3.75
File::Temp 0 0.2308
FindBin 0 1.51
Test::Fatal 0 0.014
Test::More 0 1.302140
configure_requires:
Module Need Have
------------------- ----- --------
ExtUtils::MakeMaker 0 7.34
perl 5.008 5.029000
------------------------------
ENVIRONMENT AND OTHER CONTEXT
------------------------------
Environment variables:
AUTOMATED_TESTING = 1
LANG = en_US.UTF-8
PATH = /usr/local/bin:/usr/bin:/bin:/usr/local/games:/usr/games
PERL5LIB =
PERL5OPT =
PERL5_CPANPLUS_IS_RUNNING = 18371
PERL5_CPAN_IS_RUNNING = 18371
PERL5_CPAN_IS_RUNNING_IN_RECURSION = 4699,18371
PERL_CR_SMOKER_CURRENT = CatalystX-InjectModule-0.18
PERL_EXTUTILS_AUTOINSTALL = --defaultdeps
PERL_MM_USE_DEFAULT = 1
PERL_USE_UNSAFE_INC = 1
SHELL = /bin/bash
TERM = xterm
Perl special variables (and OS-specific diagnostics, for MSWin32):
$^X = /home/stro/perl/5.29.0m/bin/perl
$UID/$EUID = 1000 / 1000
$GID = 1000 24 25 29 30 44 46 108 114 1000
$EGID = 1000 24 25 29 30 44 46 108 114 1000
Perl module toolchain versions installed:
Module Have
------------------- --------
CPAN 2.20
CPAN::Meta 2.150010
Cwd 3.75
ExtUtils::CBuilder 0.280230
ExtUtils::Command 7.34
ExtUtils::Install 2.14
ExtUtils::MakeMaker 7.34
ExtUtils::Manifest 1.70
ExtUtils::ParseXS 3.39
File::Spec 3.75
JSON 2.97001
JSON::PP 2.97001
Module::Build 0.4224
Module::Signature 0.83
Parse::CPAN::Meta 2.150010
Test::Harness 3.42
Test::More 1.302140
YAML 1.26
YAML::Syck 1.30
version 0.9923
--
Summary of my perl5 (revision 5 version 29 subversion 0) configuration:
Platform:
osname=linux
osvers=3.16.0-4-amd64
archname=x86_64-linux-multi
uname='linux vm-debian-001 3.16.0-4-amd64 #1 smp debian 3.16.7-ckt11-1 (2015-05-24) x86_64 gnulinux '
config_args=''
hint=recommended
useposix=true
d_sigaction=define
useithreads=undef
usemultiplicity=define
use64bitint=define
use64bitall=define
uselongdouble=undef
usemymalloc=n
default_inc_excludes_dot=define
bincompat5005=undef
Compiler:
cc='cc'
ccflags ='-fwrapv -fno-strict-aliasing -pipe -fstack-protector-strong -I/usr/local/include -D_LARGEFILE_SOURCE -D_FILE_OFFSET_BITS=64 -D_FORTIFY_SOURCE=2'
optimize='-O2'
cppflags='-fwrapv -fno-strict-aliasing -pipe -fstack-protector-strong -I/usr/local/include'
ccversion=''
gccversion='4.9.2'
gccosandvers=''
intsize=4
longsize=8
ptrsize=8
doublesize=8
byteorder=12345678
doublekind=3
d_longlong=define
longlongsize=8
d_longdbl=define
longdblsize=16
longdblkind=3
ivtype='long'
ivsize=8
nvtype='double'
nvsize=8
Off_t='off_t'
lseeksize=8
alignbytes=8
prototype=define
Linker and Libraries:
ld='cc'
ldflags =' -fstack-protector-strong -L/usr/local/lib'
libpth=/usr/local/lib /usr/lib/gcc/x86_64-linux-gnu/4.9/include-fixed /usr/include/x86_64-linux-gnu /usr/lib /lib/x86_64-linux-gnu /lib/../lib /usr/lib/x86_64-linux-gnu /usr/lib/../lib /lib
libs=-lpthread -lnsl -ldl -lm -lcrypt -lutil -lc
perllibs=-lpthread -lnsl -ldl -lm -lcrypt -lutil -lc
libc=libc-2.19.so
so=so
useshrplib=false
libperl=libperl.a
gnulibc_version='2.19'
Dynamic Linking:
dlsrc=dl_dlopen.xs
dlext=so
d_dlsymun=undef
ccdlflags='-Wl,-E'
cccdlflags='-fPIC'
lddlflags='-shared -O2 -L/usr/local/lib -fstack-protector-strong'
Characteristics of this binary (from libperl):
Compile-time options:
HAS_TIMES
MULTIPLICITY
PERLIO_LAYERS
PERL_COPY_ON_WRITE
PERL_DONT_CREATE_GVSV
PERL_IMPLICIT_CONTEXT
PERL_MALLOC_WRAP
PERL_OP_PARENT
PERL_PRESERVE_IVUV
USE_64_BIT_ALL
USE_64_BIT_INT
USE_LARGE_FILES
USE_LOCALE
USE_LOCALE_COLLATE
USE_LOCALE_CTYPE
USE_LOCALE_NUMERIC
USE_LOCALE_TIME
USE_PERLIO
USE_PERL_ATOF
Built under linux
Compiled at Aug 13 2018 11:51:43
%ENV:
PERL5LIB=""
PERL5OPT=""
PERL5_CPANPLUS_IS_RUNNING="18371"
PERL5_CPAN_IS_RUNNING="18371"
PERL5_CPAN_IS_RUNNING_IN_RECURSION="4699,18371"
PERL_CR_SMOKER_CURRENT="CatalystX-InjectModule-0.18"
PERL_EXTUTILS_AUTOINSTALL="--defaultdeps"
PERL_MM_USE_DEFAULT="1"
PERL_USE_UNSAFE_INC="1"
@INC:
/home/stro/perl/5.29.0m/lib/site_perl/5.29.0/x86_64-linux-multi
/home/stro/perl/5.29.0m/lib/site_perl/5.29.0
/home/stro/perl/5.29.0m/lib/5.29.0/x86_64-linux-multi
/home/stro/perl/5.29.0m/lib/5.29.0
.