Back
From: metabase:user:9c36dc84-a30f-11e0-a9fc-0a18abbd4f2f
Subject: PASS POE-Loop-Event-1.305 v5.20.3 OpenBSD
Date: 2016-12-01T19:07:35Z
This distribution has been tested as part of the CPAN Testers
project, supporting the Perl programming language. See
http://wiki.cpantesters.org/ for more information or email
questions to cpan-testers-discuss@perl.org
--
Dear Rocco Caputo,
This is a computer-generated report for POE-Loop-Event-1.305
on perl 5.20.3, created by CPAN-Reporter-1.2018.
Thank you for uploading your work to CPAN. Congratulations!
All tests were successful.
Sections of this report:
* Tester comments
* Program output
* Prerequisites
* Environment and other context
------------------------------
TESTER COMMENTS
------------------------------
Additional comments from tester:
this report is from an automated smoke testing program
and was not reviewed by a human for accuracy
------------------------------
PROGRAM OUTPUT
------------------------------
Output from '/usr/bin/make test':
PERL_DL_NONLAZY=1 "/home/bar/perl5/perlbrew/perls/perl-5.20.3/bin/perl" "-MExtUtils::Command::MM" "-MTest::Harness" "-e" "undef *Test::Harness::Switches; test_harness(0, 'blib/lib', 'blib/arch')" t/*.t t/poe_loop_event/*.t
# Testing POE 1.367, Perl 5.020003, /home/bar/perl5/perlbrew/perls/perl-5.20.3/bin/perl on openbsd
t/00_info.t ...................................... ok
# Testing POE 1.367, POE::Test::Loops 1.360, Using Loop(POE::Loop::Event), Perl 5.020003, /home/bar/perl5/perlbrew/perls/perl-5.20.3/bin/perl on openbsd
t/poe_loop_event/00_info.t ....................... ok
t/poe_loop_event/all_errors.t .................... skipped: most of these should move into other test files
t/poe_loop_event/comp_tcp.t ...................... ok
# You might see a 'disconnect' error during this test.
# It may be ignored.
t/poe_loop_event/comp_tcp_concurrent.t ........... ok
t/poe_loop_event/connect_errors.t ................ ok
t/poe_loop_event/k_alarms.t ...................... ok
t/poe_loop_event/k_aliases.t ..................... ok
t/poe_loop_event/k_detach.t ...................... ok
t/poe_loop_event/k_run_returns.t ................. ok
t/poe_loop_event/k_selects.t ..................... ok
t/poe_loop_event/k_sig_child.t ................... ok
t/poe_loop_event/k_signals.t ..................... ok
t/poe_loop_event/k_signals_rerun.t ............... ok
t/poe_loop_event/sbk_signal_init.t ............... ok
t/poe_loop_event/ses_nfa.t ....................... ok
# This test generates some STDERR during trace testing.
=== 31673 === 23 -> _start (from /home/bar/perl5/perlbrew/perls/perl-5.20.3/lib/site_perl/5.20.3/POE/Kernel.pm at 1497)
=== 31673 === 23 -> woot (from /home/bar/perl5/perlbrew/perls/perl-5.20.3/lib/site_perl/5.20.3/POE/Test/Loops/ses_session.pm at 691)
=== 31673 === 23 -> narf (from /home/bar/perl5/perlbrew/perls/perl-5.20.3/lib/site_perl/5.20.3/POE/Test/Loops/ses_session.pm at 692)
=== 31673 === 23 -> _stop (from /home/bar/perl5/perlbrew/perls/perl-5.20.3/lib/site_perl/5.20.3/POE/Resource/Sessions.pm at 571)
t/poe_loop_event/ses_session.t ................... ok
t/poe_loop_event/wheel_accept.t .................. ok
t/poe_loop_event/wheel_curses.t .................. skipped: Need help with Curses functions blocking under ptys
t/poe_loop_event/wheel_readline.t ................ ok
t/poe_loop_event/wheel_readwrite.t ............... ok
t/poe_loop_event/wheel_run.t ..................... ok
t/poe_loop_event/wheel_run_size.t ................ ok
t/poe_loop_event/wheel_sf_ipv6.t ................. skipped: Socket::GetAddrInfo is needed for IPv6 tests
t/poe_loop_event/wheel_sf_tcp.t .................. ok
t/poe_loop_event/wheel_sf_udp.t .................. ok
t/poe_loop_event/wheel_sf_unix.t ................. ok
t/poe_loop_event/wheel_tail.t .................... ok
t/poe_loop_event/z_kogman_sig_order.t ............ ok
t/poe_loop_event/z_leolo_wheel_run.t ............. ok
# Using '/usr/bin/true' as our thing to run under system()
t/poe_loop_event/z_merijn_sigchld_system.t ....... ok
t/poe_loop_event/z_rt39872_sigchld.t ............. ok
# Parent 32703 waiting 3sec for slow systems to settle.
# sending sigusr1
# sent sigusr1
t/poe_loop_event/z_rt39872_sigchld_stop.t ........ ok
t/poe_loop_event/z_rt53302_fh_watchers.t ......... ok
t/poe_loop_event/z_rt54319_bazerka_followtail.t .. ok
t/poe_loop_event/z_steinert_signal_integrity.t ... ok
All tests successful.
Files=36, Tests=490, 34 wallclock secs ( 0.16 usr 0.31 sys + 4.54 cusr 3.62 csys = 8.63 CPU)
Result: PASS
------------------------------
PREREQUISITES
------------------------------
Prerequisite modules loaded:
requires:
Module Need Have
------------------- ----- -----
Event 1.21 1.26
POE 1.356 1.367
build_requires:
Module Need Have
------------------- ----- -----
ExtUtils::MakeMaker 0 7.24
configure_requires:
Module Need Have
------------------- ----- -----
ExtUtils::MakeMaker 0 7.24
POE::Test::Loops 1.352 1.360
------------------------------
ENVIRONMENT AND OTHER CONTEXT
------------------------------
Environment variables:
AUTOMATED_TESTING = 1
PATH = /home/bar/bin:/home/bar/perl5/perlbrew/bin:/home/bar/perl5/perlbrew/perls/perl-5.20.3/bin:/usr/bin:/bin:/usr/sbin:/sbin:/usr/X11R6/bin:/usr/local/bin:/usr/local/sbin
PERL5LIB =
PERL5OPT =
PERL5_CPANPLUS_IS_RUNNING = 22921
PERL5_CPAN_IS_RUNNING = 22921
PERL5_CPAN_IS_RUNNING_IN_RECURSION = 9972,22921
PERLBREW_BASHRC_VERSION = 0.76
PERLBREW_HOME = /home/bar/.perlbrew
PERLBREW_MANPATH = /home/bar/perl5/perlbrew/perls/perl-5.20.3/man
PERLBREW_PATH = /home/bar/perl5/perlbrew/bin:/home/bar/perl5/perlbrew/perls/perl-5.20.3/bin
PERLBREW_PERL = perl-5.20.3
PERLBREW_ROOT = /home/bar/perl5/perlbrew
PERLBREW_VERSION = 0.76
PERL_CR_SMOKER_CURRENT = POE-Loop-Event-1.305
PERL_EXTUTILS_AUTOINSTALL = --defaultdeps
PERL_MM_USE_DEFAULT = 1
SHELL = /usr/local/bin/bash
TERM = vt220
Perl special variables (and OS-specific diagnostics, for MSWin32):
$^X = /home/bar/perl5/perlbrew/perls/perl-5.20.3/bin/perl
$UID/$EUID = 1002 / 1002
$GID = 1002 1002
$EGID = 1002 1002
Perl module toolchain versions installed:
Module Have
------------------- --------
CPAN 2.14
CPAN::Meta 2.150010
Cwd 3.62
ExtUtils::CBuilder 0.280224
ExtUtils::Command 7.24
ExtUtils::Install 2.04
ExtUtils::MakeMaker 7.24
ExtUtils::Manifest 1.70
ExtUtils::ParseXS 3.30
File::Spec 3.62
JSON 2.90
JSON::PP 2.27400
Module::Build 0.4220
Module::Signature n/a
Parse::CPAN::Meta 2.150010
Test::Harness 3.36
Test::More 1.302067
YAML 1.19_001
YAML::Syck 1.29
version 0.9912
--
Summary of my perl5 (revision 5 version 20 subversion 3) configuration:
Platform:
osname=openbsd, osvers=5.9, archname=OpenBSD.amd64-openbsd
uname='openbsd baiacu.spo.virtua.com.br 5.9 generic.mp#1888 amd64 '
config_args='-de -Dprefix=/home/bar/perl5/perlbrew/perls/perl-5.20.3 -Aeval:scriptdir=/home/bar/perl5/perlbrew/perls/perl-5.20.3/bin'
hint=recommended, useposix=true, d_sigaction=define
useithreads=undef, usemultiplicity=undef
use64bitint=define, use64bitall=define, uselongdouble=undef
usemymalloc=n, bincompat5005=undef
Compiler:
cc='cc', ccflags ='-fno-strict-aliasing -pipe -fstack-protector -I/usr/local/include',
optimize='-O2',
cppflags='-fno-strict-aliasing -pipe -fstack-protector -I/usr/local/include'
ccversion='', gccversion='4.2.1 20070719 ', gccosandvers='openbsd5.9'
intsize=4, longsize=8, ptrsize=8, doublesize=8, byteorder=12345678
d_longlong=define, longlongsize=8, d_longdbl=define, longdblsize=16
ivtype='long', ivsize=8, nvtype='double', nvsize=8, Off_t='off_t', lseeksize=8
alignbytes=8, prototype=define
Linker and Libraries:
ld='cc', ldflags ='-Wl,-E -fstack-protector -L/usr/local/lib'
libpth=/usr/lib /usr/local/lib
libs=-lpthread -lm -lutil -lc
perllibs=-lpthread -lm -lutil -lc
libc=/usr/lib/libc.so.84.2, so=so, useshrplib=false, libperl=libperl.a
gnulibc_version=''
Dynamic Linking:
dlsrc=dl_dlopen.xs, dlext=so, d_dlsymun=undef, ccdlflags=' '
cccdlflags='-DPIC -fPIC ', lddlflags='-shared -fPIC -L/usr/local/lib -fstack-protector'
Characteristics of this binary (from libperl):
Compile-time options: HAS_TIMES PERLIO_LAYERS PERL_DONT_CREATE_GVSV
PERL_HASH_FUNC_ONE_AT_A_TIME_HARD PERL_MALLOC_WRAP
PERL_NEW_COPY_ON_WRITE PERL_PRESERVE_IVUV
USE_64_BIT_ALL USE_64_BIT_INT USE_LARGE_FILES
USE_LOCALE USE_LOCALE_COLLATE USE_LOCALE_CTYPE
USE_LOCALE_NUMERIC USE_PERLIO USE_PERL_ATOF
Locally applied patches:
Devel::PatchPerl 1.38
Built under openbsd
Compiled at Sep 12 2016 22:30:16
%ENV:
PERL5LIB=""
PERL5OPT=""
PERL5_CPANPLUS_IS_RUNNING="22921"
PERL5_CPAN_IS_RUNNING="22921"
PERL5_CPAN_IS_RUNNING_IN_RECURSION="9972,22921"
PERLBREW_BASHRC_VERSION="0.76"
PERLBREW_HOME="/home/bar/.perlbrew"
PERLBREW_MANPATH="/home/bar/perl5/perlbrew/perls/perl-5.20.3/man"
PERLBREW_PATH="/home/bar/perl5/perlbrew/bin:/home/bar/perl5/perlbrew/perls/perl-5.20.3/bin"
PERLBREW_PERL="perl-5.20.3"
PERLBREW_ROOT="/home/bar/perl5/perlbrew"
PERLBREW_VERSION="0.76"
PERL_CR_SMOKER_CURRENT="POE-Loop-Event-1.305"
PERL_EXTUTILS_AUTOINSTALL="--defaultdeps"
PERL_MM_USE_DEFAULT="1"
@INC:
/home/bar/perl5/perlbrew/perls/perl-5.20.3/lib/site_perl/5.20.3/OpenBSD.amd64-openbsd
/home/bar/perl5/perlbrew/perls/perl-5.20.3/lib/site_perl/5.20.3
/home/bar/perl5/perlbrew/perls/perl-5.20.3/lib/5.20.3/OpenBSD.amd64-openbsd
/home/bar/perl5/perlbrew/perls/perl-5.20.3/lib/5.20.3
.