Report for Net-SSH-Mechanize-0.1.3

Back
From: metabase:user:314402c4-2aae-11df-837a-5e0a49663a4f
Subject: PASS Net-SSH-Mechanize-0.1.3 v5.20.1 RC2 GNU/Linux
Date: 2014-09-11T22:38:57Z

This distribution has been tested as part of the CPAN Testers
project, supporting the Perl programming language.  See
http://wiki.cpantesters.org/ for more information or email
questions to cpan-testers-discuss@perl.org


--
Dear Nick Stokoe,

This is a computer-generated report for Net-SSH-Mechanize-0.1.3
on perl 5.20.1, created by CPAN-Reporter-1.2011.

Thank you for uploading your work to CPAN.  Congratulations!
All tests were successful.

Sections of this report:

    * Tester comments
    * Program output
    * Prerequisites
    * Environment and other context

------------------------------
TESTER COMMENTS
------------------------------

Additional comments from tester:

none provided

------------------------------
PROGRAM OUTPUT
------------------------------

Output from './Build test':

Passing a list of values to enum is deprecated. Enum values should be wrapped in an arrayref. at /opt/perl-5.20.1-RC2/lib/site_perl/5.20.1/AnyEvent/Subprocess/Types.pm line 42.
	require AnyEvent/Subprocess/Types.pm called at /opt/perl-5.20.1-RC2/lib/site_perl/5.20.1/AnyEvent/Subprocess/Done.pm line 9
	AnyEvent::Subprocess::Done::BEGIN() called at /opt/perl-5.20.1-RC2/lib/site_perl/5.20.1/AnyEvent/Subprocess/Types.pm line 0
	eval {...} called at /opt/perl-5.20.1-RC2/lib/site_perl/5.20.1/AnyEvent/Subprocess/Types.pm line 0
	require AnyEvent/Subprocess/Done.pm called at /opt/perl-5.20.1-RC2/lib/site_perl/5.20.1/AnyEvent/Subprocess/Running.pm line 10
	AnyEvent::Subprocess::Running::BEGIN() called at /opt/perl-5.20.1-RC2/lib/site_perl/5.20.1/AnyEvent/Subprocess/Types.pm line 0
	eval {...} called at /opt/perl-5.20.1-RC2/lib/site_perl/5.20.1/AnyEvent/Subprocess/Types.pm line 0
	require AnyEvent/Subprocess/Running.pm called at /opt/perl-5.20.1-RC2/lib/site_perl/5.20.1/Module/Runtime.pm line 317
	Module::Runtime::require_module("AnyEvent::Subprocess::Running") called at /opt/perl-5.20.1-RC2/lib/site_perl/5.20.1/Module/Runtime.pm line 381
	eval {...} called at /opt/perl-5.20.1-RC2/lib/site_perl/5.20.1/Module/Runtime.pm line 381
	Module::Runtime::use_package_optimistically("AnyEvent::Subprocess::Running") called at /opt/perl-5.20.1-RC2/lib/site_perl/5.20.1/x86_64-linux/Moose/Util.pm line 352
	Moose::Util::_load_user_class("AnyEvent::Subprocess::Running", undef) called at /opt/perl-5.20.1-RC2/lib/site_perl/5.20.1/x86_64-linux/Moose/Meta/Class.pm line 560
	Moose::Meta::Class::superclasses(undef, "AnyEvent::Subprocess::Running") called at /opt/perl-5.20.1-RC2/lib/site_perl/5.20.1/x86_64-linux/Moose.pm line 56
	Moose::extends(Moose::Meta::Class=HASH(0x35e6a68), "AnyEvent::Subprocess::Running") called at /opt/perl-5.20.1-RC2/lib/site_perl/5.20.1/x86_64-linux/Moose/Exporter.pm line 411
	Moose::extends("AnyEvent::Subprocess::Running") called at /tmpfs/.cpan-build/Net-SSH-Mechanize-0.1.3-s3sqIN/blib/lib/Net/SSH/Mechanize/Session.pm line 10
	require Net/SSH/Mechanize/Session.pm called at /tmpfs/.cpan-build/Net-SSH-Mechanize-0.1.3-s3sqIN/blib/lib/Net/SSH/Mechanize.pm line 7
	Net::SSH::Mechanize::BEGIN() called at /opt/perl-5.20.1-RC2/lib/site_perl/5.20.1/AnyEvent/Subprocess/Types.pm line 0
	eval {...} called at /opt/perl-5.20.1-RC2/lib/site_perl/5.20.1/AnyEvent/Subprocess/Types.pm line 0
	require Net/SSH/Mechanize.pm called at t/00.load.t line 76
	main::BEGIN() called at /opt/perl-5.20.1-RC2/lib/site_perl/5.20.1/AnyEvent/Subprocess/Types.pm line 0
	eval {...} called at /opt/perl-5.20.1-RC2/lib/site_perl/5.20.1/AnyEvent/Subprocess/Types.pm line 0
	eval 'package main;

#line 76 t/00.load.t
use Net::SSH::Mechanize @{$args[0]};
1;
' called at /opt/perl-5.20.1-RC2/lib/site_perl/5.20.1/Test/More.pm line 993
	Test::More::_eval("package main;\x{a}\x{a}#line 76 t/00.load.t\x{a}use Net::SSH::Mechanize \@"..., ARRAY(0x2829038)) called at /opt/perl-5.20.1-RC2/lib/site_perl/5.20.1/Test/More.pm line 968
	Test::More::use_ok("Net::SSH::Mechanize") called at t/00.load.t line 76
	main::__ANON__() called at /opt/perl-5.20.1-RC2/lib/5.20.1/File/Find.pm line 790
	File::Find::_find_dir(HASH(0x24f4158), "/tmpfs/.cpan-build/Net-SSH-Mechanize-0.1.3-s3sqIN/t/../blib/lib", 3) called at /opt/perl-5.20.1-RC2/lib/5.20.1/File/Find.pm line 578
	File::Find::_find_opt(HASH(0x24f4158), "/tmpfs/.cpan-build/Net-SSH-Mechanize-0.1.3-s3sqIN/t/../blib/lib") called at /opt/perl-5.20.1-RC2/lib/5.20.1/File/Find.pm line 1081
	File::Find::find(HASH(0x24f4158), "/tmpfs/.cpan-build/Net-SSH-Mechanize-0.1.3-s3sqIN/t/../blib/lib") called at t/00.load.t line 78
t/00.load.t ................. ok
t/01.pod.t .................. skipped: Test::Pod 1.14 required for testing POD
Passing a list of values to enum is deprecated. Enum values should be wrapped in an arrayref. at /opt/perl-5.20.1-RC2/lib/site_perl/5.20.1/AnyEvent/Subprocess/Types.pm line 42.
	require AnyEvent/Subprocess/Types.pm called at /opt/perl-5.20.1-RC2/lib/site_perl/5.20.1/AnyEvent/Subprocess/Done.pm line 9
	AnyEvent::Subprocess::Done::BEGIN() called at /opt/perl-5.20.1-RC2/lib/site_perl/5.20.1/AnyEvent/Subprocess/Types.pm line 0
	eval {...} called at /opt/perl-5.20.1-RC2/lib/site_perl/5.20.1/AnyEvent/Subprocess/Types.pm line 0
	require AnyEvent/Subprocess/Done.pm called at /opt/perl-5.20.1-RC2/lib/site_perl/5.20.1/AnyEvent/Subprocess/Running.pm line 10
	AnyEvent::Subprocess::Running::BEGIN() called at /opt/perl-5.20.1-RC2/lib/site_perl/5.20.1/AnyEvent/Subprocess/Types.pm line 0
	eval {...} called at /opt/perl-5.20.1-RC2/lib/site_perl/5.20.1/AnyEvent/Subprocess/Types.pm line 0
	require AnyEvent/Subprocess/Running.pm called at /opt/perl-5.20.1-RC2/lib/site_perl/5.20.1/Module/Runtime.pm line 317
	Module::Runtime::require_module("AnyEvent::Subprocess::Running") called at /opt/perl-5.20.1-RC2/lib/site_perl/5.20.1/Module/Runtime.pm line 381
	eval {...} called at /opt/perl-5.20.1-RC2/lib/site_perl/5.20.1/Module/Runtime.pm line 381
	Module::Runtime::use_package_optimistically("AnyEvent::Subprocess::Running") called at /opt/perl-5.20.1-RC2/lib/site_perl/5.20.1/x86_64-linux/Moose/Util.pm line 352
	Moose::Util::_load_user_class("AnyEvent::Subprocess::Running", undef) called at /opt/perl-5.20.1-RC2/lib/site_perl/5.20.1/x86_64-linux/Moose/Meta/Class.pm line 560
	Moose::Meta::Class::superclasses(undef, "AnyEvent::Subprocess::Running") called at /opt/perl-5.20.1-RC2/lib/site_perl/5.20.1/x86_64-linux/Moose.pm line 56
	Moose::extends(Moose::Meta::Class=HASH(0x250ae00), "AnyEvent::Subprocess::Running") called at /opt/perl-5.20.1-RC2/lib/site_perl/5.20.1/x86_64-linux/Moose/Exporter.pm line 411
	Moose::extends("AnyEvent::Subprocess::Running") called at /tmpfs/.cpan-build/Net-SSH-Mechanize-0.1.3-s3sqIN/t/../lib/Net/SSH/Mechanize/Session.pm line 10
	require Net/SSH/Mechanize/Session.pm called at /tmpfs/.cpan-build/Net-SSH-Mechanize-0.1.3-s3sqIN/t/../lib/Net/SSH/Mechanize.pm line 7
	Net::SSH::Mechanize::BEGIN() called at /opt/perl-5.20.1-RC2/lib/site_perl/5.20.1/AnyEvent/Subprocess/Types.pm line 0
	eval {...} called at /opt/perl-5.20.1-RC2/lib/site_perl/5.20.1/AnyEvent/Subprocess/Types.pm line 0
	require Net/SSH/Mechanize.pm called at t/01.single-capture.t line 9
	main::BEGIN() called at /opt/perl-5.20.1-RC2/lib/site_perl/5.20.1/AnyEvent/Subprocess/Types.pm line 0
	eval {...} called at /opt/perl-5.20.1-RC2/lib/site_perl/5.20.1/AnyEvent/Subprocess/Types.pm line 0
unexpected stderr from command: stderr output
t/01.single-capture.t ....... ok
Passing a list of values to enum is deprecated. Enum values should be wrapped in an arrayref. at /opt/perl-5.20.1-RC2/lib/site_perl/5.20.1/AnyEvent/Subprocess/Types.pm line 42.
	require AnyEvent/Subprocess/Types.pm called at /opt/perl-5.20.1-RC2/lib/site_perl/5.20.1/AnyEvent/Subprocess/Done.pm line 9
	AnyEvent::Subprocess::Done::BEGIN() called at /opt/perl-5.20.1-RC2/lib/site_perl/5.20.1/AnyEvent/Subprocess/Types.pm line 0
	eval {...} called at /opt/perl-5.20.1-RC2/lib/site_perl/5.20.1/AnyEvent/Subprocess/Types.pm line 0
	require AnyEvent/Subprocess/Done.pm called at /opt/perl-5.20.1-RC2/lib/site_perl/5.20.1/AnyEvent/Subprocess/Running.pm line 10
	AnyEvent::Subprocess::Running::BEGIN() called at /opt/perl-5.20.1-RC2/lib/site_perl/5.20.1/AnyEvent/Subprocess/Types.pm line 0
	eval {...} called at /opt/perl-5.20.1-RC2/lib/site_perl/5.20.1/AnyEvent/Subprocess/Types.pm line 0
	require AnyEvent/Subprocess/Running.pm called at /opt/perl-5.20.1-RC2/lib/site_perl/5.20.1/Module/Runtime.pm line 317
	Module::Runtime::require_module("AnyEvent::Subprocess::Running") called at /opt/perl-5.20.1-RC2/lib/site_perl/5.20.1/Module/Runtime.pm line 381
	eval {...} called at /opt/perl-5.20.1-RC2/lib/site_perl/5.20.1/Module/Runtime.pm line 381
	Module::Runtime::use_package_optimistically("AnyEvent::Subprocess::Running") called at /opt/perl-5.20.1-RC2/lib/site_perl/5.20.1/x86_64-linux/Moose/Util.pm line 352
	Moose::Util::_load_user_class("AnyEvent::Subprocess::Running", undef) called at /opt/perl-5.20.1-RC2/lib/site_perl/5.20.1/x86_64-linux/Moose/Meta/Class.pm line 560
	Moose::Meta::Class::superclasses(undef, "AnyEvent::Subprocess::Running") called at /opt/perl-5.20.1-RC2/lib/site_perl/5.20.1/x86_64-linux/Moose.pm line 56
	Moose::extends(Moose::Meta::Class=HASH(0x37273c8), "AnyEvent::Subprocess::Running") called at /opt/perl-5.20.1-RC2/lib/site_perl/5.20.1/x86_64-linux/Moose/Exporter.pm line 411
	Moose::extends("AnyEvent::Subprocess::Running") called at /tmpfs/.cpan-build/Net-SSH-Mechanize-0.1.3-s3sqIN/t/../lib/Net/SSH/Mechanize/Session.pm line 10
	require Net/SSH/Mechanize/Session.pm called at /tmpfs/.cpan-build/Net-SSH-Mechanize-0.1.3-s3sqIN/t/../lib/Net/SSH/Mechanize.pm line 7
	Net::SSH::Mechanize::BEGIN() called at /opt/perl-5.20.1-RC2/lib/site_perl/5.20.1/AnyEvent/Subprocess/Types.pm line 0
	eval {...} called at /opt/perl-5.20.1-RC2/lib/site_perl/5.20.1/AnyEvent/Subprocess/Types.pm line 0
	require Net/SSH/Mechanize.pm called at t/01.single-sudo-capture.t line 10
	main::BEGIN() called at /opt/perl-5.20.1-RC2/lib/site_perl/5.20.1/AnyEvent/Subprocess/Types.pm line 0
	eval {...} called at /opt/perl-5.20.1-RC2/lib/site_perl/5.20.1/AnyEvent/Subprocess/Types.pm line 0
unexpected stderr from sudo command: stderr output
t/01.single-sudo-capture.t .. ok
Passing a list of values to enum is deprecated. Enum values should be wrapped in an arrayref. at /opt/perl-5.20.1-RC2/lib/site_perl/5.20.1/AnyEvent/Subprocess/Types.pm line 42.
	require AnyEvent/Subprocess/Types.pm called at /opt/perl-5.20.1-RC2/lib/site_perl/5.20.1/AnyEvent/Subprocess/Done.pm line 9
	AnyEvent::Subprocess::Done::BEGIN() called at /opt/perl-5.20.1-RC2/lib/site_perl/5.20.1/AnyEvent/Subprocess/Types.pm line 0
	eval {...} called at /opt/perl-5.20.1-RC2/lib/site_perl/5.20.1/AnyEvent/Subprocess/Types.pm line 0
	require AnyEvent/Subprocess/Done.pm called at /opt/perl-5.20.1-RC2/lib/site_perl/5.20.1/AnyEvent/Subprocess/Running.pm line 10
	AnyEvent::Subprocess::Running::BEGIN() called at /opt/perl-5.20.1-RC2/lib/site_perl/5.20.1/AnyEvent/Subprocess/Types.pm line 0
	eval {...} called at /opt/perl-5.20.1-RC2/lib/site_perl/5.20.1/AnyEvent/Subprocess/Types.pm line 0
	require AnyEvent/Subprocess/Running.pm called at /opt/perl-5.20.1-RC2/lib/site_perl/5.20.1/Module/Runtime.pm line 317
	Module::Runtime::require_module("AnyEvent::Subprocess::Running") called at /opt/perl-5.20.1-RC2/lib/site_perl/5.20.1/Module/Runtime.pm line 381
	eval {...} called at /opt/perl-5.20.1-RC2/lib/site_perl/5.20.1/Module/Runtime.pm line 381
	Module::Runtime::use_package_optimistically("AnyEvent::Subprocess::Running") called at /opt/perl-5.20.1-RC2/lib/site_perl/5.20.1/x86_64-linux/Moose/Util.pm line 352
	Moose::Util::_load_user_class("AnyEvent::Subprocess::Running", undef) called at /opt/perl-5.20.1-RC2/lib/site_perl/5.20.1/x86_64-linux/Moose/Meta/Class.pm line 560
	Moose::Meta::Class::superclasses(undef, "AnyEvent::Subprocess::Running") called at /opt/perl-5.20.1-RC2/lib/site_perl/5.20.1/x86_64-linux/Moose.pm line 56
	Moose::extends(Moose::Meta::Class=HASH(0x1e6ad60), "AnyEvent::Subprocess::Running") called at /opt/perl-5.20.1-RC2/lib/site_perl/5.20.1/x86_64-linux/Moose/Exporter.pm line 411
	Moose::extends("AnyEvent::Subprocess::Running") called at /tmpfs/.cpan-build/Net-SSH-Mechanize-0.1.3-s3sqIN/t/../lib/Net/SSH/Mechanize/Session.pm line 10
	require Net/SSH/Mechanize/Session.pm called at /tmpfs/.cpan-build/Net-SSH-Mechanize-0.1.3-s3sqIN/t/../lib/Net/SSH/Mechanize.pm line 7
	Net::SSH::Mechanize::BEGIN() called at /opt/perl-5.20.1-RC2/lib/site_perl/5.20.1/AnyEvent/Subprocess/Types.pm line 0
	eval {...} called at /opt/perl-5.20.1-RC2/lib/site_perl/5.20.1/AnyEvent/Subprocess/Types.pm line 0
	require Net/SSH/Mechanize.pm called at t/02.multi-capture.t line 10
	main::BEGIN() called at /opt/perl-5.20.1-RC2/lib/site_perl/5.20.1/AnyEvent/Subprocess/Types.pm line 0
	eval {...} called at /opt/perl-5.20.1-RC2/lib/site_perl/5.20.1/AnyEvent/Subprocess/Types.pm line 0
unexpected stderr from command: stderr output
unexpected stderr from command: stderr output
unexpected stderr from command: stderr output
unexpected stderr from command: stderr output
unexpected stderr from command: stderr output
unexpected stderr from command: stderr output
unexpected stderr from command: stderr output
unexpected stderr from command: stderr output
unexpected stderr from command: stderr output
unexpected stderr from command: stderr output
t/02.multi-capture.t ........ ok
t/author-critic.t ........... skipped: these tests are for testing by the author
t/release-pod-coverage.t .... skipped: these tests are for release candidate testing
t/release-pod-syntax.t ...... skipped: these tests are for release candidate testing
All tests successful.
Files=8, Tests=45,  8 wallclock secs ( 0.04 usr  0.05 sys +  2.70 cusr  0.48 csys =  3.27 CPU)
Result: PASS

------------------------------
PREREQUISITES
------------------------------

Prerequisite modules loaded:

requires:

    Module                        Need   Have    
    ----------------------------- ------ --------
    AnyEvent                      0      7.07    
    AnyEvent::Subprocess          0      1.102912
    AnyEvent::Subprocess::Running 0      1.102912
    Carp                          0      1.3301  
    Coro                          0      6.41    
    Moose                         0      2.1211  
    MooseX::Params::Validate      0      0.18    

build_requires:

    Module                        Need   Have    
    ----------------------------- ------ --------
    Config                        0      5.020001
    English                       0      1.09    
    File::Find                    0      1.27    
    FindBin                       0      1.51    
    Getopt::Long                  0      2.42    
    Module::Build                 0.2808 0.4210  
    Pod::Coverage::TrustPod       0      0.100003
    strict                        0      1.08    
    Test::More                    0      1.001006
    Text::ParseWords              0      3.29    
    warnings                      0      1.23    

configure_requires:

    Module                        Need   Have    
    ----------------------------- ------ --------
    Module::Build                 0.2808 0.4210  


------------------------------
ENVIRONMENT AND OTHER CONTEXT
------------------------------

Environment variables:

    DBIC_NO_WARN_BAD_PERL = 1
    LANG = C
    PATH = /usr/local/bin:/usr/bin:/bin:/usr/local/sbin:/usr/sbin:/sbin:/home/eserte/bin/linux-gnu:/home/eserte/bin/sh:/home/eserte/bin:/usr/games:/home/eserte/devel:/home/eserte/src/srezic-misc/scripts
    PERL5LIB = 
    PERL5OPT =  -MDevel::Hide
    PERL5_CPANPLUS_IS_RUNNING = 16320
    PERL5_CPAN_IS_RUNNING = 16320
    PERL5_CPAN_IS_RUNNING_IN_RECURSION = 9986,16320
    PERLDOC = -MPod::Perldoc::ToTextOverstrike
    PERL_BATCH = yes
    PERL_CPAN_REPORTER_CONFIG = /var/tmp/cpansmoker-1001/nl_9hxh8uF_config.ini
    PERL_EXTUTILS_AUTOINSTALL = --defaultdeps
    PERL_HTML_DISPLAY_CLASS = HTML::Display::Mozilla
    SHELL = /bin/zsh
    TERM = screen
    TMPDIR = /var/tmp/cpansmoker-1001

Perl special variables (and OS-specific diagnostics, for MSWin32):

    $^X = /bbbike/perl-5.20.1-RC2/bin/perl
    $UID/$EUID = 1001 / 1001
    $GID = 1001 109 1001
    $EGID = 1001 109 1001

Perl module toolchain versions installed:

    Module              Have    
    ------------------- --------
    CPAN                2.05    
    CPAN::Meta          2.142060
    Cwd                 3.47    
    ExtUtils::CBuilder  0.280219
    ExtUtils::Command   1.18    
    ExtUtils::Install   1.68    
    ExtUtils::MakeMaker 6.98    
    ExtUtils::Manifest  1.66    
    ExtUtils::ParseXS   3.24    
    File::Spec          3.47    
    JSON                2.90    
    JSON::PP            2.27203 
    Module::Build       0.4210  
    Module::Signature   0.73    
    Parse::CPAN::Meta   1.4414  
    Test::Harness       3.33    
    Test::More          1.001006
    YAML                1.11    
    YAML::Syck          1.27    
    version             0.9909  


--

Summary of my perl5 (revision 5 version 20 subversion 1) configuration:
   
  Platform:
    osname=linux, osvers=3.2.0-4-amd64, archname=x86_64-linux
    uname='linux eserte 3.2.0-4-amd64 #1 smp debian 3.2.60-1+deb7u3 x86_64 gnulinux '
    config_args='-ds -e -Dprefix=/opt/perl-5.20.1-RC2'
    hint=recommended, useposix=true, d_sigaction=define
    useithreads=undef, usemultiplicity=undef
    use64bitint=define, use64bitall=define, uselongdouble=undef
    usemymalloc=n, bincompat5005=undef
  Compiler:
    cc='cc', ccflags ='-fwrapv -fno-strict-aliasing -pipe -fstack-protector -I/usr/local/include -D_LARGEFILE_SOURCE -D_FILE_OFFSET_BITS=64',
    optimize='-O2',
    cppflags='-fwrapv -fno-strict-aliasing -pipe -fstack-protector -I/usr/local/include'
    ccversion='', gccversion='4.7.2', gccosandvers=''
    intsize=4, longsize=8, ptrsize=8, doublesize=8, byteorder=12345678
    d_longlong=define, longlongsize=8, d_longdbl=define, longdblsize=16
    ivtype='long', ivsize=8, nvtype='double', nvsize=8, Off_t='off_t', lseeksize=8
    alignbytes=8, prototype=define
  Linker and Libraries:
    ld='cc', ldflags =' -fstack-protector -L/usr/local/lib'
    libpth=/usr/local/lib /usr/lib/gcc/x86_64-linux-gnu/4.7/include-fixed /usr/include/x86_64-linux-gnu /usr/lib /lib/x86_64-linux-gnu /lib/../lib /usr/lib/x86_64-linux-gnu /usr/lib/../lib /lib
    libs=-lnsl -ldb -ldl -lm -lcrypt -lutil -lc
    perllibs=-lnsl -ldl -lm -lcrypt -lutil -lc
    libc=libc-2.13.so, so=so, useshrplib=false, libperl=libperl.a
    gnulibc_version='2.13'
  Dynamic Linking:
    dlsrc=dl_dlopen.xs, dlext=so, d_dlsymun=undef, ccdlflags='-Wl,-E'
    cccdlflags='-fPIC', lddlflags='-shared -O2 -L/usr/local/lib -fstack-protector'


Characteristics of this binary (from libperl): 
  Compile-time options: HAS_TIMES PERLIO_LAYERS PERL_DONT_CREATE_GVSV
                        PERL_HASH_FUNC_ONE_AT_A_TIME_HARD PERL_MALLOC_WRAP
                        PERL_NEW_COPY_ON_WRITE PERL_PRESERVE_IVUV
                        USE_64_BIT_ALL USE_64_BIT_INT USE_LARGE_FILES
                        USE_LOCALE USE_LOCALE_COLLATE USE_LOCALE_CTYPE
                        USE_LOCALE_NUMERIC USE_PERLIO USE_PERL_ATOF
  Locally applied patches:
	RC2
  Built under linux
  Compiled at Sep  7 2014 19:23:47
  %ENV:
    PERL5LIB=""
    PERL5OPT=" -MDevel::Hide"
    PERL5_CPANPLUS_IS_RUNNING="16320"
    PERL5_CPAN_IS_RUNNING="16320"
    PERL5_CPAN_IS_RUNNING_IN_RECURSION="9986,16320"
    PERLDOC="-MPod::Perldoc::ToTextOverstrike"
    PERL_BATCH="yes"
    PERL_CPAN_REPORTER_CONFIG="/var/tmp/cpansmoker-1001/nl_9hxh8uF_config.ini"
    PERL_EXTUTILS_AUTOINSTALL="--defaultdeps"
    PERL_HTML_DISPLAY_CLASS="HTML::Display::Mozilla"
  @INC:
    CODE(0x12b7090)
    /opt/perl-5.20.1-RC2/lib/site_perl/5.20.1/x86_64-linux
    /opt/perl-5.20.1-RC2/lib/site_perl/5.20.1
    /opt/perl-5.20.1-RC2/lib/5.20.1/x86_64-linux
    /opt/perl-5.20.1-RC2/lib/5.20.1
    .