POE v1.367 Perl 5 v5.29.8 darwin-2level
- Status
- Pass
- From
- Karen Etheridge
- Dist
-
POE v1.367
- Platform
- Perl 5 v5.29.8 darwin-2level
- Date
- 2019-02-22 04:07:49
- ID
- 6af127a4-3657-11e9-8fe9-440685650c76
This distribution has been tested as part of the CPAN Testers
project, supporting the Perl programming language. See
http://wiki.cpantesters.org/ for more information or email
questions to cpan-testers-discuss@perl.org
--
Dear RCAPUTO,
This is a computer-generated report for POE-1.367
on perl 5.29.8, created by App::cpanminus::reporter 0.17 (1.7044).
Thank you for uploading your work to CPAN. Congratulations!
All tests were successful.
Sections of this report:
* Tester comments
* Program output
* Prerequisites
* Environment and other context
------------------------------
TESTER COMMENTS
------------------------------
Additional comments from tester:
none provided
------------------------------
PROGRAM OUTPUT
------------------------------
Output from '':
Building and testing POE-1.367
"/Volumes/amaretto/Users/ether/perl5/perlbrew/perls/29.8/bin/perl5.29.8" mylib/gen-tests.perl lib/POE.pm
Manifying 47 pod documents
"/Volumes/amaretto/Users/ether/perl5/perlbrew/perls/29.8/bin/perl5.29.8" mylib/gen-tests.perl lib/POE.pm
PERL_DL_NONLAZY=1 "/Volumes/amaretto/Users/ether/perl5/perlbrew/perls/29.8/bin/perl5.29.8" "-MExtUtils::Command::MM" "-MTest::Harness" "-e" "undef *Test::Harness::Switches; test_harness(0, 'blib/lib', 'blib/arch')" t/*.t t/*/*.t t/*/*/*.t
t/10_units/01_pod/01_pod.t ......................... skipped: enable by setting RELEASE_TESTING
t/10_units/01_pod/02_pod_coverage.t ................ skipped: enable by setting RELEASE_TESTING
t/10_units/01_pod/03_pod_no404s.t .................. skipped: enable by setting RELEASE_TESTING
t/10_units/01_pod/04_pod_linkcheck.t ............... skipped: enable by setting RELEASE_TESTING
t/10_units/02_pipes/01_base.t ...................... skipped: not implemented yet
# Testing POE 1.367, POE::Test::Loops 1.360, Perl 5.029008, /Volumes/amaretto/Users/ether/perl5/perlbrew/perls/29.8/bin/perl5.29.8 on darwin
# pogomips: 39655388
t/00_info.t ........................................ ok
t/10_units/03_base/03_component.t .................. ok
t/10_units/02_pipes/02_oneway.t .................... ok
t/10_units/03_base/01_poe.t ........................ ok
t/10_units/02_pipes/03_twoway.t .................... ok
t/10_units/03_base/04_driver.t ..................... ok
t/10_units/03_base/05_filter.t ..................... ok
t/10_units/03_base/07_queue.t ...................... ok
t/10_units/03_base/06_loop.t ....................... ok
t/10_units/03_base/08_resource.t ................... ok
t/10_units/03_base/09_resources.t .................. ok
t/10_units/03_base/10_wheel.t ...................... ok
t/10_units/03_base/13_assert_data.t ................ ok
t/10_units/03_base/12_assert_retval.t .............. ok
t/10_units/03_base/15_kernel_internal.t ............ ok
t/10_units/03_base/11_assert_usage.t ............... ok
t/10_units/03_base/14_kernel.t ..................... ok
t/10_units/03_base/16_nfa_usage.t .................. ok
t/10_units/05_filters/01_block.t ................... ok
t/10_units/05_filters/02_grep.t .................... ok
t/10_units/04_drivers/01_sysrw.t ................... ok
t/10_units/05_filters/04_line.t .................... ok
Downgrading wide characters in HTTP header. Consider installing Email::MIME::RFC2047::Encoder at /Volumes/amaretto/Users/ether/.cpanm/work/1550804895.21572/POE-1.367/blib/lib/POE/Filter/HTTPD.pm line 73.
POE::Filter::HTTPD::__ANON__("En \x{e9}t\x{e9}") called at /Volumes/amaretto/Users/ether/.cpanm/work/1550804895.21572/POE-1.367/blib/lib/POE/Filter/HTTPD.pm line 449
POE::Filter::HTTPD::headers_as_strings(POE::Filter::HTTPD=ARRAY(0x7fff26102768), HTTP::Headers=HASH(0x7fff2901c828), "\x{d}\x{a}") called at /Volumes/amaretto/Users/ether/.cpanm/work/1550804895.21572/POE-1.367/blib/lib/POE/Filter/HTTPD.pm line 411
POE::Filter::HTTPD::put(POE::Filter::HTTPD=ARRAY(0x7fff26102768), ARRAY(0x7fff26102690)) called at t/10_units/05_filters/03_http.t line 426
t/10_units/03_base/17_detach_start.t ............... ok
t/10_units/05_filters/03_http.t .................... ok
t/10_units/05_filters/05_map.t ..................... ok
t/10_units/05_filters/06_recordblock.t ............. ok
t/10_units/05_filters/08_stream.t .................. ok
t/10_units/05_filters/50_stackable.t ............... ok
t/10_units/05_filters/07_reference.t ............... ok
t/10_units/05_filters/51_reference_die.t ........... ok
t/10_units/05_filters/99_filterchange.t ............ ok
t/10_units/07_exceptions/03_not_handled.t .......... ok
t/10_units/07_exceptions/02_turn_off.t ............. ok
t/10_units/08_loops/01_explicit_loop.t ............. ok
t/10_units/06_queues/01_array.t .................... ok
t/10_units/08_loops/02_explicit_loop_fail.t ........ ok
t/10_units/08_loops/03_explicit_loop_poll.t ........ ok
t/10_units/08_loops/04_explicit_loop_envvar.t ...... ok
t/10_units/08_loops/05_kernel_loop.t ............... ok
t/10_units/08_loops/06_kernel_loop_poll.t .......... ok
t/10_units/08_loops/07_kernel_loop_fail.t .......... ok
t/10_units/08_loops/08_kernel_loop_search_poll.t ... ok
t/10_units/08_loops/09_naive_loop_load.t ........... ok
t/10_units/08_loops/10_naive_loop_load_poll.t ...... ok
t/10_units/07_exceptions/01_normal.t ............... ok
t/10_units/08_loops/11_double_loop.t ............... ok
t/20_resources/10_perl/aliases.t ................... ok
t/20_resources/10_perl/caller_state.t .............. ok
t/20_resources/10_perl/events.t .................... ok
t/20_resources/10_perl/extrefs.t ................... ok
t/20_resources/10_perl/extrefs_gc.t ................ ok
t/20_resources/10_perl/sessions.t .................. ok
t/30_loops/io_poll/all_errors.t .................... skipped: most of these should move into other test files
t/20_resources/10_perl/sids.t ...................... ok
t/20_resources/10_perl/signals.t ................... ok
# Testing POE 1.367, POE::Test::Loops 1.360, Using Loop(POE::Loop::IO_Poll), Perl 5.029008, /Volumes/amaretto/Users/ether/perl5/perlbrew/perls/29.8/bin/perl5.29.8 on darwin
t/30_loops/io_poll/00_info.t ....................... ok
t/30_loops/io_poll/comp_tcp.t ...................... ok
# You might see a 'disconnect' error during this test.
# It may be ignored.
t/30_loops/io_poll/connect_errors.t ................ ok
t/30_loops/io_poll/comp_tcp_concurrent.t ........... ok
t/30_loops/io_poll/k_aliases.t ..................... ok
t/30_loops/io_poll/k_run_returns.t ................. ok
t/30_loops/io_poll/k_alarms.t ...................... ok
t/20_resources/10_perl/filehandles.t ............... ok
t/30_loops/io_poll/k_detach.t ...................... ok
t/30_loops/io_poll/k_signals_rerun.t ............... ok
t/30_loops/io_poll/ses_nfa.t ....................... ok
# This test generates some STDERR during trace testing.
t/30_loops/io_poll/k_sig_child.t ................... ok
t/30_loops/io_poll/sbk_signal_init.t ............... ok
t/30_loops/io_poll/k_signals.t ..................... ok
t/30_loops/io_poll/wheel_curses.t .................. skipped: Curses not available
t/30_loops/io_poll/wheel_accept.t .................. ok
t/30_loops/io_poll/wheel_readline.t ................ ok
t/30_loops/io_poll/wheel_run.t ..................... ok
t/30_loops/io_poll/wheel_sf_ipv6.t ................. skipped: Socket::GetAddrInfo is needed for IPv6 tests
t/30_loops/io_poll/wheel_run_size.t ................ skipped: This test requires Term::Size
t/30_loops/io_poll/k_selects.t ..................... ok
t/30_loops/io_poll/wheel_sf_tcp.t .................. ok
t/30_loops/io_poll/wheel_sf_unix.t ................. ok
t/30_loops/io_poll/wheel_readwrite.t ............... ok
# Using '/usr/bin/true' as our thing to run under system()
t/30_loops/io_poll/z_merijn_sigchld_system.t ....... ok
t/30_loops/io_poll/z_kogman_sig_order.t ............ ok
# Parent 22952 waiting 3sec for slow systems to settle.
t/30_loops/io_poll/wheel_sf_udp.t .................. ok
t/30_loops/io_poll/z_rt39872_sigchld.t ............. ok
t/30_loops/io_poll/z_leolo_wheel_run.t ............. ok
t/30_loops/io_poll/wheel_tail.t .................... ok
# Testing POE 1.367, POE::Test::Loops 1.360, Using Loop(POE::Loop::Select), Perl 5.029008, /Volumes/amaretto/Users/ether/perl5/perlbrew/perls/29.8/bin/perl5.29.8 on darwin
t/30_loops/select/00_info.t ........................ ok
t/30_loops/io_poll/z_steinert_signal_integrity.t ... ok
t/30_loops/io_poll/z_rt53302_fh_watchers.t ......... ok
t/30_loops/select/all_errors.t ..................... skipped: most of these should move into other test files
t/30_loops/select/comp_tcp.t ....................... ok
# You might see a 'disconnect' error during this test.
# It may be ignored.
t/30_loops/select/connect_errors.t ................. ok
t/30_loops/select/comp_tcp_concurrent.t ............ ok
t/30_loops/select/k_aliases.t ...................... ok
t/30_loops/select/k_run_returns.t .................. ok
t/30_loops/select/k_alarms.t ....................... ok
t/30_loops/select/k_detach.t ....................... ok
=== 22917 === 23 -> _start (from /Volumes/amaretto/Users/ether/.cpanm/work/1550804895.21572/POE-1.367/blib/lib/POE/Kernel.pm at 1497)
=== 22917 === 23 -> woot (from /Volumes/amaretto/Users/ether/.perlbrew/libs/29.8@std/lib/perl5/POE/Test/Loops/ses_session.pm at 691)
# sending sigusr1
# sent sigusr1
t/30_loops/io_poll/z_rt39872_sigchld_stop.t ........ ok
=== 22917 === 23 -> narf (from /Volumes/amaretto/Users/ether/.perlbrew/libs/29.8@std/lib/perl5/POE/Test/Loops/ses_session.pm at 692)
=== 22917 === 23 -> _stop (from /Volumes/amaretto/Users/ether/.cpanm/work/1550804895.21572/POE-1.367/blib/lib/POE/Resource/Sessions.pm at 571)
t/30_loops/io_poll/ses_session.t ................... ok
t/30_loops/select/k_signals_rerun.t ................ ok
t/30_loops/io_poll/z_rt54319_bazerka_followtail.t .. ok
t/30_loops/select/ses_nfa.t ........................ ok
# This test generates some STDERR during trace testing.
t/30_loops/select/k_sig_child.t .................... ok
t/30_loops/select/wheel_curses.t ................... skipped: Curses not available
t/30_loops/select/k_signals.t ...................... ok
t/30_loops/select/k_selects.t ...................... ok
t/30_loops/select/wheel_readline.t ................. ok
t/30_loops/select/wheel_run_size.t ................. skipped: This test requires Term::Size
t/30_loops/select/wheel_run.t ...................... ok
t/30_loops/select/sbk_signal_init.t ................ ok
t/30_loops/select/wheel_sf_ipv6.t .................. skipped: Socket::GetAddrInfo is needed for IPv6 tests
t/30_loops/select/wheel_sf_tcp.t ................... ok
t/30_loops/select/wheel_readwrite.t ................ ok
t/30_loops/select/wheel_sf_unix.t .................. ok
t/30_loops/select/wheel_accept.t ................... ok
# Using '/usr/bin/true' as our thing to run under system()
t/30_loops/select/z_merijn_sigchld_system.t ........ ok
t/30_loops/select/z_kogman_sig_order.t ............. ok
t/30_loops/select/wheel_sf_udp.t ................... ok
# Parent 23044 waiting 3sec for slow systems to settle.
t/30_loops/select/z_rt39872_sigchld.t .............. ok
t/30_loops/select/z_leolo_wheel_run.t .............. ok
t/30_loops/select/wheel_tail.t ..................... ok
t/30_loops/select/z_steinert_signal_integrity.t .... ok
t/30_loops/select/z_rt53302_fh_watchers.t .......... ok
t/90_regression/agaran-filter-httpd.t .............. ok
t/90_regression/averell-callback-ret.t ............. ok
t/90_regression/bingos-followtail.t ................ ok
t/90_regression/broeren-win32-nbio.t ............... skipped: This test examines ActiveState Perl behavior.
t/90_regression/cfedde-filter-httpd.t .............. ok
t/90_regression/grinnz-die-in-die.t ................ ok
Died at t/90_regression/hinrik-wheel-run-die.t line 21.
t/90_regression/hinrik-wheel-run-die.t ............. ok
t/90_regression/ferrari-server-unix.t .............. ok
# This test can take up to 10 seconds
# This test can take up to 10 seconds
# This test can take up to 10 seconds
t/90_regression/kjeldahl-stop-start-sig-nopipe.t ... ok
=== 23003 === 23 -> _start (from /Volumes/amaretto/Users/ether/.cpanm/work/1550804895.21572/POE-1.367/blib/lib/POE/Kernel.pm at 1497)
=== 23003 === 23 -> woot (from /Volumes/amaretto/Users/ether/.perlbrew/libs/29.8@std/lib/perl5/POE/Test/Loops/ses_session.pm at 691)
=== 23003 === 23 -> narf (from /Volumes/amaretto/Users/ether/.perlbrew/libs/29.8@std/lib/perl5/POE/Test/Loops/ses_session.pm at 692)
t/30_loops/select/z_rt54319_bazerka_followtail.t ... ok
=== 23003 === 23 -> _stop (from /Volumes/amaretto/Users/ether/.cpanm/work/1550804895.21572/POE-1.367/blib/lib/POE/Resource/Sessions.pm at 571)
t/30_loops/select/ses_session.t .................... ok
t/90_regression/kjeldahl-stop-start-sig-pipe.t ..... ok
t/90_regression/leolo-sig-die.t .................... ok
# sending sigusr1
# sent sigusr1
t/30_loops/select/z_rt39872_sigchld_stop.t ......... ok
t/90_regression/kjeldahl-stop-start-polling.t ...... ok
t/90_regression/neyuki_detach.t .................... ok
t/90_regression/meh-startstop-return.t ............. ok
t/90_regression/rt14444-arg1.t ..................... ok
t/90_regression/prumike-win32-stat.t ............... skipped: This test examines Strawberry/ActiveState Perl behavior.
t/90_regression/rt1648-tied-stderr.t ............... ok
t/90_regression/rt65460-forking.t .................. skipped: enable by setting (AUTOMATED|RELEASE)_TESTING
t/90_regression/rt19908-merlyn-stop.t .............. ok
t/90_regression/rt23181-sigchld-rc.t ............... ok
t/90_regression/rt47966-sigchld.t .................. skipped: enable by setting RELEASE_TESTING
t/90_regression/rt56417-wheel-run.t ................ ok
t/90_regression/socketfactory-timeout.t ............ ok
t/90_regression/steinert-passed-wheel.t ............ ok
t/90_regression/suzman_windows.t ................... ok
t/90_regression/somni-poco-server-tcp.t ............ ok
t/90_regression/ton-stop-corruption.t .............. ok
t/90_regression/whelan-dieprop.t ................... ok
t/90_regression/pipe-followtail.t .................. ok
t/90_regression/tracing-sane-exit.t ................ ok
t/90_regression/whjackson-followtail.t ............. ok
All tests successful.
Test Summary Report
-------------------
t/10_units/05_filters/03_http.t (Wstat: 0 Tests: 137 Failed: 0)
TODO passed: 85
Files=161, Tests=4221, 18 wallclock secs ( 0.90 usr 0.47 sys + 28.47 cusr 4.82 csys = 34.66 CPU)
Result: PASS
------------------------------
PREREQUISITES
------------------------------
Prerequisite modules loaded:
No requirements found
------------------------------
ENVIRONMENT AND OTHER CONTEXT
------------------------------
Environment variables:
HARNESS_OPTIONS = j6:c
LANG = en_CA.UTF-8
NO_NETWORK_TESTING = 1
PATH = /Volumes/amaretto/Users/ether/.perlbrew/libs/29.8@std/bin:/Volumes/amaretto/Users/ether/perl5/perlbrew/bin:/Volumes/amaretto/Users/ether/perl5/perlbrew/perls/29.8/bin:/Volumes/amaretto/Users/ether/bin:/Volumes/amaretto/Users/ether/git/misc/install/jaeger/bin:/Volumes/amaretto/Users/ether/git/misc/install/generic/bin:/opt/local/bin:/opt/local/sbin:/Volumes/amaretto/Users/ether/git/git-hub/lib:/usr/local/bin:/usr/bin:/bin:/usr/sbin:/sbin:/opt/local/share/git-core/contrib/workdir
PERL5LIB = /Volumes/amaretto/Users/ether/.perlbrew/libs/29.8@std/lib/perl5
PERLBREW_HOME = /Volumes/amaretto/Users/ether/.perlbrew
PERLBREW_LIB = std
PERLBREW_MANPATH = /Volumes/amaretto/Users/ether/.perlbrew/libs/29.8@std/man:/Volumes/amaretto/Users/ether/perl5/perlbrew/perls/29.8/man
PERLBREW_PATH = /Volumes/amaretto/Users/ether/.perlbrew/libs/29.8@std/bin:/Volumes/amaretto/Users/ether/perl5/perlbrew/bin:/Volumes/amaretto/Users/ether/perl5/perlbrew/perls/29.8/bin
PERLBREW_PERL = 29.8
PERLBREW_ROOT = /Volumes/amaretto/Users/ether/perl5/perlbrew
PERLBREW_SHELLRC_VERSION = 0.86
PERLBREW_VERSION = 0.86
PERLDOC = -oman
PERLDOC_PAGER = less -sicMr
PERL_AUTOINSTALL_PREFER_CPAN = 1
PERL_INSTALL_QUIET = 1
PERL_LOCAL_LIB_ROOT = /Volumes/amaretto/Users/ether/.perlbrew/libs/29.8@std
PERL_MB_OPT = --install_base /Volumes/amaretto/Users/ether/.perlbrew/libs/29.8@std
PERL_MM_OPT = INSTALL_BASE=/Volumes/amaretto/Users/ether/.perlbrew/libs/29.8@std
PERL_USE_UNSAFE_INC = 0
SHELL = /bin/bash
TERM = xterm-color
Perl special variables (and OS-specific diagnostics, for MSWin32):
EGID = 20 20 12 61 79 80 81 98 701 33 100 204 395 398 399
EUID = 502
EXECUTABLE_NAME = /Volumes/amaretto/Users/ether/perl5/perlbrew/perls/29.8/bin/perl5.29.8
GID = 20 20 12 61 79 80 81 98 701 33 100 204 395 398 399
UID = 502
Perl module toolchain versions installed:
Module Have
------------------- --------
CPAN 2.22
CPAN::Meta 2.150010
Cwd 3.77
ExtUtils::CBuilder 0.280230
ExtUtils::Command 7.35_10
ExtUtils::Install 2.14
ExtUtils::MakeMaker 7.35_10
ExtUtils::Manifest 1.71
ExtUtils::ParseXS 3.40
File::Spec 3.77
JSON 4.01
JSON::PP 4.01
Module::Build 0.4224
Module::Signature n/a
Parse::CPAN::Meta 2.150010
Test::Harness 3.42
Test::More 1.302162
YAML 1.27
YAML::Syck 1.31
version 0.9924
--
Summary of my perl5 (revision 5 version 29 subversion 8) configuration:
Platform:
osname=darwin
osvers=16.7.0
archname=darwin-2level
uname='darwin jaeger 16.7.0 darwin kernel version 16.7.0: thu dec 20 21:53:35 pst 2018; root:xnu-3789.73.31~1release_x86_64 x86_64 '
config_args='-de -Dprefix=/Volumes/amaretto/Users/ether/perl5/perlbrew/perls/29.8 -Dman1dir=none -Dman3dir=none -Dusedevel -Aeval:scriptdir=/Volumes/amaretto/Users/ether/perl5/perlbrew/perls/29.8/bin'
hint=recommended
useposix=true
d_sigaction=define
useithreads=undef
usemultiplicity=undef
use64bitint=define
use64bitall=define
uselongdouble=undef
usemymalloc=n
default_inc_excludes_dot=define
bincompat5005=undef
Compiler:
cc='cc'
ccflags ='-fno-common -DPERL_DARWIN -mmacosx-version-min=10.12 -fno-strict-aliasing -pipe -fstack-protector-strong -I/opt/local/include -DPERL_USE_SAFE_PUTENV'
optimize='-O3'
cppflags='-fno-common -DPERL_DARWIN -mmacosx-version-min=10.12 -fno-strict-aliasing -pipe -fstack-protector-strong -I/opt/local/include'
ccversion=''
gccversion='4.2.1 Compatible Apple LLVM 9.0.0 (clang-900.0.39.2)'
gccosandvers=''
intsize=4
longsize=8
ptrsize=8
doublesize=8
byteorder=12345678
doublekind=3
d_longlong=define
longlongsize=8
d_longdbl=define
longdblsize=16
longdblkind=3
ivtype='long'
ivsize=8
nvtype='double'
nvsize=8
Off_t='off_t'
lseeksize=8
alignbytes=8
prototype=define
Linker and Libraries:
ld='cc'
ldflags =' -mmacosx-version-min=10.12 -fstack-protector-strong -L/opt/local/lib'
libpth=/Applications/Xcode.app/Contents/Developer/Toolchains/XcodeDefault.xctoolchain/usr/lib/clang/9.0.0/lib /Applications/Xcode.app/Contents/Developer/Toolchains/XcodeDefault.xctoolchain/usr/lib /usr/lib /opt/local/lib
libs=-lpthread -lgdbm -ldbm -ldl -lm -lutil -lc
perllibs=-lpthread -ldl -lm -lutil -lc
libc=
so=dylib
useshrplib=false
libperl=libperl.a
gnulibc_version=''
Dynamic Linking:
dlsrc=dl_dlopen.xs
dlext=bundle
d_dlsymun=undef
ccdlflags=' '
cccdlflags=' '
lddlflags=' -mmacosx-version-min=10.12 -bundle -undefined dynamic_lookup -L/opt/local/lib -fstack-protector-strong'
Characteristics of this binary (from libperl):
Compile-time options:
HAS_TIMES
PERLIO_LAYERS
PERL_COPY_ON_WRITE
PERL_DONT_CREATE_GVSV
PERL_MALLOC_WRAP
PERL_OP_PARENT
PERL_PRESERVE_IVUV
PERL_USE_DEVEL
PERL_USE_SAFE_PUTENV
USE_64_BIT_ALL
USE_64_BIT_INT
USE_LARGE_FILES
USE_LOCALE
USE_LOCALE_COLLATE
USE_LOCALE_CTYPE
USE_LOCALE_NUMERIC
USE_LOCALE_TIME
USE_PERLIO
USE_PERL_ATOF
Built under darwin
Compiled at Feb 21 2019 17:38:18
%ENV:
PERL5LIB="/Volumes/amaretto/Users/ether/.perlbrew/libs/29.8@std/lib/perl5"
PERLBREW_HOME="/Volumes/amaretto/Users/ether/.perlbrew"
PERLBREW_LIB="std"
PERLBREW_MANPATH="/Volumes/amaretto/Users/ether/.perlbrew/libs/29.8@std/man:/Volumes/amaretto/Users/ether/perl5/perlbrew/perls/29.8/man"
PERLBREW_PATH="/Volumes/amaretto/Users/ether/.perlbrew/libs/29.8@std/bin:/Volumes/amaretto/Users/ether/perl5/perlbrew/bin:/Volumes/amaretto/Users/ether/perl5/perlbrew/perls/29.8/bin"
PERLBREW_PERL="29.8"
PERLBREW_ROOT="/Volumes/amaretto/Users/ether/perl5/perlbrew"
PERLBREW_SHELLRC_VERSION="0.86"
PERLBREW_VERSION="0.86"
PERLDOC="-oman"
PERLDOC_PAGER="less -sicMr"
PERL_AUTOINSTALL_PREFER_CPAN="1"
PERL_INSTALL_QUIET="1"
PERL_LOCAL_LIB_ROOT="/Volumes/amaretto/Users/ether/.perlbrew/libs/29.8@std"
PERL_MB_OPT="--install_base /Volumes/amaretto/Users/ether/.perlbrew/libs/29.8@std"
PERL_MM_OPT="INSTALL_BASE=/Volumes/amaretto/Users/ether/.perlbrew/libs/29.8@std"
PERL_USE_UNSAFE_INC="0"
@INC:
/Volumes/amaretto/Users/ether/.perlbrew/libs/29.8@std/lib/perl5/darwin-2level
/Volumes/amaretto/Users/ether/.perlbrew/libs/29.8@std/lib/perl5
/Volumes/amaretto/Users/ether/perl5/perlbrew/perls/29.8/lib/site_perl/5.29.8/darwin-2level
/Volumes/amaretto/Users/ether/perl5/perlbrew/perls/29.8/lib/site_perl/5.29.8
/Volumes/amaretto/Users/ether/perl5/perlbrew/perls/29.8/lib/5.29.8/darwin-2level
/Volumes/amaretto/Users/ether/perl5/perlbrew/perls/29.8/lib/5.29.8