Path-Extended v0.23 Perl 5 v5.24.1 amd64-freebsd

Status
Pass
From
Slaven Rezić (SREZIC)
Dist
Path-Extended v0.23
Platform
Perl 5 v5.24.1 amd64-freebsd
Date
2019-05-06 06:15:59
ID
6ade87ea-6fc6-11e9-80f0-a88c1f24ea8f
This distribution has been tested as part of the CPAN Testers
project, supporting the Perl programming language.  See
http://wiki.cpantesters.org/ for more information or email
questions to cpan-testers-discuss@perl.org


--
Dear Kenichi Ishigaki,

This is a computer-generated report for Path-Extended-0.23
on perl 5.24.1, created by CPAN-Reporter-1.2018.

Thank you for uploading your work to CPAN.  Congratulations!
All tests were successful.

Sections of this report:

    * Tester comments
    * Program output
    * Prerequisites
    * Environment and other context

------------------------------
TESTER COMMENTS
------------------------------

Additional comments from tester:

none provided

------------------------------
PROGRAM OUTPUT
------------------------------

Output from '/usr/bin/make test':

PERL_DL_NONLAZY=1 "/usr/perl5.24.1p/bin/perl" "-MExtUtils::Command::MM" "-MTest::Harness" "-e" "undef *Test::Harness::Switches; test_harness(0, 'blib/lib', 'blib/arch')" t/*.t t/*/*.t
t/00_load.t ...................... ok
t/10_entity/basic.t .............. ok
t/15_file_or_dir/basic.t ......... ok
t/15_file_or_dir/for_dir.t ....... ok
t/20_file/copy.t ................. ok
t/20_file/grep.t ................. ok
t/20_file/overload.t ............. ok
t/20_file/path.t ................. ok
t/20_file/read.t ................. ok
t/20_file/slurp.t ................ ok
t/20_file/stat.t ................. ok
t/30_directory/copy.t ............ ok
t/30_directory/exists.t .......... ok
t/30_directory/find.t ............ ok
t/30_directory/mkdir.t ........... ok
t/30_directory/next.t ............ ok
t/30_directory/path.t ............ ok
t/30_directory/prune.t ........... ok
t/30_directory/recurse.t ......... ok
t/30_directory/rmdir.t ........... ok
t/30_directory/seek.t ............ ok
t/30_directory/subsumes.t ........ ok
t/40_compatibility/basic.t ....... ok
t/40_compatibility/filesystem.t .. ok
t/50_subclass/dir.t .............. ok
t/50_subclass/file.t ............. ok
t/50_subclass/file_or_dir.t ...... ok
t/50_subclass/import.t ........... ok
t/99_pod.t ....................... skipped: set TEST_POD to enable this test
t/99_podcoverage.t ............... skipped: set TEST_POD to enable this test
All tests successful.
Files=30, Tests=122,  5 wallclock secs ( 0.01 usr  0.16 sys +  0.66 cusr  3.57 csys =  4.40 CPU)
Result: PASS

------------------------------
PREREQUISITES
------------------------------

Prerequisite modules loaded:

requires:

    Module                        Need Have    
    ----------------------------- ---- --------
    Carp                          0    1.50    
    Encode                        0    2.99    
    Fcntl                         0    1.13    
    File::Basename                0    2.85    
    File::Copy::Recursive         0    0.44    
    File::Find::Rule              0    0.34    
    File::Path                    0    2.16    
    File::Spec                    3.23 3.75    
    File::stat                    1    1.07    
    File::Temp                    0    0.2308  
    IO                            1.23 1.39    
    Log::Dump                     0    0.14    
    Scalar::Util                  0    1.50    
    Sub::Install                  0    0.928   

build_requires:

    Module                        Need Have    
    ----------------------------- ---- --------
    ExtUtils::MakeMaker           0    7.36    
    Test::More                    0.98 1.302164
    Test::UseAllModules           0.09 0.17    

configure_requires:

    Module                        Need Have    
    ----------------------------- ---- --------
    ExtUtils::MakeMaker::CPANfile 0.06 0.08    


------------------------------
ENVIRONMENT AND OTHER CONTEXT
------------------------------

Environment variables:

    LC_ALL = de_DE.ISO8859-1
    PATH = /usr/local/bin:/usr/bin:/bin:/usr/local/sbin:/usr/sbin:/sbin:/home/cpansand/bin/freebsd10.3:/home/cpansand/bin/sh:/home/cpansand/bin:/usr/games:/home/cpansand/devel:/home/eserte/src/srezic-misc/scripts
    PERL5LIB = /home/cpansand/.cpan/build/2019050607/Log-Dump-0.14-3/blib/arch:/home/cpansand/.cpan/build/2019050607/Log-Dump-0.14-3/blib/lib:/home/cpansand/.cpan/build/2019050607/CSS-LESS-Filter-0.04-3/blib/arch:/home/cpansand/.cpan/build/2019050607/CSS-LESS-Filter-0.04-3/blib/lib
    PERL5OPT = 
    PERL5_CPANPLUS_IS_RUNNING = 76959
    PERL5_CPAN_IS_RUNNING = 76959
    PERL5_CPAN_IS_RUNNING_IN_RECURSION = 71883,76959
    PERLDOC = -MPod::Perldoc::ToTextOverstrike
    PERL_BATCH = yes
    PERL_CANARY_STABILITY_NOPROMPT = 1
    PERL_CPAN_REPORTER_CONFIG = /var/tmp/cpansmoker-1023/2019050607/cpanreporter_001_config.ini
    PERL_EXTUTILS_AUTOINSTALL = --defaultdeps
    SHELL = /usr/local/bin/zsh
    TERM = screen
    TMPDIR = /var/tmp/cpansmoker-1023/2019050607

Perl special variables (and OS-specific diagnostics, for MSWin32):

    $^X = /usr/perl5.24.1p/bin/perl
    $UID/$EUID = 1023 / 1023
    $GID = 1023 1023
    $EGID = 1023 1023

Perl module toolchain versions installed:

    Module              Have    
    ------------------- --------
    CPAN                2.16    
    CPAN::Meta          2.150010
    Cwd                 3.75    
    ExtUtils::CBuilder  0.280231
    ExtUtils::Command   7.36    
    ExtUtils::Install   2.14    
    ExtUtils::MakeMaker 7.36    
    ExtUtils::Manifest  1.71    
    ExtUtils::ParseXS   3.35    
    File::Spec          3.75    
    JSON                2.97001 
    JSON::PP            2.97001 
    Module::Build       0.4229  
    Module::Signature   0.83    
    Parse::CPAN::Meta   2.150010
    Test::Harness       3.42    
    Test::More          1.302164
    YAML                1.28    
    YAML::Syck          1.30    
    version             0.9924  


--

Summary of my perl5 (revision 5 version 24 subversion 1) configuration:
   
  Platform:
    osname=freebsd, osvers=10.1-release, archname=amd64-freebsd
    uname='freebsd cvrsnica-freebsd-101.herceg.de 10.1-release freebsd 10.1-release #0 r274401: tue nov 11 21:02:49 utc 2014 root@releng1.nyi.freebsd.org:usrobjusrsrcsysgeneric amd64 '
    config_args='-ds -e -Dprefix=/usr/perl5.24.1p -Dcf_email=srezic@cpan.org -Doptimize=-O2 -pipe'
    hint=recommended, useposix=true, d_sigaction=define
    useithreads=undef, usemultiplicity=undef
    use64bitint=define, use64bitall=define, uselongdouble=undef
    usemymalloc=n, bincompat5005=undef
  Compiler:
    cc='cc', ccflags ='-DHAS_FPSETMASK -DHAS_FLOATINGPOINT_H -fno-strict-aliasing -pipe -fstack-protector -I/usr/local/include -D_FORTIFY_SOURCE=2',
    optimize='-O2 -pipe',
    cppflags='-DHAS_FPSETMASK -DHAS_FLOATINGPOINT_H -fno-strict-aliasing -pipe -fstack-protector -I/usr/local/include'
    ccversion='', gccversion='4.2.1 Compatible FreeBSD Clang 3.4.1 (tags/RELEASE_34/dot1-final 208032)', gccosandvers=''
    intsize=4, longsize=8, ptrsize=8, doublesize=8, byteorder=12345678, doublekind=3
    d_longlong=define, longlongsize=8, d_longdbl=define, longdblsize=16, longdblkind=3
    ivtype='long', ivsize=8, nvtype='double', nvsize=8, Off_t='off_t', lseeksize=8
    alignbytes=8, prototype=define
  Linker and Libraries:
    ld='cc', ldflags ='-pthread -Wl,-E  -fstack-protector -L/usr/local/lib'
    libpth=/usr/lib /usr/local/lib /usr/include/clang/3.4.1 /usr/lib
    libs=-lpthread -lgdbm -lm -lcrypt -lutil -lc
    perllibs=-lpthread -lm -lcrypt -lutil -lc
    libc=, so=so, useshrplib=false, libperl=libperl.a
    gnulibc_version=''
  Dynamic Linking:
    dlsrc=dl_dlopen.xs, dlext=so, d_dlsymun=undef, ccdlflags=' '
    cccdlflags='-DPIC -fPIC', lddlflags='-shared  -L/usr/local/lib -fstack-protector'


Characteristics of this binary (from libperl): 
  Compile-time options: HAS_TIMES PERLIO_LAYERS PERL_COPY_ON_WRITE
                        PERL_DONT_CREATE_GVSV
                        PERL_HASH_FUNC_ONE_AT_A_TIME_HARD PERL_MALLOC_WRAP
                        PERL_PRESERVE_IVUV USE_64_BIT_ALL USE_64_BIT_INT
                        USE_LARGE_FILES USE_LOCALE USE_LOCALE_COLLATE
                        USE_LOCALE_CTYPE USE_LOCALE_NUMERIC USE_LOCALE_TIME
                        USE_PERLIO USE_PERL_ATOF
  Built under freebsd
  Compiled at Jan 15 2017 11:45:26
  %ENV:
    PERL5LIB="/home/cpansand/.cpan/build/2019050607/Log-Dump-0.14-3/blib/arch:/home/cpansand/.cpan/build/2019050607/Log-Dump-0.14-3/blib/lib:/home/cpansand/.cpan/build/2019050607/CSS-LESS-Filter-0.04-3/blib/arch:/home/cpansand/.cpan/build/2019050607/CSS-LESS-Filter-0.04-3/blib/lib"
    PERL5OPT=""
    PERL5_CPANPLUS_IS_RUNNING="76959"
    PERL5_CPAN_IS_RUNNING="76959"
    PERL5_CPAN_IS_RUNNING_IN_RECURSION="71883,76959"
    PERLDOC="-MPod::Perldoc::ToTextOverstrike"
    PERL_BATCH="yes"
    PERL_CANARY_STABILITY_NOPROMPT="1"
    PERL_CPAN_REPORTER_CONFIG="/var/tmp/cpansmoker-1023/2019050607/cpanreporter_001_config.ini"
    PERL_EXTUTILS_AUTOINSTALL="--defaultdeps"
  @INC:
    /home/cpansand/.cpan/build/2019050607/Log-Dump-0.14-3/blib/arch
    /home/cpansand/.cpan/build/2019050607/Log-Dump-0.14-3/blib/lib
    /home/cpansand/.cpan/build/2019050607/CSS-LESS-Filter-0.04-3/blib/arch
    /home/cpansand/.cpan/build/2019050607/CSS-LESS-Filter-0.04-3/blib/lib
    /usr/perl5.24.1p/lib/site_perl/5.24.1/amd64-freebsd
    /usr/perl5.24.1p/lib/site_perl/5.24.1
    /usr/perl5.24.1p/lib/5.24.1/amd64-freebsd
    /usr/perl5.24.1p/lib/5.24.1
    .