Report for Perlbal-1.80

Back
From: metabase:user:d2c9f356-b46f-11df-9a90-20a83c0b7757
Subject: PASS Perlbal-1.80 v5.17.3 SunOS/Solaris
Date: 2012-08-31T17:36:37Z

This distribution has been tested as part of the CPAN Testers
project, supporting the Perl programming language.  See
http://wiki.cpantesters.org/ for more information or email
questions to cpan-testers-discuss@perl.org


--
Dear Alan Kasindorf,

This is a computer-generated report for Perlbal-1.80
on perl 5.17.3, created by CPAN-Reporter-1.2006.

Thank you for uploading your work to CPAN.  Congratulations!
All tests were successful.

Sections of this report:

    * Tester comments
    * Program output
    * Prerequisites
    * Environment and other context

------------------------------
TESTER COMMENTS
------------------------------

Additional comments from tester:

this report is from an automated smoke testing program
and was not reviewed by a human for accuracy

------------------------------
PROGRAM OUTPUT
------------------------------

Output from '/usr/local/bin/make test':

PERL_DL_NONLAZY=1 /export/home/cpant5/perl5/perlbrew/perls/perl-5.17.3/bin/perl5.17.3 "-MExtUtils::Command::MM" "-e" "test_harness(0, 'blib/lib', 'blib/arch')" t/*.t
t/00-use.t ............... ok
t/10-testharness.t ....... ok
t/12-headers.t ........... ok
t/13-server-tokens.t ..... ok
t/15-webserver.t ......... ok
t/17-webserver-concat.t .. ok
Manage command failed: 'SERVER aio_mode = ioaio' 'ERROR: IO::AIO not available
'
Manage command failed: 'SERVER aio_mode = ioaio' 'ERROR: IO::AIO not available
'
Manage command failed: 'SERVER aio_mode = ioaio' 'ERROR: IO::AIO not available
'
t/20-put.t ............... ok
# Writing: 500
# Writing: 5
# Writing: 5
# Writing: 5
# Writing: 100000
# Writing: 60000
# Writing: 1000
# Writing: 338485
t/22-chunked-put.t ....... ok
t/30-reverseproxy.t ...... ok
t/31-realworld.t ......... ok
# separator length 2
# separator length 0
500 response!
t/32-pipelining.t ........ ok
t/32-selector.t .......... ok
Manage command failed: 'SERVER aio_mode = ioaio' 'ERROR: IO::AIO not available
'
t/35-reproxy.t ........... ok
Manage command failed: 'SERVER aio_mode = ioaio' 'ERROR: IO::AIO not available
'
Manage command failed: 'SERVER aio_mode = ioaio' 'ERROR: IO::AIO not available
'
t/40-ranges.t ............ ok
t/45-buffereduploads.t ... ok
t/50-plugins.t ........... ok
t/52-chunked-upload.t .... ok
t/60-child-httpd.t ....... skipped: Alpha feature; test skipped without $ENV{PERLBAL_TEST_ALPHA}
t/75-plugin-include.t .... ok
t/76-plugin-redirect.t ... ok
t/77-plugin-throttle.t ... ok
t/78-plugin-xffextras.t .. ok
t/90-accesscontrol.t ..... skipped: Net::Netmask not installed
t/91-fields.t ............ ok
t/99-benchmark-bool.t .... ok
All tests successful.
Files=25, Tests=525, 80 wallclock secs ( 0.36 usr  0.18 sys + 10.97 cusr  3.12 csys = 14.63 CPU)
Result: PASS

------------------------------
PREREQUISITES
------------------------------

Prerequisite modules loaded:

requires:

    Module              Need Have   
    ------------------- ---- -------
    base                0    2.18   
    BSD::Resource       0    1.2904 
    Carp                0    1.26   
    constant            0    1.23   
    Danga::Socket       1.44 1.61   
    Errno               0    1.15   
    Exporter            0    5.67   
    Fcntl               0    1.11   
    fields              0    2.16   
    File::Path          0    2.08_01
    File::Temp          0    0.22   
    FindBin             0    1.51   
    Getopt::Long        0    2.38   
    Hash::Util          0    0.12   
    HTTP::Date          0    6.02   
    HTTP::Request       0    6.00   
    HTTP::Response      0    6.03   
    IO::File            0    1.16   
    IO::Handle          0    1.33   
    IO::Select          0    1.21   
    IO::Socket::INET    0    1.33   
    lib                 0    0.63   
    LWP::UserAgent      0    6.04   
    Scalar::Util        0    1.25   
    Socket              0    2.006  
    strict              0    1.07   
    Sys::Syscall        0    0.23   
    Test::More          0.94 0.98   
    Time::HiRes         0    1.9725 
    vars                0    1.03   
    warnings            0    1.13   

build_requires:

    Module              Need Have   
    ------------------- ---- -------
    ExtUtils::MakeMaker 0    6.63_02

configure_requires:

    Module              Need Have   
    ------------------- ---- -------
    ExtUtils::MakeMaker 0    6.63_02


------------------------------
ENVIRONMENT AND OTHER CONTEXT
------------------------------

Environment variables:

    AUTOMATED_TESTING = 1
    LANG = C
    LD_LIBRARY_PATH = /usr/local/lib:
    MANPATH_WITHOUT_PERLBREW = 
    PATH = /export/home/cpant5/perl5/perlbrew/bin:/export/home/cpant5/perl5/perlbrew/perls/perl-5.17.3/bin:/export/home/cpant5/perl5/bin:/usr/local/bin:/usr/bin
    PATH_WITHOUT_PERLBREW = /export/home/cpant5/perl5/bin:/usr/local/bin:/usr/bin
    PERL5LIB = /export/home/cpant5/.cpan/build/BSD-Resource-1.2904-y_IJWM/blib/arch:/export/home/cpant5/.cpan/build/BSD-Resource-1.2904-y_IJWM/blib/lib:/export/home/cpant5/.cpan/build/Danga-Socket-1.61-13Vpc7/blib/arch:/export/home/cpant5/.cpan/build/Danga-Socket-1.61-13Vpc7/blib/lib:/export/home/cpant5/.cpan/build/Sys-Syscall-0.23-z9A47z/blib/arch:/export/home/cpant5/.cpan/build/Sys-Syscall-0.23-z9A47z/blib/lib:/export/home/cpant5/.cpan/build/MogileFS-Client-1.16-7s0Oaz/blib/arch:/export/home/cpant5/.cpan/build/MogileFS-Client-1.16-7s0Oaz/blib/lib
    PERL5OPT = 
    PERL5_CPANPLUS_IS_RUNNING = 15457
    PERL5_CPAN_IS_RUNNING = 15457
    PERL5_CPAN_IS_RUNNING_IN_RECURSION = 25367,15457
    PERLBREW_BASHRC_VERSION = 0.44
    PERLBREW_HOME = /export/home/cpant5/.perlbrew
    PERLBREW_MANPATH = /export/home/cpant5/perl5/perlbrew/perls/perl-5.17.3/man
    PERLBREW_PATH = /export/home/cpant5/perl5/perlbrew/bin:/export/home/cpant5/perl5/perlbrew/perls/perl-5.17.3/bin
    PERLBREW_PERL = perl-5.17.3
    PERLBREW_ROOT = /export/home/cpant5/perl5/perlbrew
    PERLBREW_VERSION = 0.44
    PERL_CR_SMOKER_CURRENT = MogileFS-Server-2.65
    PERL_EXTUTILS_AUTOINSTALL = --defaultdeps
    PERL_MM_USE_DEFAULT = 1
    SHELL = /bin/bash
    TERM = xterm

Perl special variables (and OS-specific diagnostics, for MSWin32):

    $^X = /export/home/cpant5/perl5/perlbrew/perls/perl-5.17.3/bin/perl5.17.3
    $UID/$EUID = 105 / 105
    $GID = 1 1
    $EGID = 1 1

Perl module toolchain versions installed:

    Module              Have    
    ------------------- --------
    CPAN                1.9800  
    CPAN::Meta          2.120921
    Cwd                 3.39_02 
    ExtUtils::CBuilder  0.280208
    ExtUtils::Command   1.17    
    ExtUtils::Install   1.58    
    ExtUtils::MakeMaker 6.63_02 
    ExtUtils::Manifest  1.61    
    ExtUtils::ParseXS   3.17    
    File::Spec          3.39_02 
    JSON                2.53    
    JSON::PP            2.27200 
    Module::Build       0.4003  
    Module::Signature   n/a     
    Parse::CPAN::Meta   1.4404  
    Test::Harness       3.25_01 
    Test::More          0.98    
    YAML                0.84    
    YAML::Syck          1.20    
    version             0.99    


--

Summary of my perl5 (revision 5 version 17 subversion 3) configuration:
   
  Platform:
    osname=solaris, osvers=2.10, archname=i86pc-solaris-64int
    uname='sunos vmrz0046 5.10 generic_141445-09 i86pc i386 i86pc solaris '
    config_args='-de -Dprefix=/export/home/cpant5/perl5/perlbrew/perls/perl-5.17.3 -Dcc=gcc -Duse64bitint -Dusedevel -Dusedevel -Aeval:scriptdir=/export/home/cpant5/perl5/perlbrew/perls/perl-5.17.3/bin'
    hint=recommended, useposix=true, d_sigaction=define
    useithreads=undef, usemultiplicity=undef
    useperlio=define, d_sfio=undef, uselargefiles=define, usesocks=undef
    use64bitint=define, use64bitall=undef, uselongdouble=undef
    usemymalloc=n, bincompat5005=undef
  Compiler:
    cc='gcc', ccflags ='-DPTR_IS_LONG -fno-strict-aliasing -pipe -I/usr/local/include -D_LARGEFILE_SOURCE -D_FILE_OFFSET_BITS=64 -DPERL_USE_SAFE_PUTENV',
    optimize='-O',
    cppflags='-DPTR_IS_LONG -fno-strict-aliasing -pipe -I/usr/local/include'
    ccversion='', gccversion='3.4.6', gccosandvers='solaris2.10'
    intsize=4, longsize=4, ptrsize=4, doublesize=8, byteorder=12345678
    d_longlong=define, longlongsize=8, d_longdbl=define, longdblsize=12
    ivtype='long long', ivsize=8, nvtype='double', nvsize=8, Off_t='off_t', lseeksize=8
    alignbytes=4, prototype=define
  Linker and Libraries:
    ld='gcc', ldflags =' -L/usr/local/lib '
    libpth=/usr/local/lib /usr/lib /usr/ccs/lib
    libs=-lsocket -lnsl -lgdbm -ldl -lm -lc
    perllibs=-lsocket -lnsl -ldl -lm -lc
    libc=/lib/libc.so, so=so, useshrplib=false, libperl=libperl.a
    gnulibc_version=''
  Dynamic Linking:
    dlsrc=dl_dlopen.xs, dlext=so, d_dlsymun=undef, ccdlflags=' '
    cccdlflags='-fPIC', lddlflags='-G -L/usr/local/lib'


Characteristics of this binary (from libperl): 
  Compile-time options: HAS_TIMES PERLIO_LAYERS PERL_DONT_CREATE_GVSV
                        PERL_MALLOC_WRAP PERL_PRESERVE_IVUV PERL_USE_DEVEL
                        PERL_USE_SAFE_PUTENV USE_64_BIT_INT USE_LARGE_FILES
                        USE_LOCALE USE_LOCALE_COLLATE USE_LOCALE_CTYPE
                        USE_LOCALE_NUMERIC USE_PERLIO USE_PERL_ATOF
  Built under solaris
  Compiled at Aug 24 2012 11:19:45
  %ENV:
    PERL5LIB="/export/home/cpant5/.cpan/build/BSD-Resource-1.2904-y_IJWM/blib/arch:/export/home/cpant5/.cpan/build/BSD-Resource-1.2904-y_IJWM/blib/lib:/export/home/cpant5/.cpan/build/Danga-Socket-1.61-13Vpc7/blib/arch:/export/home/cpant5/.cpan/build/Danga-Socket-1.61-13Vpc7/blib/lib:/export/home/cpant5/.cpan/build/Sys-Syscall-0.23-z9A47z/blib/arch:/export/home/cpant5/.cpan/build/Sys-Syscall-0.23-z9A47z/blib/lib:/export/home/cpant5/.cpan/build/MogileFS-Client-1.16-7s0Oaz/blib/arch:/export/home/cpant5/.cpan/build/MogileFS-Client-1.16-7s0Oaz/blib/lib"
    PERL5OPT=""
    PERL5_CPANPLUS_IS_RUNNING="15457"
    PERL5_CPAN_IS_RUNNING="15457"
    PERL5_CPAN_IS_RUNNING_IN_RECURSION="25367,15457"
    PERLBREW_BASHRC_VERSION="0.44"
    PERLBREW_HOME="/export/home/cpant5/.perlbrew"
    PERLBREW_MANPATH="/export/home/cpant5/perl5/perlbrew/perls/perl-5.17.3/man"
    PERLBREW_PATH="/export/home/cpant5/perl5/perlbrew/bin:/export/home/cpant5/perl5/perlbrew/perls/perl-5.17.3/bin"
    PERLBREW_PERL="perl-5.17.3"
    PERLBREW_ROOT="/export/home/cpant5/perl5/perlbrew"
    PERLBREW_VERSION="0.44"
    PERL_CR_SMOKER_CURRENT="MogileFS-Server-2.65"
    PERL_EXTUTILS_AUTOINSTALL="--defaultdeps"
    PERL_MM_USE_DEFAULT="1"
  @INC:
    /export/home/cpant5/.cpan/build/BSD-Resource-1.2904-y_IJWM/blib/arch
    /export/home/cpant5/.cpan/build/BSD-Resource-1.2904-y_IJWM/blib/lib
    /export/home/cpant5/.cpan/build/Danga-Socket-1.61-13Vpc7/blib/arch
    /export/home/cpant5/.cpan/build/Danga-Socket-1.61-13Vpc7/blib/lib
    /export/home/cpant5/.cpan/build/Sys-Syscall-0.23-z9A47z/blib/arch
    /export/home/cpant5/.cpan/build/Sys-Syscall-0.23-z9A47z/blib/lib
    /export/home/cpant5/.cpan/build/MogileFS-Client-1.16-7s0Oaz/blib/arch
    /export/home/cpant5/.cpan/build/MogileFS-Client-1.16-7s0Oaz/blib/lib
    /export/home/cpant5/perl5/perlbrew/perls/perl-5.17.3/lib/site_perl/5.17.3/i86pc-solaris-64int
    /export/home/cpant5/perl5/perlbrew/perls/perl-5.17.3/lib/site_perl/5.17.3
    /export/home/cpant5/perl5/perlbrew/perls/perl-5.17.3/lib/5.17.3/i86pc-solaris-64int
    /export/home/cpant5/perl5/perlbrew/perls/perl-5.17.3/lib/5.17.3
    .