Test-Routine v0.031 Perl 5 v5.37.11 x86_64-linux-thread-multi

Status
Pass
From
Andreas J. König (ANDK)
Dist
Test-Routine v0.031
Platform
Perl 5 v5.37.11 x86_64-linux-thread-multi
Date
2023-04-24 09:07:19
ID
6a7ecb7c-e27f-11ed-8c5e-aa1cc300e77a
This distribution has been tested as part of the CPAN Testers
project, supporting the Perl programming language.  See
http://wiki.cpantesters.org/ for more information or email
questions to cpan-testers-discuss@perl.org


--
Dear Ricardo SIGNES,

This is a computer-generated report for Test-Routine-0.031
on perl 5.37.11, created by CPAN-Reporter-1.2018.

Thank you for uploading your work to CPAN.  Congratulations!
All tests were successful.

Sections of this report:

    * Tester comments
    * Program output
    * Prerequisites
    * Environment and other context

------------------------------
TESTER COMMENTS
------------------------------

Additional comments from tester:

this report is from an automated smoke testing program
and was not reviewed by a human for accuracy

------------------------------
PROGRAM OUTPUT
------------------------------

Output from '/usr/bin/make test':

PERL_DL_NONLAZY=1 "/tmp/basesmoker-reloperl-IEkk/bin/perl" "-MExtUtils::Command::MM" "-MTest::Harness" "-e" "undef *Test::Harness::Switches; test_harness(0, 'blib/lib', 'blib/arch')" t/*.t t/demo/*.t t/todo/*.t
# 
# Versions for all modules listed in MYMETA.json (including optional ones):
# 
# === Configure Requires ===
# 
#     Module              Want Have
#     ------------------- ---- ----
#     ExtUtils::MakeMaker 6.78 7.70
# 
# === Build Requires ===
# 
#     Module              Want Have
#     ------------------- ---- ----
#     ExtUtils::MakeMaker  any 7.70
# 
# === Test Requires ===
# 
#     Module                Want     Have
#     --------------------- ---- --------
#     ExtUtils::MakeMaker    any     7.70
#     File::Spec             any     3.88
#     Math::Trig             any     1.62
#     Test::Builder::Tester  any 1.302194
#     Test::Fatal            any    0.017
#     Test::Moose            any   2.2203
#     Test::More            0.96 1.302194
#     lib                    any     0.65
# 
# === Test Recommends ===
# 
#     Module         Want     Have
#     ---------- -------- --------
#     CPAN::Meta 2.120900 2.150010
# 
# === Runtime Requires ===
# 
#     Module                           Want     Have
#     ---------------------------- -------- --------
#     Carp                              any     1.54
#     Class::Load                       any     0.25
#     Moose                             any   2.2203
#     Moose::Exporter                   any   2.2203
#     Moose::Meta::Class                any   2.2203
#     Moose::Meta::Method               any   2.2203
#     Moose::Role                       any   2.2203
#     Moose::Util                       any   2.2203
#     Moose::Util::TypeConstraints      any   2.2203
#     Params::Util                      any    1.102
#     Scalar::Util                      any     1.63
#     Sub::Exporter                     any    0.989
#     Sub::Exporter::Util               any    0.989
#     Test2::API                   1.302045 1.302194
#     Test::Abortable                 0.002    0.003
#     Test::More                       0.96 1.302194
#     Try::Tiny                         any     0.31
#     namespace::autoclean              any     0.29
#     namespace::clean                  any     0.27
#     perl                         5.012000 5.037011
#     strict                            any     1.12
#     warnings                          any     1.64
# 
t/00-report-prereqs.t .. ok
t/abort.t .............. ok
t/demo/01-demo.t ....... ok
t/demo/02-simple.t ..... ok
t/demo/03-advice.t ..... ok
t/demo/04-misc.t ....... ok
t/demo/05-multiple.t ... ok
t/dupe.t ............... ok
t/method-filter.t ...... ok
t/mxms.t ............... ok
t/return.t ............. ok
t/test-traits.t ........ ok
t/todo/mxrp.t .......... skipped: Test::Routine and MXRP not yet compatible
t/unsafe-name.t ........ ok
All tests successful.
Files=14, Tests=37,  5 wallclock secs ( 0.05 usr  0.03 sys +  3.77 cusr  0.38 csys =  4.23 CPU)
Result: PASS

------------------------------
PREREQUISITES
------------------------------

Prerequisite modules loaded:

requires:

    Module                       Need     Have    
    ---------------------------- -------- --------
    Carp                         0        1.54    
    Class::Load                  0        0.25    
    Moose                        0        2.2203  
    Moose::Exporter              0        2.2203  
    Moose::Meta::Class           0        2.2203  
    Moose::Meta::Method          0        2.2203  
    Moose::Role                  0        2.2203  
    Moose::Util                  0        2.2203  
    Moose::Util::TypeConstraints 0        2.2203  
    namespace::autoclean         0        0.29    
    namespace::clean             0        0.27    
    Params::Util                 0        1.102   
    perl                         5.012000 5.037011
    Scalar::Util                 0        1.63    
    strict                       0        1.12    
    Sub::Exporter                0        0.989   
    Sub::Exporter::Util          0        0.989   
    Test2::API                   1.302045 1.302194
    Test::Abortable              0.002    0.003   
    Test::More                   0.96     1.302194
    Try::Tiny                    0        0.31    
    warnings                     0        1.64    

build_requires:

    Module                       Need     Have    
    ---------------------------- -------- --------
    ExtUtils::MakeMaker          0        7.70    
    File::Spec                   0        3.88    
    lib                          0        0.65    
    Math::Trig                   0        1.62    
    Test::Builder::Tester        0        1.302194
    Test::Fatal                  0        0.017   
    Test::Moose                  0        2.2203  
    Test::More                   0.96     1.302194

configure_requires:

    Module                       Need     Have    
    ---------------------------- -------- --------
    ExtUtils::MakeMaker          6.78     7.70    


------------------------------
ENVIRONMENT AND OTHER CONTEXT
------------------------------

Environment variables:

    AUTOMATED_TESTING = 1
    LANG = en_US.UTF-8
    PATH = /home/sand/bin:/usr/local/bin:/usr/local/sbin:/usr/sbin:/usr/bin:/sbin:/bin:/usr/games:/usr/local/games:/snap/bin:/usr/local/perl/bin:/usr/X11/bin
    PERL5LIB = 
    PERL5OPT = 
    PERL5_CPANPLUS_IS_RUNNING = 168734
    PERL5_CPAN_IS_RUNNING = 168734
    PERL_CANARY_STABILITY_NOPROMPT = 1
    PERL_MM_USE_DEFAULT = 1
    PERL_USE_UNSAFE_INC = 1
    SHELL = /usr/bin/zsh
    TERM = screen

Perl special variables (and OS-specific diagnostics, for MSWin32):

    $^X = /tmp/basesmoker-reloperl-IEkk/bin/perl
    $UID/$EUID = 1005 / 1005
    $GID = 1005 1005
    $EGID = 1005 1005

Perl module toolchain versions installed:

    Module              Have    
    ------------------- --------
    CPAN                2.34    
    CPAN::Meta          2.150010
    Cwd                 3.89    
    ExtUtils::CBuilder  0.280238
    ExtUtils::Command   7.70    
    ExtUtils::Install   2.22    
    ExtUtils::MakeMaker 7.70    
    ExtUtils::Manifest  1.73    
    ExtUtils::ParseXS   3.50    
    File::Spec          3.88    
    JSON                4.10    
    JSON::PP            4.16    
    Module::Build       0.4232  
    Module::Signature   0.88    
    Parse::CPAN::Meta   2.150010
    Test::Harness       3.44    
    Test::More          1.302194
    YAML                1.30    
    YAML::Syck          1.34    
    version             0.9929  


--

Summary of my perl5 (revision 5 version 37 subversion 11) configuration:
  Commit id: f94aafcf7b0649f7058ce2679b1be428d0b1bca8
  Platform:
    osname=linux
    osvers=5.4.0-146-generic
    archname=x86_64-linux-thread-multi
    uname='linux k93focal 5.4.0-146-generic #163-ubuntu smp fri mar 17 18:26:02 utc 2023 x86_64 x86_64 x86_64 gnulinux '
    config_args='-Dprefix=/home/sand/src/perl/repoperls/installed-perls/host/k93focal/v5.37.11/d119 -Dmyhostname=k93focal -Dinstallusrbinperl=n -Uversiononly -Dusedevel -des -Ui_db -Dlibswanted=cl pthread socket inet nsl gdbm dbm malloc dl ld sun m crypt sec util c cposix posix ucb BSD gdbm_compat -Duseithreads -Uuselongdouble -DEBUGGING=both'
    hint=recommended
    useposix=true
    d_sigaction=define
    useithreads=define
    usemultiplicity=define
    use64bitint=define
    use64bitall=define
    uselongdouble=undef
    usemymalloc=n
    default_inc_excludes_dot=define
  Compiler:
    cc='cc'
    ccflags ='-D_REENTRANT -D_GNU_SOURCE -fwrapv -DDEBUGGING -fno-strict-aliasing -pipe -fstack-protector-strong -I/usr/local/include -D_LARGEFILE_SOURCE -D_FILE_OFFSET_BITS=64'
    optimize='-O2 -g'
    cppflags='-D_REENTRANT -D_GNU_SOURCE -fwrapv -DDEBUGGING -fno-strict-aliasing -pipe -fstack-protector-strong -I/usr/local/include'
    ccversion=''
    gccversion='9.4.0'
    gccosandvers=''
    intsize=4
    longsize=8
    ptrsize=8
    doublesize=8
    byteorder=12345678
    doublekind=3
    d_longlong=define
    longlongsize=8
    d_longdbl=define
    longdblsize=16
    longdblkind=3
    ivtype='long'
    ivsize=8
    nvtype='double'
    nvsize=8
    Off_t='off_t'
    lseeksize=8
    alignbytes=8
    prototype=define
  Linker and Libraries:
    ld='cc'
    ldflags =' -fstack-protector-strong -L/usr/local/lib'
    libpth=/usr/local/lib /usr/lib/x86_64-linux-gnu /usr/lib /usr/lib64
    libs=-lpthread -lnsl -ldl -lm -lcrypt -lutil -lc
    perllibs=-lpthread -lnsl -ldl -lm -lcrypt -lutil -lc
    libc=libc-2.31.so
    so=so
    useshrplib=false
    libperl=libperl.a
    gnulibc_version='2.31'
  Dynamic Linking:
    dlsrc=dl_dlopen.xs
    dlext=so
    d_dlsymun=undef
    ccdlflags='-Wl,-E'
    cccdlflags='-fPIC'
    lddlflags='-shared -O2 -g -L/usr/local/lib -fstack-protector-strong'


Characteristics of this binary (from libperl): 
  Compile-time options:
    DEBUGGING
    HAS_LONG_DOUBLE
    HAS_STRTOLD
    HAS_TIMES
    MULTIPLICITY
    PERLIO_LAYERS
    PERL_COPY_ON_WRITE
    PERL_DONT_CREATE_GVSV
    PERL_HASH_FUNC_SIPHASH13
    PERL_HASH_USE_SBOX32
    PERL_MALLOC_WRAP
    PERL_OP_PARENT
    PERL_PRESERVE_IVUV
    PERL_TRACK_MEMPOOL
    PERL_USE_DEVEL
    PERL_USE_SAFE_PUTENV
    USE_64_BIT_ALL
    USE_64_BIT_INT
    USE_ITHREADS
    USE_LARGE_FILES
    USE_LOCALE
    USE_LOCALE_COLLATE
    USE_LOCALE_CTYPE
    USE_LOCALE_NUMERIC
    USE_LOCALE_TIME
    USE_PERLIO
    USE_PERL_ATOF
    USE_REENTRANT_API
    USE_THREAD_SAFE_LOCALE
  Built under linux
  Compiled at Apr 23 2023 19:32:15
  %ENV:
    PERL5LIB=""
    PERL5OPT=""
    PERL5_CPANPLUS_IS_RUNNING="168734"
    PERL5_CPAN_IS_RUNNING="168734"
    PERL_CANARY_STABILITY_NOPROMPT="1"
    PERL_MM_USE_DEFAULT="1"
    PERL_USE_UNSAFE_INC="1"
  @INC:
    /home/sand/src/perl/repoperls/installed-perls/host/k93focal/v5.37.11/d119/lib/site_perl/5.37.11/x86_64-linux-thread-multi
    /home/sand/src/perl/repoperls/installed-perls/host/k93focal/v5.37.11/d119/lib/site_perl/5.37.11
    /home/sand/src/perl/repoperls/installed-perls/host/k93focal/v5.37.11/d119/lib/5.37.11/x86_64-linux-thread-multi
    /home/sand/src/perl/repoperls/installed-perls/host/k93focal/v5.37.11/d119/lib/5.37.11
    .