Text-VimColor v0.29 Perl 5 v5.34.2 x86_64-linux
- Status
- Pass
- From
- Andreas J. König (ANDK)
- Dist
-
Text-VimColor v0.29
- Platform
- Perl 5 v5.34.2 x86_64-linux
- Date
- 2023-11-26 16:04:01
- ID
- 6a6a7334-8c75-11ee-aadc-df6f8e6d6238
This distribution has been tested as part of the CPAN Testers
project, supporting the Perl programming language. See
http://wiki.cpantesters.org/ for more information or email
questions to cpan-testers-discuss@perl.org
--
Dear Randy Stauner,
This is a computer-generated report for Text-VimColor-0.29
on perl 5.34.2, created by CPAN-Reporter-1.2019.
Thank you for uploading your work to CPAN. Congratulations!
All tests were successful.
Sections of this report:
* Tester comments
* Program output
* Prerequisites
* Environment and other context
------------------------------
TESTER COMMENTS
------------------------------
Additional comments from tester:
this report is from an automated smoke testing program
and was not reviewed by a human for accuracy
------------------------------
PROGRAM OUTPUT
------------------------------
Output from '/usr/bin/make test':
Skip blib/lib/auto/share/dist/Text-VimColor/light.css (unchanged)
Skip blib/lib/auto/share/dist/Text-VimColor/light.xsl (unchanged)
Skip blib/lib/auto/share/dist/Text-VimColor/define_all.vim (unchanged)
Skip blib/lib/auto/share/dist/Text-VimColor/mark.vim (unchanged)
PERL_DL_NONLAZY=1 "/tmp/basesmoker-reloperl-EO2D/bin/perl" "-MExtUtils::Command::MM" "-MTest::Harness" "-e" "undef *Test::Harness::Switches; test_harness(0, 'blib/lib', 'blib/arch')" t/*.t
t/00-compile.t ......... ok
#
# Versions for all modules listed in MYMETA.json (including optional ones):
#
# === Configure Requires ===
#
# Module Want Have
# ----------------------- ---- ------
# ExtUtils::MakeMaker any 7.70
# File::ShareDir::Install 0.06 0.14
# File::Temp any 0.2311
# IO::File any 1.51
# IPC::Open3 any 1.21
# strict any 1.12
# warnings any 1.51
#
# === Build Requires ===
#
# Module Want Have
# ------------------- ---- ----
# ExtUtils::MakeMaker any 7.70
#
# === Test Requires ===
#
# Module Want Have
# -------------------------- ---- --------
# Exporter any 5.76
# ExtUtils::MakeMaker any 7.70
# File::Spec any 3.80
# File::Temp any 0.2311
# IO::Handle any 1.51
# IPC::Open3 any 1.21
# Path::Class 0.04 0.37
# Test::File::ShareDir::Dist any 1.001002
# Test::More 0.88 1.302183
# lib any 0.65
#
# === Test Recommends ===
#
# Module Want Have
# ---------- -------- --------
# CPAN::Meta 2.120900 2.150010
#
# === Runtime Requires ===
#
# Module Want Have
# --------------- ---- ------
# Carp any 1.52
# File::Copy any 2.35
# File::ShareDir any 1.118
# File::Temp any 0.2311
# Getopt::Long any 2.57
# IO::File any 1.51
# IPC::Open3 any 1.21
# Path::Class 0.04 0.37
# Symbol any 1.09
# Term::ANSIColor 1.03 5.01
# constant any 1.33
# strict any 1.12
# warnings any 1.51
#
# === Runtime Recommends ===
#
# Module Want Have
# --------------- ---- ----
# Term::ANSIColor 3 5.01
#
t/00-report-prereqs.t .. ok
# vim --version
#
# VIM - Vi IMproved 8.1 (2018 May 18, compiled Oct 16 2023 18:14:13)
# Included patches: 1-213, 1840, 214-579, 1969, 580-1854, 1857, 1855-1857, 1331, 1858, 1858-1859, 1873, 1860-1969, 1992, 1970-1992, 2010, 1993-2269, 3612, 3625, 3669, 3741, 1847
# Modified by team+vim@tracker.debian.org
# Compiled by team+vim@tracker.debian.org
# Huge version without GUI. Features included (+) or not (-):
# +acl -farsi -mouse_sysmouse -tag_any_white
# +arabic +file_in_path +mouse_urxvt -tcl
# +autocmd +find_in_path +mouse_xterm +termguicolors
# +autochdir +float +multi_byte +terminal
# -autoservername +folding +multi_lang +terminfo
# -balloon_eval -footer -mzscheme +termresponse
# +balloon_eval_term +fork() +netbeans_intg +textobjects
# -browse +gettext +num64 +textprop
# ++builtin_terms -hangul_input +packages +timers
# +byte_offset +iconv +path_extra +title
# +channel +insert_expand -perl -toolbar
# +cindent +job +persistent_undo +user_commands
# -clientserver +jumplist +postscript +vartabs
# -clipboard +keymap +printer +vertsplit
# +cmdline_compl +lambda +profile +virtualedit
# +cmdline_hist +langmap -python +visual
# +cmdline_info +libcall +python3 +visualextra
# +comments +linebreak +quickfix +viminfo
# +conceal +lispindent +reltime +vreplace
# +cryptv +listcmds +rightleft +wildignore
# +cscope +localmap -ruby +wildmenu
# +cursorbind -lua +scrollbind +windows
# +cursorshape +menu +signs +writebackup
# +dialog_con +mksession +smartindent -X11
# +diff +modify_fname +sound -xfontset
# +digraphs +mouse +spell -xim
# -dnd -mouseshape +startuptime -xpm
# -ebcdic +mouse_dec +statusline -xsmp
# +emacs_tags +mouse_gpm -sun_workshop -xterm_clipboard
# +eval -mouse_jsbterm +syntax -xterm_save
# +ex_extra +mouse_netterm +tag_binary
# +extra_search +mouse_sgr -tag_old_static
# system vimrc file: "$VIM/vimrc"
# user vimrc file: "$HOME/.vimrc"
# 2nd user vimrc file: "~/.vim/vimrc"
# user exrc file: "$HOME/.exrc"
# defaults file: "$VIMRUNTIME/defaults.vim"
# fall-back for $VIM: "/usr/share/vim"
# Compilation: gcc -c -I. -Iproto -DHAVE_CONFIG_H -Wdate-time -g -O2 -fdebug-prefix-map=/build/vim-dLyr1S/vim-8.1.2269=. -fstack-protector-strong -Wformat -Werror=format-security -D_REENTRANT -U_FORTIFY_SOURCE -D_FORTIFY_SOURCE=1
# Linking: gcc -Wl,-Bsymbolic-functions -Wl,-z,relro -Wl,-z,now -Wl,--as-needed -o vim -lm -ltinfo -lnsl -lselinux -lcanberra -lacl -lattr -lgpm -ldl -L/usr/lib/python3.8/config-3.8-x86_64-linux-gnu -lpython3.8 -lcrypt -lpthread -ldl -lutil -lm -lm
#
t/000-vim-version.t .... ok
t/all-syntax-groups.t .. ok
t/ansi.t ............... ok
t/bin.t ................ ok
t/compare-formats.t .... ok
t/encoding.t ........... ok
t/html.t ............... ok
t/input_filename.t ..... ok
t/new.t ................ ok
t/override-options.t ... ok
t/share-dir.t .......... ok
t/tvctestsyn.t ......... ok
t/untie-std-handles.t .. ok
t/vim_let.t ............ ok
t/vim_options.t ........ ok
t/xml.t ................ ok
All tests successful.
Test Summary Report
-------------------
t/encoding.t (Wstat: 0 Tests: 8 Failed: 0)
TODO passed: 5-6
Files=18, Tests=146, 4 wallclock secs ( 0.07 usr 0.05 sys + 3.45 cusr 0.82 csys = 4.39 CPU)
Result: PASS
------------------------------
PREREQUISITES
------------------------------
Prerequisite modules loaded:
requires:
Module Need Have
-------------------------- ----- --------
Carp 0 1.52
constant 0 1.33
File::Copy 0 2.35
File::ShareDir 0 1.118
File::Temp 0 0.2311
Getopt::Long 0 2.57
IO::File 0 1.51
IPC::Open3 0 1.21
Path::Class 0.04 0.37
perl 5.006 5.034002
strict 0 1.12
Symbol 0 1.09
Term::ANSIColor 1.03 5.01
warnings 0 1.51
build_requires:
Module Need Have
-------------------------- ----- --------
Exporter 0 5.76
ExtUtils::MakeMaker 0 7.70
File::Spec 0 3.80
File::Temp 0 0.2311
IO::Handle 0 1.51
IPC::Open3 0 1.21
lib 0 0.65
Path::Class 0.04 0.37
Test::File::ShareDir::Dist 0 1.001002
Test::More 0.88 1.302183
configure_requires:
Module Need Have
-------------------------- ----- --------
ExtUtils::MakeMaker 0 7.70
File::ShareDir::Install 0.06 0.14
File::Temp 0 0.2311
IO::File 0 1.51
IPC::Open3 0 1.21
perl 5.006 5.034002
strict 0 1.12
warnings 0 1.51
opt_requires:
Module Need Have
-------------------------- ----- --------
Term::ANSIColor 3 5.01
------------------------------
ENVIRONMENT AND OTHER CONTEXT
------------------------------
Environment variables:
AUTOMATED_TESTING = 1
LANG = en_US.UTF-8
PATH = /home/sand/bin:/usr/local/bin:/usr/local/sbin:/usr/sbin:/usr/bin:/sbin:/bin:/usr/games:/usr/local/games:/snap/bin:/usr/local/perl/bin:/usr/X11/bin
PERL5LIB =
PERL5OPT =
PERL5_CPANPLUS_IS_RUNNING = 123062
PERL5_CPAN_IS_RUNNING = 123062
PERL_CANARY_STABILITY_NOPROMPT = 1
PERL_MM_USE_DEFAULT = 1
PERL_USE_UNSAFE_INC = 1
SHELL = /usr/bin/zsh
TERM = screen
Perl special variables (and OS-specific diagnostics, for MSWin32):
$^X = /tmp/basesmoker-reloperl-EO2D/bin/perl
$UID/$EUID = 1005 / 1005
$GID = 1005 1005
$EGID = 1005 1005
Perl module toolchain versions installed:
Module Have
------------------- --------
CPAN 2.36
CPAN::Meta 2.150010
Cwd 3.80
ExtUtils::CBuilder 0.280236
ExtUtils::Command 7.70
ExtUtils::Install 2.20
ExtUtils::MakeMaker 7.70
ExtUtils::Manifest 1.73
ExtUtils::ParseXS 3.43
File::Spec 3.80
JSON 4.10
JSON::PP 4.16
Module::Build 0.4234
Module::Signature 0.88
Parse::CPAN::Meta 2.150010
Test2 1.302183
Test::Harness 3.48
Test::More 1.302183
YAML 1.30
YAML::Syck 1.34
version 0.9930
--
Summary of my perl5 (revision 5 version 34 subversion 2) configuration:
Commit id: 455df537296b75cf6a2b514ecb82e446733acdf0
Platform:
osname=linux
osvers=5.4.0-167-generic
archname=x86_64-linux
uname='linux k93focal 5.4.0-167-generic #184-ubuntu smp tue oct 31 09:21:49 utc 2023 x86_64 x86_64 x86_64 gnulinux '
config_args='-Dprefix=/home/sand/src/perl/repoperls/installed-perls/host/k93focal/v5.34.2/b254 -Dmyhostname=k93focal -Dinstallusrbinperl=n -Uversiononly -Dusedevel -des -Ui_db -Dlibswanted=cl pthread socket inet nsl gdbm dbm malloc dl ld sun m crypt sec util c cposix posix ucb BSD gdbm_compat -Uuseithreads -Uuselongdouble -DEBUGGING=both'
hint=recommended
useposix=true
d_sigaction=define
useithreads=undef
usemultiplicity=undef
use64bitint=define
use64bitall=define
uselongdouble=undef
usemymalloc=n
default_inc_excludes_dot=define
Compiler:
cc='cc'
ccflags ='-fwrapv -DDEBUGGING -fno-strict-aliasing -pipe -fstack-protector-strong -I/usr/local/include -D_LARGEFILE_SOURCE -D_FILE_OFFSET_BITS=64'
optimize='-O2 -g'
cppflags='-fwrapv -DDEBUGGING -fno-strict-aliasing -pipe -fstack-protector-strong -I/usr/local/include'
ccversion=''
gccversion='9.4.0'
gccosandvers=''
intsize=4
longsize=8
ptrsize=8
doublesize=8
byteorder=12345678
doublekind=3
d_longlong=define
longlongsize=8
d_longdbl=define
longdblsize=16
longdblkind=3
ivtype='long'
ivsize=8
nvtype='double'
nvsize=8
Off_t='off_t'
lseeksize=8
alignbytes=8
prototype=define
Linker and Libraries:
ld='cc'
ldflags =' -fstack-protector-strong -L/usr/local/lib'
libpth=/usr/local/lib /usr/lib/x86_64-linux-gnu /usr/lib /usr/lib64
libs=-lpthread -lnsl -ldl -lm -lcrypt -lutil -lc
perllibs=-lpthread -lnsl -ldl -lm -lcrypt -lutil -lc
libc=libc-2.31.so
so=so
useshrplib=false
libperl=libperl.a
gnulibc_version='2.31'
Dynamic Linking:
dlsrc=dl_dlopen.xs
dlext=so
d_dlsymun=undef
ccdlflags='-Wl,-E'
cccdlflags='-fPIC'
lddlflags='-shared -O2 -g -L/usr/local/lib -fstack-protector-strong'
Characteristics of this binary (from libperl):
Compile-time options:
DEBUGGING
HAS_TIMES
PERLIO_LAYERS
PERL_COPY_ON_WRITE
PERL_DONT_CREATE_GVSV
PERL_MALLOC_WRAP
PERL_OP_PARENT
PERL_PRESERVE_IVUV
PERL_USE_DEVEL
USE_64_BIT_ALL
USE_64_BIT_INT
USE_LARGE_FILES
USE_LOCALE
USE_LOCALE_COLLATE
USE_LOCALE_CTYPE
USE_LOCALE_NUMERIC
USE_LOCALE_TIME
USE_PERLIO
USE_PERL_ATOF
Built under linux
Compiled at Nov 26 2023 08:22:44
%ENV:
PERL5LIB=""
PERL5OPT=""
PERL5_CPANPLUS_IS_RUNNING="123062"
PERL5_CPAN_IS_RUNNING="123062"
PERL_CANARY_STABILITY_NOPROMPT="1"
PERL_MM_USE_DEFAULT="1"
PERL_USE_UNSAFE_INC="1"
@INC:
/home/sand/src/perl/repoperls/installed-perls/host/k93focal/v5.34.2/b254/lib/site_perl/5.34.2/x86_64-linux
/home/sand/src/perl/repoperls/installed-perls/host/k93focal/v5.34.2/b254/lib/site_perl/5.34.2
/home/sand/src/perl/repoperls/installed-perls/host/k93focal/v5.34.2/b254/lib/5.34.2/x86_64-linux
/home/sand/src/perl/repoperls/installed-perls/host/k93focal/v5.34.2/b254/lib/5.34.2
.