Back
From: metabase:user:b53c7f44-4c0e-11e4-9ced-a04ade49192c
Subject: PASS CGI-Application-Plugin-Authentication-Driver-CDBI-0.03 v5.14.4 GNU/Linux
Date: 2015-06-11T11:10:06Z
This distribution has been tested as part of the CPAN Testers
project, supporting the Perl programming language. See
http://wiki.cpantesters.org/ for more information or email
questions to cpan-testers-discuss@perl.org
--
Dear Adoptable Modules,
This is a computer-generated report for CGI-Application-Plugin-Authentication-Driver-CDBI-0.03
on perl 5.14.4, created by CPAN-Reporter-1.2014.
Thank you for uploading your work to CPAN. Congratulations!
All tests were successful.
Sections of this report:
* Tester comments
* Program output
* Prerequisites
* Environment and other context
------------------------------
TESTER COMMENTS
------------------------------
Additional comments from tester:
none provided
------------------------------
PROGRAM OUTPUT
------------------------------
Output from './Build test':
# Testing CGI::Application::Plugin::Authentication::Driver::CDBI 0.03, Perl 5.014004, /opt/perl492-32-O0-5.14.4/bin/perl
t/00-load.t ............. ok
CGI::param called in list context from /opt/perl492-32-O0-5.14.4/lib/site_perl/5.14.4/CGI/Application/Plugin/Authentication.pm line 1208, this can lead to vulnerabilities. See the warning in "Fetching the value or values of a single named parameter" at /opt/perl492-32-O0-5.14.4/lib/site_perl/5.14.4/CGI.pm line 408, <DATA> line 4.
CGI::param called in list context from /opt/perl492-32-O0-5.14.4/lib/site_perl/5.14.4/CGI/Application/Plugin/Authentication.pm line 1208, this can lead to vulnerabilities. See the warning in "Fetching the value or values of a single named parameter" at /opt/perl492-32-O0-5.14.4/lib/site_perl/5.14.4/CGI.pm line 408, <DATA> line 4.
CGI::param called in list context from /opt/perl492-32-O0-5.14.4/lib/site_perl/5.14.4/CGI/Application/Plugin/Authentication.pm line 1208, this can lead to vulnerabilities. See the warning in "Fetching the value or values of a single named parameter" at /opt/perl492-32-O0-5.14.4/lib/site_perl/5.14.4/CGI.pm line 408.
CGI::param called in list context from /opt/perl492-32-O0-5.14.4/lib/site_perl/5.14.4/CGI/Application/Plugin/Authentication.pm line 1208, this can lead to vulnerabilities. See the warning in "Fetching the value or values of a single named parameter" at /opt/perl492-32-O0-5.14.4/lib/site_perl/5.14.4/CGI.pm line 408.
CGI::param called in list context from /opt/perl492-32-O0-5.14.4/lib/site_perl/5.14.4/CGI/Application/Plugin/Authentication.pm line 1208, this can lead to vulnerabilities. See the warning in "Fetching the value or values of a single named parameter" at /opt/perl492-32-O0-5.14.4/lib/site_perl/5.14.4/CGI.pm line 408.
CGI::param called in list context from /opt/perl492-32-O0-5.14.4/lib/site_perl/5.14.4/CGI/Application/Plugin/Authentication.pm line 1208, this can lead to vulnerabilities. See the warning in "Fetching the value or values of a single named parameter" at /opt/perl492-32-O0-5.14.4/lib/site_perl/5.14.4/CGI.pm line 408.
t/authenticate.t ........ ok
CGI::param called in list context from /opt/perl492-32-O0-5.14.4/lib/site_perl/5.14.4/CGI/Application/Plugin/Authentication.pm line 1208, this can lead to vulnerabilities. See the warning in "Fetching the value or values of a single named parameter" at /opt/perl492-32-O0-5.14.4/lib/site_perl/5.14.4/CGI.pm line 408, <DATA> line 4.
CGI::param called in list context from /opt/perl492-32-O0-5.14.4/lib/site_perl/5.14.4/CGI/Application/Plugin/Authentication.pm line 1208, this can lead to vulnerabilities. See the warning in "Fetching the value or values of a single named parameter" at /opt/perl492-32-O0-5.14.4/lib/site_perl/5.14.4/CGI.pm line 408, <DATA> line 4.
Use of uninitialized value in lc at /opt/perl492-32-O0-5.14.4/lib/site_perl/5.14.4/CGI/Application/Plugin/Authentication/Driver/Filter/crypt.pm line 18.
t/authenticate_crypt.t .. ok
CGI::param called in list context from /opt/perl492-32-O0-5.14.4/lib/site_perl/5.14.4/CGI/Application/Plugin/Authentication.pm line 1208, this can lead to vulnerabilities. See the warning in "Fetching the value or values of a single named parameter" at /opt/perl492-32-O0-5.14.4/lib/site_perl/5.14.4/CGI.pm line 408, <DATA> line 4.
CGI::param called in list context from /opt/perl492-32-O0-5.14.4/lib/site_perl/5.14.4/CGI/Application/Plugin/Authentication.pm line 1208, this can lead to vulnerabilities. See the warning in "Fetching the value or values of a single named parameter" at /opt/perl492-32-O0-5.14.4/lib/site_perl/5.14.4/CGI.pm line 408, <DATA> line 4.
Use of uninitialized value in lc at /opt/perl492-32-O0-5.14.4/lib/site_perl/5.14.4/CGI/Application/Plugin/Authentication/Driver/Filter/md5.pm line 28.
t/authenticate_md5.t .... ok
t/pod-coverage.t ........ ok
t/pod.t ................. ok
All tests successful.
Files=6, Tests=17, 6 wallclock secs ( 0.19 usr 0.02 sys + 4.53 cusr 0.28 csys = 5.02 CPU)
Result: PASS
------------------------------
PREREQUISITES
------------------------------
Prerequisite modules loaded:
requires:
Module Need Have
---------------------------------------- ---- --------
CGI::Application::Plugin::Authentication 0.06 0.20
CGI::Application::Plugin::Session 0 1.05
Class::DBI 0 3.0.17
DBD::SQLite 0 1.46
Test::More 0 1.001014
configure_requires:
Module Need Have
---------------------------------------- ---- --------
Module::Build 0.38 0.4212
------------------------------
ENVIRONMENT AND OTHER CONTEXT
------------------------------
Environment variables:
LANG = en_US.utf8
LD_LIBRARY_PATH = /usr/lib/alliance/lib
PATH = /usr/lib/qt-3.3/bin:/usr/kerberos/sbin:/usr/kerberos/bin:/usr/lib/ccache:/usr/local/sbin:/usr/local/bin:/sbin:/bin:/usr/sbin:/usr/bin:/usr/lib/alliance/bin:/usr/lib/firebird/bin:/opt/real/RealPlayer:/root/bin
PERL5LIB =
PERL5OPT =
PERL5_CPANPLUS_IS_RUNNING = 20646
PERL5_CPAN_IS_RUNNING = 20646
SHELL = /bin/bash
TERM = linux
Perl special variables (and OS-specific diagnostics, for MSWin32):
$^X = /opt/perl492-32-O0-5.14.4/bin/perl
$UID/$EUID = 0 / 0
$GID = 0 0 1 2 3 4 6 10
$EGID = 0 0 1 2 3 4 6 10
Perl module toolchain versions installed:
Module Have
------------------- --------
CPAN 2.10
CPAN::Meta 2.150005
Cwd 3.47
ExtUtils::CBuilder 0.280223
ExtUtils::Command 1.17
ExtUtils::Install 2.04
ExtUtils::MakeMaker 7.04
ExtUtils::Manifest 1.70
ExtUtils::ParseXS 3.24
File::Spec 3.47
JSON 2.90
JSON::PP 2.27300
Module::Build 0.4212
Module::Signature 0.78
Parse::CPAN::Meta 1.4417
Test::Harness 3.35
Test::More 1.001014
YAML 1.15
YAML::Syck 1.29
version 0.9912
--
Summary of my perl5 (revision 5 version 14 subversion 4) configuration:
Platform:
osname=linux, osvers=2.6.32.63, archname=i686-linux-thread-multi-64int-ld
uname='linux localhost.localdomain 2.6.32.63 #2 smp fri jan 30 10:45:01 pst 2015 i686 i686 i386 gnulinux '
config_args='-Dcc=/opt/492/bin/gcc -Dprefix=/opt/perl492-32-O0-5.14.4 -DDEBUGGING'
hint=recommended, useposix=true, d_sigaction=define
useithreads=define, usemultiplicity=define
useperlio=define, d_sfio=undef, uselargefiles=define, usesocks=undef
use64bitint=define, use64bitall=undef, uselongdouble=define
usemymalloc=y, bincompat5005=undef
Compiler:
cc='/opt/492/bin/gcc', ccflags ='-D_REENTRANT -D_GNU_SOURCE -DDEBUGGING -fno-strict-aliasing -pipe -fstack-protector -I/usr/local/include -D_LARGEFILE_SOURCE -D_FILE_OFFSET_BITS=64',
optimize='-O0 -g',
cppflags='-D_REENTRANT -D_GNU_SOURCE -DDEBUGGING -fno-strict-aliasing -pipe -fstack-protector -I/usr/local/include'
ccversion='', gccversion='4.9.2', gccosandvers=''
intsize=4, longsize=4, ptrsize=4, doublesize=8, byteorder=12345678
d_longlong=define, longlongsize=8, d_longdbl=define, longdblsize=12
ivtype='long long', ivsize=8, nvtype='long double', nvsize=12, Off_t='off_t', lseeksize=8
alignbytes=4, prototype=define
Linker and Libraries:
ld='/opt/492/bin/gcc', ldflags =' -fstack-protector -L/usr/local/lib'
libpth=/usr/local/lib /lib /usr/lib
libs=-lnsl -lgdbm -ldb -ldl -lm -lcrypt -lutil -lpthread -lc -lgdbm_compat
perllibs=-lnsl -ldl -lm -lcrypt -lutil -lpthread -lc
libc=/lib/libc-2.8.so, so=so, useshrplib=true, libperl=libperl.so
gnulibc_version='2.8'
Dynamic Linking:
dlsrc=dl_dlopen.xs, dlext=so, d_dlsymun=undef, ccdlflags='-Wl,-E -Wl,-rpath,/opt/perl492-32-O0-5.14.4/lib/5.14.4/i686-linux-thread-multi-64int-ld/CORE'
cccdlflags='-fPIC', lddlflags='-shared -O0 -g -L/usr/local/lib -fstack-protector'
Characteristics of this binary (from libperl):
Compile-time options: DEBUGGING MULTIPLICITY MYMALLOC PERL_DONT_CREATE_GVSV
PERL_IMPLICIT_CONTEXT PERL_MAD PERL_MALLOC_WRAP
PERL_PRESERVE_IVUV PERL_TRACK_MEMPOOL USE_64_BIT_INT
USE_FAST_STDIO USE_ITHREADS USE_LARGE_FILES
USE_LONG_DOUBLE USE_PERLIO USE_PERL_ATOF
USE_REENTRANT_API
Built under linux
Compiled at Apr 10 2015 11:53:50
%ENV:
PERL5LIB=""
PERL5OPT=""
PERL5_CPANPLUS_IS_RUNNING="20646"
PERL5_CPAN_IS_RUNNING="20646"
@INC:
/opt/perl492-32-O0-5.14.4/lib/site_perl/5.14.4/i686-linux-thread-multi-64int-ld
/opt/perl492-32-O0-5.14.4/lib/site_perl/5.14.4
/opt/perl492-32-O0-5.14.4/lib/5.14.4/i686-linux-thread-multi-64int-ld
/opt/perl492-32-O0-5.14.4/lib/5.14.4
.