XML-Twig v3.53 Perl 5 v5.41.9 i86pc-solaris

Status
Pass
From
Nigel Horne
Dist
XML-Twig v3.53
Platform
Perl 5 v5.41.9 i86pc-solaris
Date
2025-05-01 17:26:28
ID
6a4a8c40-26b1-11f0-98eb-d0ccc54e5b65
This distribution has been tested as part of the CPAN Testers
project, supporting the Perl programming language.  See
http://wiki.cpantesters.org/ for more information or email
questions to cpan-testers-discuss@perl.org


--
Dear Michel Rodriguez,

This is a computer-generated report for XML-Twig-3.53
on perl 5.41.9, created by CPAN-Reporter-1.2020.

Thank you for uploading your work to CPAN.  Congratulations!
All tests were successful.

Sections of this report:

    * Tester comments
    * Program output
    * Prerequisites
    * Environment and other context

------------------------------
TESTER COMMENTS
------------------------------

Additional comments from tester:

none provided

------------------------------
PROGRAM OUTPUT
------------------------------

Output from '/usr/bin/make test':

"/export/home/njh/perl5/perlbrew/perls/perl-5.41.9/bin/perl5.41.9" speedup Twig_pm.slow > Twig.pm
perl version is 5.041009
"/export/home/njh/perl5/perlbrew/perls/perl-5.41.9/bin/perl5.41.9" -i_bak -p filter_for_5.005 Twig.pm Twig/XPath.pm
"/export/home/njh/perl5/perlbrew/perls/perl-5.41.9/bin/perl5.41.9" check_optional_modules
Skip blib/lib/XML/Twig.pm (unchanged)
Skip blib/lib/XML/Twig/XPath.pm (unchanged)
PERL_DL_NONLAZY=1 "/export/home/njh/perl5/perlbrew/perls/perl-5.41.9/bin/perl5.41.9" "-MExtUtils::Command::MM" "-MTest::Harness" "-e" "undef *Test::Harness::Switches; test_harness(0, 'blib/lib', 'blib/arch')" t/*.t
t/is_field.t ........................ ok
Author test. Set $ENV{TEST_AUTHOR} to a true value to run.
t/pod.t ............................. ok
Author test. Set $ENV{TEST_AUTHOR} to a true value to run.
t/pod_coverage.t .................... ok
t/test1.t ........................... ok
t/test2.t ........................... ok
t/test3.t ........................... ok
t/test4.t ........................... ok
t/test5.t ........................... ok
t/test_3_24.t ....................... ok

need HTML::TreeBuilder 3.13+ to use set_inner_html method: skipping 4 tests

HTML::TreeBuilder not available: skipping 5 tests
t/test_3_26.t ....................... ok

need HTML::TreeBuilder > 4.00 to test error display with HTML data: skipping 4 tests
t/test_3_27.t ....................... ok

Tie::IxHash not available, cannot test the cvs pretty_print option: skipping 1 tests

HTML::TreeBuilder not available, cannot test safe_parse.*_html methods: skipping 3 tests
t/test_3_30.t ....................... ok
t/test_3_32.t ....................... ok
t/test_3_35.t ....................... ok

need HTML::Tidy to use the use_tidy method method: skipping 4 tests

HTML::Tidy not available: skipping 5 tests

HTML::Tidy not available, cannot test safe_parse.*_html methods with the use_tidy option: skipping 3 tests

need HTML::Tidy and LWP to test parse_html with the use_tidy option: skipping 3 tests

need HTML::TreeBuilder for additional HTML tests: skipping 3 tests

: skipping 1 tests
t/test_3_36.t ....................... ok

LWP and/or HTML::TreeBuilder not available, cannot test safe_parseurl_html: skipping 1 tests
t/test_3_38.t ....................... ok

: skipping 3 tests
t/test_3_39.t ....................... ok
t/test_3_40.t ....................... ok
t/test_3_41.t ....................... ok
t/test_3_42.t ....................... ok
t/test_3_44.t ....................... ok
t/test_3_45.t ....................... ok
t/test_3_47.t ....................... ok
t/test_3_48.t ....................... ok
t/test_3_50.t ....................... ok

Tie::IxHash not available: skipping 7 tests

need Text::Iconv for those tests: skipping 3 tests

need Unicode::Map8 and Unicode::String for those tests: skipping 3 tests

require XML::Handler::YAWriter: skipping 3 tests

XML::SAX::Writer not available: skipping 5 tests
t/test_additional.t ................. ok
t/test_attregexp_cond.t ............. ok
t/test_autoencoding_conversion.t .... ok

Text::Iconv not available: skipping 1 tests

option do_not_escape_amp_in_atts not available (it's only available in an old version of expat), no worries: skipping 1 tests
t/test_bugs_3_15.t .................. ok
t/test_bugs_3_18.t .................. ok
t/test_bugs_3_19.t .................. ok
t/test_bugs_3_21.t .................. ok

need HTML::TreeBuilder 3.13+ and HTML::Entities::Numbered for this test: skipping 1 tests
t/test_bugs_3_22.t .................. ok
t/test_cdata.t ...................... ok
t/test_changes.t .................... skipped: Test::CPAN::Changes required for this test
t/test_class_methods.t .............. ok
t/test_class_selector.t ............. ok
t/test_comment_handler.t ............ ok
t/test_drop_comments.t .............. ok
t/test_entities.t ................... ok
t/test_erase.t ...................... ok
t/test_errors.t ..................... ok
t/test_even_more_coverage.t ......... ok
t/test_expand_external_entities.t ... ok
t/test_ignore_elts.t ................ ok
Tie::IxHash not available, option keep_atts_order not allowed
t/test_keep_atts_order.t ............ ok
Author test. Set $ENV{TEST_AUTHOR} to a true value to run.
t/test_kwalitee.t ................... ok
t/test_mark.t ....................... ok
Use of uninitialized value $size in substitution (s///) at t/test_memory.t line 127, <STATUS> line 2.
skipping: memory size not available
t/test_memory.t ..................... ok
t/test_meta_json.t .................. skipped: Test::CPAN::Meta::JSON required for testing META.json
t/test_nav.t ........................ ok
t/test_need_3_args_open.t ........... ok
t/test_need_io_scalar.t ............. ok
t/test_need_use_bytes.t ............. ok
t/test_new_features_3_15.t .......... ok
t/test_new_features_3_16.t .......... ok
t/test_new_features_3_18.t .......... ok

need  HTML::TreeBuilder 3.13+ and LWP to test parse_html: skipping 3 tests

need HTML::TreeBuilder 3.13+: skipping 3 tests

cannot test html url parsing without LWP::Simple and HTML::TreeBuilder 3.13+: skipping 1 tests
t/test_new_features_3_22.t .......... ok
t/test_pi_handler.t ................. ok
t/test_pos.t ........................ ok
t/test_safe_encode.t ................ ok
skipping: XML::Simple is not installed
t/test_simplify.t ................... ok
t/test_spaces.t ..................... ok
t/test_twig_roots.t ................. ok
t/test_unique_xpath.t ............... ok
t/test_variables.t .................. ok


### warning is normal here ###

file:test_with_lwp_no_file.xml File `test_with_lwp_no_file.xml' does not exist at t/test_with_lwp.t line 54.
t/test_with_lwp.t ................... ok
t/test_wrapped.t .................... ok

need IO::CaptureOutput to test tool options: skipping 15 tests
t/test_xml_split.t .................. ok
t/test_xml_split_g.t ................ ok
t/test_xpath_cond.t ................. ok

: skipping 3 tests
t/tests_3_23.t ...................... ok
cannot use XML::Twig::XPath: neither XML::XPathEngine 0.09+ nor XML::XPath are available
t/xmlxpath_01basic.t ................ ok
cannot use XML::Twig::XPath: neither XML::XPathEngine 0.09+ nor XML::XPath are available
t/xmlxpath_02descendant.t ........... ok
cannot use XML::Twig::XPath: neither XML::XPathEngine 0.09+ nor XML::XPath are available
t/xmlxpath_03star.t ................. ok
cannot use XML::Twig::XPath: neither XML::XPathEngine 0.09+ nor XML::XPath are available
t/xmlxpath_04pos.t .................. ok
cannot use XML::Twig::XPath: neither XML::XPathEngine 0.09+ nor XML::XPath are available
t/xmlxpath_05attrib.t ............... ok
cannot use XML::Twig::XPath: neither XML::XPathEngine 0.09+ nor XML::XPath are available
t/xmlxpath_06attrib_val.t ........... ok
cannot use XML::Twig::XPath: neither XML::XPathEngine 0.09+ nor XML::XPath are available
t/xmlxpath_07count.t ................ ok
cannot use XML::Twig::XPath: neither XML::XPathEngine 0.09+ nor XML::XPath are available
t/xmlxpath_08name.t ................. ok
cannot use XML::Twig::XPath: neither XML::XPathEngine 0.09+ nor XML::XPath are available
t/xmlxpath_09a_string_length.t ...... ok
cannot use XML::Twig::XPath: neither XML::XPathEngine 0.09+ nor XML::XPath are available
t/xmlxpath_09string_length.t ........ ok
cannot use XML::Twig::XPath: neither XML::XPathEngine 0.09+ nor XML::XPath are available
t/xmlxpath_10pipe.t ................. ok
cannot use XML::Twig::XPath: neither XML::XPathEngine 0.09+ nor XML::XPath are available
t/xmlxpath_12axisdescendant.t ....... ok
cannot use XML::Twig::XPath: neither XML::XPathEngine 0.09+ nor XML::XPath are available
t/xmlxpath_13axisparent.t ........... ok
cannot use XML::Twig::XPath: neither XML::XPathEngine 0.09+ nor XML::XPath are available
t/xmlxpath_14axisancestor.t ......... ok
cannot use XML::Twig::XPath: neither XML::XPathEngine 0.09+ nor XML::XPath are available
t/xmlxpath_15axisfol_sib.t .......... ok
cannot use XML::Twig::XPath: neither XML::XPathEngine 0.09+ nor XML::XPath are available
t/xmlxpath_16axisprec_sib.t ......... ok
cannot use XML::Twig::XPath: neither XML::XPathEngine 0.09+ nor XML::XPath are available
t/xmlxpath_17axisfollowing.t ........ ok
cannot use XML::Twig::XPath: neither XML::XPathEngine 0.09+ nor XML::XPath are available
t/xmlxpath_18axispreceding.t ........ ok
cannot use XML::Twig::XPath: neither XML::XPathEngine 0.09+ nor XML::XPath are available
t/xmlxpath_19axisd_or_s.t ........... ok
cannot use XML::Twig::XPath: neither XML::XPathEngine 0.09+ nor XML::XPath are available
t/xmlxpath_20axisa_or_s.t ........... ok
cannot use XML::Twig::XPath: neither XML::XPathEngine 0.09+ nor XML::XPath are available
t/xmlxpath_21allnodes.t ............. ok
cannot use XML::Twig::XPath: neither XML::XPathEngine 0.09+ nor XML::XPath are available
t/xmlxpath_22name_select.t .......... ok
cannot use XML::Twig::XPath: neither XML::XPathEngine 0.09+ nor XML::XPath are available
t/xmlxpath_23func.t ................. ok
cannot use XML::Twig::XPath: neither XML::XPathEngine 0.09+ nor XML::XPath are available
t/xmlxpath_24namespaces.t ........... ok
cannot use XML::Twig::XPath: neither XML::XPathEngine 0.09+ nor XML::XPath are available
t/xmlxpath_25scope.t ................ ok
cannot use XML::Twig::XPath: neither XML::XPathEngine 0.09+ nor XML::XPath are available
t/xmlxpath_26predicate.t ............ ok
cannot use XML::Twig::XPath: neither XML::XPathEngine 0.09+ nor XML::XPath are available
t/xmlxpath_28ancestor2.t ............ ok
cannot use XML::Twig::XPath: neither XML::XPathEngine 0.09+ nor XML::XPath are available
t/xmlxpath_29desc_with_predicate.t .. ok
cannot use XML::Twig::XPath: neither XML::XPathEngine 0.09+ nor XML::XPath are available
t/xmlxpath_30lang.t ................. ok
cannot use XML::Twig::XPath: neither XML::XPathEngine 0.09+ nor XML::XPath are available
t/xmlxpath_31vars.t ................. ok
cannot use XML::Twig::XPath: neither XML::XPathEngine 0.09+ nor XML::XPath are available
t/xmlxpath_additional.t ............. ok
cannot use XML::Twig::XPath: neither XML::XPathEngine 0.09+ nor XML::XPath are available
t/xmlxpath_nav.t .................... ok
cannot use XML::Twig::XPath: neither XML::XPathEngine 0.09+ nor XML::XPath are available
t/xmlxpath_test1.t .................. ok
cannot use XML::Twig::XPath: neither XML::XPathEngine 0.09+ nor XML::XPath are available
t/xmlxpath_test_twig_roots.t ........ ok
cannot use XML::Twig::XPath: neither XML::XPathEngine 0.09+ nor XML::XPath are available
t/xmlxpath_test_with_handlers.t ..... ok
cannot use XML::Twig::XPath: neither XML::XPathEngine 0.09+ nor XML::XPath are available
t/xmlxpath_xpath_cond.t ............. ok


Configuration:

perl: 5.041009
OS: solaris - i86pc-solaris
required
  XML::Parser              :             2.47 
  expat                    :           2.2.10 (required)
Strongly Recommended
  Scalar::Util             :           1.6801 (for improved memory management)
  Encode                   :             3.21 (for encoding conversions)
Modules providing additional features
  XML::XPathEngine         :  <not available> (to use XML::Twig::XPath)
  XML::XPath               :  <not available> (to use XML::Twig::XPath if Tree::XPathEngine not available)
  LWP                      :             6.78 (for the parseurl method)
  HTML::TreeBuilder        :  <not available> (to use parse_html and parsefile_html)
  HTML::Entities::Numbered :  <not available> (to allow parsing of HTML containing named entities)
  HTML::Tidy               :  <not available> (to use parse_html and parsefile_html with the use_tidy option)
  HTML::Entities           :             3.83 (for the html_encode filter)
  Tie::IxHash              :  <not available> (for the keep_atts_order option)
  Text::Wrap               :         2024.001 (to use the "wrapped" option for pretty_print)
Modules used only by the auto tests
  Test                     :             1.31 
  Test::Pod                :             1.52 
  XML::Simple              :  <not available> 
  XML::Handler::YAWriter   :  <not available> 
  XML::SAX::Writer         :  <not available> 
  XML::Filter::BufferText  :  <not available> 
  IO::Scalar               :            2.113 
  IO::CaptureOutput        :  <not available> 


Please add this information to bug reports (you can run t/zz_dump_config.t to get it)

if you are upgrading the module from a previous version, make sure you read the
Changes file for bug fixes, new features and the occasional COMPATIBILITY WARNING

t/zz_dump_config.t .................. ok
All tests successful.
Files=109, Tests=4477, 37 wallclock secs ( 0.72 usr  0.31 sys + 28.80 cusr  5.45 csys = 35.29 CPU)
Result: PASS

------------------------------
PREREQUISITES
------------------------------

Prerequisite modules loaded:

requires:

    Module              Need Have
    ------------------- ---- ----
    XML::Parser         2.23 2.47

build_requires:

    Module              Need Have
    ------------------- ---- ----
    ExtUtils::MakeMaker 0    7.74

configure_requires:

    Module              Need Have
    ------------------- ---- ----
    ExtUtils::MakeMaker 0    7.74


------------------------------
ENVIRONMENT AND OTHER CONTEXT
------------------------------

Environment variables:

    LANG = en_US.UTF-8
    NONINTERACTIVE_TESTING = 1
    PATH = /export/home/njh/perl5/perlbrew/bin:/export/home/njh/perl5/perlbrew/perls/perl-5.41.9/bin:/export/home/njh/perl5/perlbrew/bin:/usr/bin:/usr/sbin:/sbin:/usr/gnu/bin
    PERL5LIB = 
    PERL5OPT = 
    PERL5_CPANPLUS_IS_RUNNING = 3531
    PERL5_CPAN_IS_RUNNING = 3531
    PERLBREW_HOME = /export/home/njh/.perlbrew
    PERLBREW_LIB = 
    PERLBREW_MANPATH = /export/home/njh/perl5/perlbrew/perls/perl-5.41.9/man
    PERLBREW_PATH = /export/home/njh/perl5/perlbrew/bin:/export/home/njh/perl5/perlbrew/perls/perl-5.41.9/bin
    PERLBREW_PERL = perl-5.41.9
    PERLBREW_ROOT = /export/home/njh/perl5/perlbrew
    PERLBREW_SHELLRC_VERSION = 1.01
    PERLBREW_VERSION = 1.01
    PERL_LOCAL_LIB_ROOT = 
    PERL_MM_USE_DEFAULT = 1
    PERL_USE_UNSAFE_INC = 1
    SHELL = /bin/bash
    TERM = xterm-256color
    TMPDIR = /export/home/njh/tmp

Perl special variables (and OS-specific diagnostics, for MSWin32):

    $^X = /export/home/njh/perl5/perlbrew/perls/perl-5.41.9/bin/perl5.41.9
    $UID/$EUID = 101 / 101
    $GID = 10 10
    $EGID = 10 10

Perl module toolchain versions installed:

    Module              Have    
    ------------------- --------
    CPAN                2.38    
    CPAN::Meta          2.150010
    Cwd                 3.92    
    ExtUtils::CBuilder  0.280240
    ExtUtils::Command   7.74    
    ExtUtils::Install   2.22    
    ExtUtils::MakeMaker 7.74    
    ExtUtils::Manifest  1.75    
    ExtUtils::ParseXS   3.57    
    File::Spec          3.93    
    JSON                4.10    
    JSON::PP            4.16    
    Module::Build       0.4234  
    Module::Signature   n/a     
    Parse::CPAN::Meta   2.150010
    Test2               1.302210
    Test::Harness       3.50    
    Test::More          1.302210
    YAML                1.31    
    YAML::Syck          1.34    
    version             0.9933  


--

Summary of my perl5 (revision 5 version 41 subversion 9) configuration:
   
  Platform:
    osname=solaris
    osvers=2.11
    archname=i86pc-solaris
    uname='sunos njh1 5.11 illumos-06524cf4e4 i86pc i386 i86pc '
    config_args='-de -Dprefix=/export/home/njh/perl5/perlbrew/perls/perl-5.41.9 -Dusedevel -Aeval:scriptdir=/export/home/njh/perl5/perlbrew/perls/perl-5.41.9/bin'
    hint=recommended
    useposix=true
    d_sigaction=define
    useithreads=undef
    usemultiplicity=undef
    use64bitint=undef
    use64bitall=undef
    uselongdouble=undef
    usemymalloc=n
    default_inc_excludes_dot=define
  Compiler:
    cc='/usr/bin/gcc'
    ccflags ='-fwrapv -fno-strict-aliasing -pipe -fstack-protector-strong -I/usr/gnu/include -D_LARGEFILE_SOURCE -D_FILE_OFFSET_BITS=64 -D_FORTIFY_SOURCE=2'
    optimize='-O'
    cppflags='-fwrapv -fno-strict-aliasing -pipe -fstack-protector-strong -I/usr/gnu/include'
    ccversion=''
    gccversion='7.5.0'
    gccosandvers=''
    intsize=4
    longsize=4
    ptrsize=4
    doublesize=8
    byteorder=1234
    doublekind=3
    d_longlong=define
    longlongsize=8
    d_longdbl=define
    longdblsize=12
    longdblkind=3
    ivtype='long'
    ivsize=4
    nvtype='double'
    nvsize=8
    Off_t='off_t'
    lseeksize=8
    alignbytes=4
    prototype=define
  Linker and Libraries:
    ld='/usr/bin/gcc'
    ldflags =' -fstack-protector-strong -L/usr/gnu/lib '
    libpth=/usr/gcc/7/lib /usr/lib /usr/gnu/lib /usr/ccs/lib
    libs=-lpthread -lsocket -lnsl -lgdbm -ldb -ldl -lm -lc
    perllibs=-lpthread -lsocket -lnsl -ldl -lm -lc
    libc=/lib/libc.so
    so=so
    useshrplib=true
    libperl=libperl.so
    gnulibc_version=''
  Dynamic Linking:
    dlsrc=dl_dlopen.xs
    dlext=so
    d_dlsymun=undef
    ccdlflags='  -R /export/home/njh/perl5/perlbrew/perls/perl-5.41.9/lib/5.41.9/i86pc-solaris/CORE'
    cccdlflags='-fPIC'
    lddlflags='-shared -L/usr/gnu/lib -fstack-protector-strong'


Characteristics of this binary (from libperl): 
  Compile-time options:
    HAS_LONG_DOUBLE
    HAS_STRTOLD
    HAS_TIMES
    PERLIO_LAYERS
    PERL_COPY_ON_WRITE
    PERL_DONT_CREATE_GVSV
    PERL_HASH_FUNC_ZAPHOD32
    PERL_HASH_USE_SBOX32
    PERL_MALLOC_WRAP
    PERL_OP_PARENT
    PERL_PRESERVE_IVUV
    PERL_USE_DEVEL
    PERL_USE_SAFE_PUTENV
    USE_LARGE_FILES
    USE_LOCALE
    USE_LOCALE_COLLATE
    USE_LOCALE_CTYPE
    USE_LOCALE_NUMERIC
    USE_LOCALE_TIME
    USE_PERLIO
    USE_PERL_ATOF
  Built under solaris
  Compiled at Apr 16 2025 09:30:32
  %ENV:
    PERL5LIB=""
    PERL5OPT=""
    PERL5_CPANPLUS_IS_RUNNING="3531"
    PERL5_CPAN_IS_RUNNING="3531"
    PERLBREW_HOME="/export/home/njh/.perlbrew"
    PERLBREW_LIB=""
    PERLBREW_MANPATH="/export/home/njh/perl5/perlbrew/perls/perl-5.41.9/man"
    PERLBREW_PATH="/export/home/njh/perl5/perlbrew/bin:/export/home/njh/perl5/perlbrew/perls/perl-5.41.9/bin"
    PERLBREW_PERL="perl-5.41.9"
    PERLBREW_ROOT="/export/home/njh/perl5/perlbrew"
    PERLBREW_SHELLRC_VERSION="1.01"
    PERLBREW_VERSION="1.01"
    PERL_LOCAL_LIB_ROOT=""
    PERL_MM_USE_DEFAULT="1"
    PERL_USE_UNSAFE_INC="1"
  @INC:
    /export/home/njh/perl5/perlbrew/perls/perl-5.41.9/lib/site_perl/5.41.9/i86pc-solaris
    /export/home/njh/perl5/perlbrew/perls/perl-5.41.9/lib/site_perl/5.41.9
    /export/home/njh/perl5/perlbrew/perls/perl-5.41.9/lib/5.41.9/i86pc-solaris
    /export/home/njh/perl5/perlbrew/perls/perl-5.41.9/lib/5.41.9
    .