Back
From: metabase:user:320bfe00-2aae-11df-837a-5e0a49663a4f
Subject: PASS Net-Google-DataAPI-0.2805 v5.23.8 GNU/Linux
Date: 2016-02-02T16:52:59Z
This distribution has been tested as part of the CPAN Testers
project, supporting the Perl programming language. See
http://wiki.cpantesters.org/ for more information or email
questions to cpan-testers-discuss@perl.org
--
Dear Nobuo Danjou,
This is a computer-generated report for Net-Google-DataAPI-0.2805
on perl 5.23.8, created by CPAN-Reporter-1.2015.
Thank you for uploading your work to CPAN. Congratulations!
All tests were successful.
Sections of this report:
* Tester comments
* Program output
* Prerequisites
* Environment and other context
------------------------------
TESTER COMMENTS
------------------------------
Additional comments from tester:
this report is from an automated smoke testing program
and was not reviewed by a human for accuracy
------------------------------
PROGRAM OUTPUT
------------------------------
Output from '/usr/bin/make test':
PERL_DL_NONLAZY=1 "/tmp/basesmoker-reloperl-NI9a/bin/perl" "-MExtUtils::Command::MM" "-MTest::Harness" "-e" "undef *Test::Harness::Switches; test_harness(0, 'inc', 'blib/lib', 'blib/arch')" t/*.t t/01_role/01_service/*.t t/01_role/02_entry/*.t t/01_role/03_has_content/*.t t/02_feedurl/*.t t/03_entry_has/*.t t/04_auth/*.t
t/00_compile.t ......................................... ok
t/01_role/01_service/01_instanciate.t .................. ok
t/01_role/01_service/02_namespace.t .................... ok
t/01_role/01_service/03_request.t ...................... ok
t/01_role/01_service/04_methods.t ...................... ok
t/01_role/01_service/05_debug.t ........................ ok
t/01_role/01_service/06_pass_through.t ................. ok
t/01_role/01_service/07_max_line_length.t .............. ok
t/01_role/01_service/08_max_line_length_custom_size.t .. ok
t/01_role/02_entry/01_instanciate.t .................... ok
t/01_role/02_entry/02_update.t ......................... ok
t/01_role/03_has_content/01_basic.t .................... ok
t/02_feedurl/01_basic.t ................................ ok
t/02_feedurl/02_add.t .................................. ok
t/02_feedurl/03_list.t ................................. ok
t/02_feedurl/04_delete.t ............................... ok
t/02_feedurl/05_error.t ................................ ok
t/03_entry_has/01_basic.t .............................. ok
t/03_entry_has/02_error.t .............................. ok
t/04_auth/01_authsub.t ................................. ok
t/04_auth/02_oauth.t ................................... ok
t/04_auth/03_multiple.t ................................ ok
t/04_auth/04_oauth2.t .................................. ok
t/05_types.t ........................................... ok
All tests successful.
Files=24, Tests=423, 3 wallclock secs ( 0.08 usr 0.07 sys + 2.20 cusr 0.39 csys = 2.74 CPU)
Result: PASS
------------------------------
PREREQUISITES
------------------------------
Prerequisite modules loaded:
requires:
Module Need Have
--------------------------- -------- ----------
Any::Moose 0.04 0.26
Carp 0 1.38
Digest::SHA1 0 2.13
Lingua::EN::Inflect::Number 0 1.12
LWP::Protocol::https 0 6.06
LWP::UserAgent 0 6.15
Mouse 0.51 v2.4.5
Net::Google::AuthSub 0.5 0.5
Net::OAuth 0 0.28
Net::OAuth2 0.60 0.63
perl 5.008001 5.023008
Text::Glob 0 0.09
URI 0 1.71
XML::Atom 0 0.41
XML::LibXML 0 2.0123
build_requires:
Module Need Have
--------------------------- -------- ----------
ExtUtils::MakeMaker 6.59 7.10_01
Test::Exception 0 0.43
Test::MockModule 0 0.11
Test::MockObject 0 1.20150527
Test::More 0.88 1.001014
Test::Warn 0 0.30
UNIVERSAL::can 0 1.20140328
UNIVERSAL::isa 0 1.20150614
configure_requires:
Module Need Have
--------------------------- -------- ----------
ExtUtils::MakeMaker 6.59 7.10_01
------------------------------
ENVIRONMENT AND OTHER CONTEXT
------------------------------
Environment variables:
AUTOMATED_TESTING = 1
LANG = C
PATH = /usr/lib/ccache:/home/sand/bin:/usr/local/bin:/usr/bin:/bin:/usr/games:/usr/local/perl/bin:/usr/X11/bin:/sbin:/usr/sbin
PERL5LIB =
PERL5OPT =
PERL5_CPANPLUS_IS_RUNNING = 9805
PERL5_CPAN_IS_RUNNING = 9805
PERL_MM_USE_DEFAULT = 1
SHELL = /usr/bin/zsh
TERM = screen
Perl special variables (and OS-specific diagnostics, for MSWin32):
$^X = /tmp/basesmoker-reloperl-NI9a/bin/perl
$UID/$EUID = 1005 / 1005
$GID = 1005 1005
$EGID = 1005 1005
Perl module toolchain versions installed:
Module Have
------------------- --------
CPAN 2.12
CPAN::Meta 2.150005
Cwd 3.62
ExtUtils::CBuilder 0.280225
ExtUtils::Command 7.10
ExtUtils::Install 2.04
ExtUtils::MakeMaker 7.10_01
ExtUtils::Manifest 1.70
ExtUtils::ParseXS 3.31
File::Spec 3.62
JSON 2.90
JSON::PP 2.27300
Module::Build 0.4216
Module::Signature 0.79
Parse::CPAN::Meta 1.4417
Test::Harness 3.36
Test::More 1.001014
YAML 1.15
YAML::Syck 1.29
version 0.9912
--
Summary of my perl5 (revision 5 version 23 subversion 8) configuration:
Derived from: 1a3756de64921fe45a9e00f0c8bba3c75e843bca
Platform:
osname=linux, osvers=4.3.0-1-amd64, archname=x86_64-linux
uname='linux k93x64sid 4.3.0-1-amd64 #1 smp debian 4.3.3-7 (2016-01-19) x86_64 gnulinux '
config_args='-Dprefix=/home/sand/src/perl/repoperls/installed-perls/host/k93x64sid/v5.23.7-66-g1a3756d/29a8 -Dmyhostname=k93x64sid -Dinstallusrbinperl=n -Uversiononly -Dusedevel -des -Ui_db -Dlibswanted=cl pthread socket inet nsl gdbm dbm malloc dl ld sun m crypt sec util c cposix posix ucb BSD gdbm_compat -Uuseithreads -Uuselongdouble -DDEBUGGING=-g'
hint=recommended, useposix=true, d_sigaction=define
useithreads=undef, usemultiplicity=undef
use64bitint=define, use64bitall=define, uselongdouble=undef
usemymalloc=n, bincompat5005=undef
Compiler:
cc='cc', ccflags ='-fwrapv -fno-strict-aliasing -pipe -fstack-protector-strong -I/usr/local/include -D_LARGEFILE_SOURCE -D_FILE_OFFSET_BITS=64 -D_FORTIFY_SOURCE=2',
optimize='-O2 -g',
cppflags='-fwrapv -fno-strict-aliasing -pipe -fstack-protector-strong -I/usr/local/include'
ccversion='', gccversion='5.3.1 20160121', gccosandvers=''
intsize=4, longsize=8, ptrsize=8, doublesize=8, byteorder=12345678, doublekind=3
d_longlong=define, longlongsize=8, d_longdbl=define, longdblsize=16, longdblkind=3
ivtype='long', ivsize=8, nvtype='double', nvsize=8, Off_t='off_t', lseeksize=8
alignbytes=8, prototype=define
Linker and Libraries:
ld='cc', ldflags =' -fstack-protector-strong -L/usr/local/lib'
libpth=/usr/local/lib /usr/lib/gcc/x86_64-linux-gnu/5/include-fixed /usr/include/x86_64-linux-gnu /usr/lib /lib/x86_64-linux-gnu /lib/../lib /usr/lib/x86_64-linux-gnu /usr/lib/../lib /lib
libs=-lpthread -lnsl -ldl -lm -lcrypt -lutil -lc
perllibs=-lpthread -lnsl -ldl -lm -lcrypt -lutil -lc
libc=libc-2.21.so, so=so, useshrplib=false, libperl=libperl.a
gnulibc_version='2.21'
Dynamic Linking:
dlsrc=dl_dlopen.xs, dlext=so, d_dlsymun=undef, ccdlflags='-Wl,-E'
cccdlflags='-fPIC', lddlflags='-shared -O2 -g -L/usr/local/lib -fstack-protector-strong'
Characteristics of this binary (from libperl):
Compile-time options: HAS_TIMES PERLIO_LAYERS PERL_COPY_ON_WRITE
PERL_DONT_CREATE_GVSV
PERL_HASH_FUNC_ONE_AT_A_TIME_HARD PERL_MALLOC_WRAP
PERL_PRESERVE_IVUV PERL_USE_DEVEL USE_64_BIT_ALL
USE_64_BIT_INT USE_LARGE_FILES USE_LOCALE
USE_LOCALE_COLLATE USE_LOCALE_CTYPE
USE_LOCALE_NUMERIC USE_LOCALE_TIME USE_PERLIO
USE_PERL_ATOF
Locally applied patches:
uncommitted-changes
Devel::PatchPerl 1.40
Built under linux
Compiled at Feb 1 2016 22:32:21
%ENV:
PERL5LIB=""
PERL5OPT=""
PERL5_CPANPLUS_IS_RUNNING="9805"
PERL5_CPAN_IS_RUNNING="9805"
PERL_MM_USE_DEFAULT="1"
@INC:
/home/sand/src/perl/repoperls/installed-perls/host/k93x64sid/v5.23.7-66-g1a3756d/29a8/lib/site_perl/5.23.8/x86_64-linux
/home/sand/src/perl/repoperls/installed-perls/host/k93x64sid/v5.23.7-66-g1a3756d/29a8/lib/site_perl/5.23.8
/home/sand/src/perl/repoperls/installed-perls/host/k93x64sid/v5.23.7-66-g1a3756d/29a8/lib/5.23.8/x86_64-linux
/home/sand/src/perl/repoperls/installed-perls/host/k93x64sid/v5.23.7-66-g1a3756d/29a8/lib/5.23.8
.