Back
From: metabase:user:320bfe00-2aae-11df-837a-5e0a49663a4f
Subject: PASS Memcached-libmemcached-1.001801 v5.22.3 RC4 GNU/Linux
Date: 2016-11-09T23:22:42Z
This distribution has been tested as part of the CPAN Testers
project, supporting the Perl programming language. See
http://wiki.cpantesters.org/ for more information or email
questions to cpan-testers-discuss@perl.org
--
Dear Sean Patrick Burke,
This is a computer-generated report for Memcached-libmemcached-1.001801
on perl 5.22.3, created by CPAN-Reporter-1.2018.
Thank you for uploading your work to CPAN. Congratulations!
All tests were successful.
Sections of this report:
* Tester comments
* Program output
* Prerequisites
* Environment and other context
------------------------------
TESTER COMMENTS
------------------------------
Additional comments from tester:
this report is from an automated smoke testing program
and was not reviewed by a human for accuracy
------------------------------
PROGRAM OUTPUT
------------------------------
Output from '/usr/bin/make test':
"/tmp/basesmoker-reloperl-hHAE/bin/perl" -MExtUtils::Command::MM -e 'cp_nonempty' -- libmemcached.bs blib/arch/auto/Memcached/libmemcached/libmemcached.bs 644
PERL_DL_NONLAZY=1 "/tmp/basesmoker-reloperl-hHAE/bin/perl" "-MExtUtils::Command::MM" "-MTest::Harness" "-e" "undef *Test::Harness::Switches; test_harness(0, 'blib/lib', 'blib/arch')" t/*.t
# Testing Memcached::libmemcached 1.001801, Perl 5.022003, linux, /tmp/basesmoker-reloperl-hHAE/bin/perl
t/00-load.t ...................... ok
t/01-import.t .................... ok
t/02-create.t .................... ok
t/02-subclass.t .................. ok
t/03-servers.t ................... ok
t/04-strerror.t .................. skipped: Can't talk to any memcached servers
t/05-behavior.t .................. skipped: Can't talk to any memcached servers
t/06-verbosity.t ................. skipped: Can't talk to any memcached servers
t/10-set-get.t ................... skipped: Can't talk to any memcached servers
t/11-set-get-by-key.t ............ skipped: Can't talk to any memcached servers
t/12-set-get-binary.t ............ skipped: Can't talk to any memcached servers
t/15-auto.t ...................... skipped: Can't talk to any memcached servers
t/20-set.t ....................... skipped: Can't talk to any memcached servers
t/21-set-by-key.t ................ skipped: Can't talk to any memcached servers
t/25-get.t ....................... skipped: Can't talk to any memcached servers
t/26-get-cb.t .................... skipped: Can't talk to any memcached servers
t/27-set-cb.t .................... skipped: Can't talk to any memcached servers
t/28-get-prefix.t ................ skipped: Can't talk to any memcached servers
t/30-prepend-append.t ............ skipped: Can't talk to any memcached servers
t/31-prepend-append-by-key.t ..... skipped: Can't talk to any memcached servers
t/35-replace.t ................... skipped: Can't talk to any memcached servers
t/36-replace-by-key.t ............ skipped: Can't talk to any memcached servers
t/40-delete.t .................... skipped: Can't talk to any memcached servers
t/41-delete-by-key.t ............. skipped: Can't talk to any memcached servers
t/42-get_server_for_key.t ........ ok
t/50-quit.t ...................... skipped: Can't talk to any memcached servers
t/51-flush.t ..................... skipped: Can't talk to any memcached servers
t/60-stats.t ..................... skipped: Can't talk to any memcached servers
t/80-result_st.t ................. skipped: Can't talk to any memcached servers
93 Functions not yet implemented and documented:
memcached_analyze
memcached_analyze_free
memcached_autoeject
memcached_behavior_get_distribution
memcached_behavior_get_distribution_hash
memcached_behavior_get_key_hash
memcached_behavior_set_distribution
memcached_behavior_set_distribution_hash
memcached_behavior_set_key_hash
memcached_bucket_set
memcached_c_str
memcached_continue
memcached_destroy_sasl_auth_data
memcached_dump
memcached_error
memcached_error_print
memcached_exist
memcached_exist_by_key
memcached_failed
memcached_fatal
memcached_fetch_execute
memcached_fetch_result
memcached_flush_buffers
memcached_generate_hash
memcached_generate_hash_value
memcached_get_hashkit
memcached_get_memory_allocators
memcached_get_memory_allocators_context
memcached_get_sasl_callbacks
memcached_get_user_data
memcached_instance_next_retry
memcached_last_error
memcached_last_error_errno
memcached_last_error_message
memcached_mget_execute
memcached_mget_execute_by_key
memcached_push
memcached_query_id
memcached_reset
memcached_reset_last_disconnected_server
memcached_result_cas
memcached_result_create
memcached_result_flags
memcached_result_free
memcached_result_key_length
memcached_result_key_value
memcached_result_length
memcached_result_reset
memcached_result_set_expiration
memcached_result_set_flags
memcached_result_set_value
memcached_result_take_value
memcached_result_value
memcached_return_t
memcached_server_add_udp
memcached_server_add_udp_with_weight
memcached_server_by_key
memcached_server_cursor
memcached_server_error
memcached_server_error_reset
memcached_server_error_return
memcached_server_free
memcached_server_get_last_disconnect
memcached_server_instance_by_position
memcached_server_list_append_with_weight
memcached_server_list_count
memcached_server_major_version
memcached_server_micro_version
memcached_server_minor_version
memcached_server_name
memcached_server_port
memcached_server_response_count
memcached_server_srcport
memcached_server_type
memcached_servers_reset
memcached_set_encoding_key
memcached_set_hashkit
memcached_set_memory_allocators
memcached_set_sasl_auth_data
memcached_set_sasl_callbacks
memcached_set_user_data
memcached_size
memcached_stat
memcached_stat_execute
memcached_stat_free
memcached_stat_get_keys
memcached_stat_get_value
memcached_stat_servername
memcached_string_param
memcached_string_printf
memcached_success
memcached_touch
memcached_touch_by_key
t/api-coverage.t ................. ok
t/extended-consistent-hashing.t .. skipped: Set PERL_LIBMEMCACHED_TEST_SERVERS env var to at least 5 servers to run this test
t/pod-coverage.t ................. ok
t/pod.t .......................... ok
All tests successful.
Files=33, Tests=107, 2 wallclock secs ( 0.06 usr 0.14 sys + 1.27 cusr 0.21 csys = 1.68 CPU)
Result: PASS
------------------------------
PREREQUISITES
------------------------------
Prerequisite modules loaded:
requires:
Module Need Have
------------------- ---- --------
Test::More 0 1.302062
build_requires:
Module Need Have
------------------- ---- --------
ExtUtils::MakeMaker 0 7.24
------------------------------
ENVIRONMENT AND OTHER CONTEXT
------------------------------
Environment variables:
AUTOMATED_TESTING = 1
LANG = C
PATH = /home/sand/bin:/usr/local/bin:/usr/bin:/bin:/usr/games:/usr/local/perl/bin:/usr/X11/bin:/sbin:/usr/sbin
PERL5LIB =
PERL5OPT =
PERL5_CPANPLUS_IS_RUNNING = 7795
PERL5_CPAN_IS_RUNNING = 7795
PERL_CANARY_STABILITY_NOPROMPT = 1
PERL_MM_USE_DEFAULT = 1
SHELL = /usr/bin/zsh
TERM = screen
Perl special variables (and OS-specific diagnostics, for MSWin32):
$^X = /tmp/basesmoker-reloperl-hHAE/bin/perl
$UID/$EUID = 1005 / 1005
$GID = 1005 1005
$EGID = 1005 1005
Perl module toolchain versions installed:
Module Have
------------------- ----------
CPAN 2.15
CPAN::Meta 2.150010
Cwd 3.62
ExtUtils::CBuilder 0.280224
ExtUtils::Command 7.24
ExtUtils::Install 2.04
ExtUtils::MakeMaker 7.24
ExtUtils::Manifest 1.70
ExtUtils::ParseXS 3.28
File::Spec 3.62
JSON 2.90
JSON::PP 2.27300_01
Module::Build 0.4220
Module::Signature 0.81
Parse::CPAN::Meta 2.150010
Test::Harness 3.36
Test::More 1.302062
YAML 1.18
YAML::Syck 1.29
version 0.9909
--
Summary of my perl5 (revision 5 version 22 subversion 3) configuration:
Commit id: fbdcfe02e796f08f85d7b27110ca9db31f10f1f1
Platform:
osname=linux, osvers=4.8.0-1-amd64, archname=x86_64-linux-thread-multi-ld
uname='linux k93x64sid 4.8.0-1-amd64 #1 smp debian 4.8.5-1 (2016-10-28) x86_64 gnulinux '
config_args='-Dprefix=/home/sand/src/perl/repoperls/installed-perls/host/k93x64sid/v5.22.3-RC4/a3f9 -Dmyhostname=k93x64sid -Dinstallusrbinperl=n -Uversiononly -Dusedevel -des -Ui_db -Dlibswanted=cl pthread socket inet nsl gdbm dbm malloc dl ld sun m crypt sec util c cposix posix ucb BSD gdbm_compat -Duseithreads -Duselongdouble -DDEBUGGING=-g'
hint=recommended, useposix=true, d_sigaction=define
useithreads=define, usemultiplicity=define
use64bitint=define, use64bitall=define, uselongdouble=define
usemymalloc=n, bincompat5005=undef
Compiler:
cc='cc', ccflags ='-D_REENTRANT -D_GNU_SOURCE -fwrapv -fno-strict-aliasing -pipe -fstack-protector-strong -I/usr/local/include -D_LARGEFILE_SOURCE -D_FILE_OFFSET_BITS=64',
optimize='-O2 -g',
cppflags='-D_REENTRANT -D_GNU_SOURCE -fwrapv -fno-strict-aliasing -pipe -fstack-protector-strong -I/usr/local/include'
ccversion='', gccversion='6.2.0 20161103', gccosandvers=''
intsize=4, longsize=8, ptrsize=8, doublesize=8, byteorder=12345678, doublekind=3
d_longlong=define, longlongsize=8, d_longdbl=define, longdblsize=16, longdblkind=3
ivtype='long', ivsize=8, nvtype='long double', nvsize=16, Off_t='off_t', lseeksize=8
alignbytes=16, prototype=define
Linker and Libraries:
ld='cc', ldflags =' -fstack-protector-strong -L/usr/local/lib'
libpth=/usr/local/lib /usr/lib/gcc/x86_64-linux-gnu/6/include-fixed /usr/include/x86_64-linux-gnu /usr/lib /lib/x86_64-linux-gnu /lib/../lib /usr/lib/x86_64-linux-gnu /usr/lib/../lib /lib
libs=-lpthread -lnsl -ldl -lm -lcrypt -lutil -lc
perllibs=-lpthread -lnsl -ldl -lm -lcrypt -lutil -lc
libc=libc-2.24.so, so=so, useshrplib=false, libperl=libperl.a
gnulibc_version='2.24'
Dynamic Linking:
dlsrc=dl_dlopen.xs, dlext=so, d_dlsymun=undef, ccdlflags='-Wl,-E'
cccdlflags='-fPIC', lddlflags='-shared -O2 -g -L/usr/local/lib -fstack-protector-strong'
Characteristics of this binary (from libperl):
Compile-time options: HAS_TIMES MULTIPLICITY PERLIO_LAYERS
PERL_DONT_CREATE_GVSV
PERL_HASH_FUNC_ONE_AT_A_TIME_HARD
PERL_IMPLICIT_CONTEXT PERL_MALLOC_WRAP
PERL_NEW_COPY_ON_WRITE PERL_PRESERVE_IVUV
PERL_USE_DEVEL USE_64_BIT_ALL USE_64_BIT_INT
USE_ITHREADS USE_LARGE_FILES USE_LOCALE
USE_LOCALE_COLLATE USE_LOCALE_CTYPE
USE_LOCALE_NUMERIC USE_LOCALE_TIME USE_LONG_DOUBLE
USE_PERLIO USE_PERL_ATOF USE_REENTRANT_API
Locally applied patches:
RC4
Built under linux
Compiled at Nov 9 2016 16:12:33
%ENV:
PERL5LIB=""
PERL5OPT=""
PERL5_CPANPLUS_IS_RUNNING="7795"
PERL5_CPAN_IS_RUNNING="7795"
PERL_CANARY_STABILITY_NOPROMPT="1"
PERL_MM_USE_DEFAULT="1"
@INC:
/home/sand/src/perl/repoperls/installed-perls/host/k93x64sid/v5.22.3-RC4/a3f9/lib/site_perl/5.22.3/x86_64-linux-thread-multi-ld
/home/sand/src/perl/repoperls/installed-perls/host/k93x64sid/v5.22.3-RC4/a3f9/lib/site_perl/5.22.3
/home/sand/src/perl/repoperls/installed-perls/host/k93x64sid/v5.22.3-RC4/a3f9/lib/5.22.3/x86_64-linux-thread-multi-ld
/home/sand/src/perl/repoperls/installed-perls/host/k93x64sid/v5.22.3-RC4/a3f9/lib/5.22.3
.