MooseX-RelClassTypes v0.03 Perl 5 v5.18.2 i686-linux-thread-multi

Status
Pass
From
Nigel Horne
Dist
MooseX-RelClassTypes v0.03
Platform
Perl 5 v5.18.2 i686-linux-thread-multi
Date
2018-05-17 08:00:50
ID
6a12cd4c-59a8-11e8-9da6-f703c768dc7a
This distribution has been tested as part of the CPAN Testers
project, supporting the Perl programming language.  See
http://wiki.cpantesters.org/ for more information or email
questions to cpan-testers-discuss@perl.org


--
Dear Tom Gracey,

This is a computer-generated report for MooseX-RelClassTypes-0.03
on perl 5.18.2, created by CPAN-Reporter-1.2018.

Thank you for uploading your work to CPAN.  Congratulations!
All tests were successful.

Sections of this report:

    * Tester comments
    * Program output
    * Prerequisites
    * Environment and other context

------------------------------
TESTER COMMENTS
------------------------------

Additional comments from tester:

this report is from an automated smoke testing program
and was not reviewed by a human for accuracy

------------------------------
PROGRAM OUTPUT
------------------------------

Output from '/usr/bin/make test':

PERL_DL_NONLAZY=1 /home/njh/perl5/perlbrew/perls/perl-5.18.2-sanitize-address/bin/perl5.18.2 "-MExtUtils::Command::MM" "-e" "test_harness(0, 'blib/lib', 'blib/arch')" t/*.t
You are overwriting a accessor (parent_rel_pack) for the parent_rel_pack attribute (defined at t/00_set_isa.t line 23) with a new accessor method for the parent_rel_pack attribute (defined at t/00_set_isa.t line 23) at /home/njh/perl5/perlbrew/perls/perl-5.18.2-sanitize-address/lib/site_perl/5.18.2/i686-linux-thread-multi/Moose/Meta/Attribute.pm line 1094.
	Moose::Meta::Attribute::_process_accessors('Moose::Meta::Attribute=HASH(0xad7fa530)', 'accessor', 'parent_rel_pack', undef) called at /home/njh/perl5/perlbrew/perls/perl-5.18.2-sanitize-address/lib/site_perl/5.18.2/i686-linux-thread-multi/Class/MOP/Attribute.pm line 446
	Class::MOP::Attribute::install_accessors('Moose::Meta::Attribute=HASH(0xad7fa530)') called at /home/njh/perl5/perlbrew/perls/perl-5.18.2-sanitize-address/lib/site_perl/5.18.2/i686-linux-thread-multi/Moose/Meta/Attribute.pm line 1014
	Moose::Meta::Attribute::install_accessors('Moose::Meta::Attribute=HASH(0xad7fa530)') called at /home/njh/.cpan/build/MooseX-RelClassTypes-0.03-ZjB8NJ/blib/lib/MooseX/RelClassTypes.pm line 76
	Class::MOP::Class:::before('Child') called at /home/njh/perl5/perlbrew/perls/perl-5.18.2-sanitize-address/lib/site_perl/5.18.2/i686-linux-thread-multi/Class/MOP/Method/Wrapped.pm line 43
	Child::_wrapped_BUILDARGS('Child') called at /home/njh/perl5/perlbrew/perls/perl-5.18.2-sanitize-address/lib/site_perl/5.18.2/i686-linux-thread-multi/Class/MOP/Method/Wrapped.pm line 95
	Child::BUILDARGS('Child') called at /home/njh/perl5/perlbrew/perls/perl-5.18.2-sanitize-address/lib/site_perl/5.18.2/i686-linux-thread-multi/Moose/Object.pm line 22
	Moose::Object::new('Child') called at t/00_set_isa.t line 99
You are overwriting a accessor (child_rel_pack) for the child_rel_pack attribute (defined at t/00_set_isa.t line 45) with a new accessor method for the child_rel_pack attribute (defined at t/00_set_isa.t line 45) at /home/njh/perl5/perlbrew/perls/perl-5.18.2-sanitize-address/lib/site_perl/5.18.2/i686-linux-thread-multi/Moose/Meta/Attribute.pm line 1094.
	Moose::Meta::Attribute::_process_accessors('Moose::Meta::Attribute=HASH(0xad7fb710)', 'accessor', 'child_rel_pack', undef) called at /home/njh/perl5/perlbrew/perls/perl-5.18.2-sanitize-address/lib/site_perl/5.18.2/i686-linux-thread-multi/Class/MOP/Attribute.pm line 446
	Class::MOP::Attribute::install_accessors('Moose::Meta::Attribute=HASH(0xad7fb710)') called at /home/njh/perl5/perlbrew/perls/perl-5.18.2-sanitize-address/lib/site_perl/5.18.2/i686-linux-thread-multi/Moose/Meta/Attribute.pm line 1014
	Moose::Meta::Attribute::install_accessors('Moose::Meta::Attribute=HASH(0xad7fb710)') called at /home/njh/.cpan/build/MooseX-RelClassTypes-0.03-ZjB8NJ/blib/lib/MooseX/RelClassTypes.pm line 76
	Class::MOP::Class:::before('Child') called at /home/njh/perl5/perlbrew/perls/perl-5.18.2-sanitize-address/lib/site_perl/5.18.2/i686-linux-thread-multi/Class/MOP/Method/Wrapped.pm line 43
	Child::_wrapped_BUILDARGS('Child') called at /home/njh/perl5/perlbrew/perls/perl-5.18.2-sanitize-address/lib/site_perl/5.18.2/i686-linux-thread-multi/Class/MOP/Method/Wrapped.pm line 95
	Child::BUILDARGS('Child') called at /home/njh/perl5/perlbrew/perls/perl-5.18.2-sanitize-address/lib/site_perl/5.18.2/i686-linux-thread-multi/Moose/Object.pm line 22
	Moose::Object::new('Child') called at t/00_set_isa.t line 99
You are overwriting a accessor (parent_rel_pack) for the parent_rel_pack attribute (defined at t/00_set_isa.t line 23) with a new accessor method for the parent_rel_pack attribute (defined at t/00_set_isa.t line 23) at /home/njh/perl5/perlbrew/perls/perl-5.18.2-sanitize-address/lib/site_perl/5.18.2/i686-linux-thread-multi/Moose/Meta/Attribute.pm line 1094.
	Moose::Meta::Attribute::_process_accessors('Moose::Meta::Attribute=HASH(0xad7fa530)', 'accessor', 'parent_rel_pack', undef) called at /home/njh/perl5/perlbrew/perls/perl-5.18.2-sanitize-address/lib/site_perl/5.18.2/i686-linux-thread-multi/Class/MOP/Attribute.pm line 446
	Class::MOP::Attribute::install_accessors('Moose::Meta::Attribute=HASH(0xad7fa530)') called at /home/njh/perl5/perlbrew/perls/perl-5.18.2-sanitize-address/lib/site_perl/5.18.2/i686-linux-thread-multi/Moose/Meta/Attribute.pm line 1014
	Moose::Meta::Attribute::install_accessors('Moose::Meta::Attribute=HASH(0xad7fa530)') called at /home/njh/.cpan/build/MooseX-RelClassTypes-0.03-ZjB8NJ/blib/lib/MooseX/RelClassTypes.pm line 76
	Class::MOP::Class:::before('Child') called at /home/njh/perl5/perlbrew/perls/perl-5.18.2-sanitize-address/lib/site_perl/5.18.2/i686-linux-thread-multi/Class/MOP/Method/Wrapped.pm line 43
	Parent::_wrapped_BUILDARGS('Child') called at /home/njh/perl5/perlbrew/perls/perl-5.18.2-sanitize-address/lib/site_perl/5.18.2/i686-linux-thread-multi/Class/MOP/Method/Wrapped.pm line 95
	Parent::BUILDARGS('Child') called at /home/njh/perl5/perlbrew/perls/perl-5.18.2-sanitize-address/lib/site_perl/5.18.2/i686-linux-thread-multi/Class/MOP/Method/Wrapped.pm line 44
	Child::_wrapped_BUILDARGS('Child') called at /home/njh/perl5/perlbrew/perls/perl-5.18.2-sanitize-address/lib/site_perl/5.18.2/i686-linux-thread-multi/Class/MOP/Method/Wrapped.pm line 95
	Child::BUILDARGS('Child') called at /home/njh/perl5/perlbrew/perls/perl-5.18.2-sanitize-address/lib/site_perl/5.18.2/i686-linux-thread-multi/Moose/Object.pm line 22
	Moose::Object::new('Child') called at t/00_set_isa.t line 99
You are overwriting a accessor (child_rel_pack) for the child_rel_pack attribute (defined at t/00_set_isa.t line 45) with a new accessor method for the child_rel_pack attribute (defined at t/00_set_isa.t line 45) at /home/njh/perl5/perlbrew/perls/perl-5.18.2-sanitize-address/lib/site_perl/5.18.2/i686-linux-thread-multi/Moose/Meta/Attribute.pm line 1094.
	Moose::Meta::Attribute::_process_accessors('Moose::Meta::Attribute=HASH(0xad7fb710)', 'accessor', 'child_rel_pack', undef) called at /home/njh/perl5/perlbrew/perls/perl-5.18.2-sanitize-address/lib/site_perl/5.18.2/i686-linux-thread-multi/Class/MOP/Attribute.pm line 446
	Class::MOP::Attribute::install_accessors('Moose::Meta::Attribute=HASH(0xad7fb710)') called at /home/njh/perl5/perlbrew/perls/perl-5.18.2-sanitize-address/lib/site_perl/5.18.2/i686-linux-thread-multi/Moose/Meta/Attribute.pm line 1014
	Moose::Meta::Attribute::install_accessors('Moose::Meta::Attribute=HASH(0xad7fb710)') called at /home/njh/.cpan/build/MooseX-RelClassTypes-0.03-ZjB8NJ/blib/lib/MooseX/RelClassTypes.pm line 76
	Class::MOP::Class:::before('Child') called at /home/njh/perl5/perlbrew/perls/perl-5.18.2-sanitize-address/lib/site_perl/5.18.2/i686-linux-thread-multi/Class/MOP/Method/Wrapped.pm line 43
	Parent::_wrapped_BUILDARGS('Child') called at /home/njh/perl5/perlbrew/perls/perl-5.18.2-sanitize-address/lib/site_perl/5.18.2/i686-linux-thread-multi/Class/MOP/Method/Wrapped.pm line 95
	Parent::BUILDARGS('Child') called at /home/njh/perl5/perlbrew/perls/perl-5.18.2-sanitize-address/lib/site_perl/5.18.2/i686-linux-thread-multi/Class/MOP/Method/Wrapped.pm line 44
	Child::_wrapped_BUILDARGS('Child') called at /home/njh/perl5/perlbrew/perls/perl-5.18.2-sanitize-address/lib/site_perl/5.18.2/i686-linux-thread-multi/Class/MOP/Method/Wrapped.pm line 95
	Child::BUILDARGS('Child') called at /home/njh/perl5/perlbrew/perls/perl-5.18.2-sanitize-address/lib/site_perl/5.18.2/i686-linux-thread-multi/Moose/Object.pm line 22
	Moose::Object::new('Child') called at t/00_set_isa.t line 99
t/00_set_isa.t ....... ok
You are overwriting a reader (rel_pack) for the rel_pack attribute (defined at t/01_auto_default.t line 54) with a new reader method for the rel_pack attribute (defined at t/01_auto_default.t line 54) at /home/njh/perl5/perlbrew/perls/perl-5.18.2-sanitize-address/lib/site_perl/5.18.2/i686-linux-thread-multi/Moose/Meta/Attribute.pm line 1094.
	Moose::Meta::Attribute::_process_accessors('Moose::Meta::Attribute=HASH(0xabe18790)', 'reader', 'rel_pack', undef) called at /home/njh/perl5/perlbrew/perls/perl-5.18.2-sanitize-address/lib/site_perl/5.18.2/i686-linux-thread-multi/Class/MOP/Attribute.pm line 450
	Class::MOP::Attribute::install_accessors('Moose::Meta::Attribute=HASH(0xabe18790)') called at /home/njh/perl5/perlbrew/perls/perl-5.18.2-sanitize-address/lib/site_perl/5.18.2/i686-linux-thread-multi/Moose/Meta/Attribute.pm line 1014
	Moose::Meta::Attribute::install_accessors('Moose::Meta::Attribute=HASH(0xabe18790)') called at /home/njh/.cpan/build/MooseX-RelClassTypes-0.03-ZjB8NJ/blib/lib/MooseX/RelClassTypes.pm line 76
	Class::MOP::Class:::before('TestAD::WithAuto_NoDefault_WithBuilder') called at /home/njh/perl5/perlbrew/perls/perl-5.18.2-sanitize-address/lib/site_perl/5.18.2/i686-linux-thread-multi/Class/MOP/Method/Wrapped.pm line 43
	TestAD::WithAuto_NoDefault_WithBuilder::_wrapped_BUILDARGS('TestAD::WithAuto_NoDefault_WithBuilder') called at /home/njh/perl5/perlbrew/perls/perl-5.18.2-sanitize-address/lib/site_perl/5.18.2/i686-linux-thread-multi/Class/MOP/Method/Wrapped.pm line 95
	TestAD::WithAuto_NoDefault_WithBuilder::BUILDARGS('TestAD::WithAuto_NoDefault_WithBuilder') called at /home/njh/perl5/perlbrew/perls/perl-5.18.2-sanitize-address/lib/site_perl/5.18.2/i686-linux-thread-multi/Moose/Object.pm line 22
	Moose::Object::new('TestAD::WithAuto_NoDefault_WithBuilder') called at t/01_auto_default.t line 143
You are overwriting a reader (rel_pack) for the rel_pack attribute (defined at t/01_auto_default.t line 45) with a new reader method for the rel_pack attribute (defined at t/01_auto_default.t line 45) at /home/njh/perl5/perlbrew/perls/perl-5.18.2-sanitize-address/lib/site_perl/5.18.2/i686-linux-thread-multi/Moose/Meta/Attribute.pm line 1094.
	Moose::Meta::Attribute::_process_accessors('Moose::Meta::Attribute=HASH(0xabe13150)', 'reader', 'rel_pack', undef) called at /home/njh/perl5/perlbrew/perls/perl-5.18.2-sanitize-address/lib/site_perl/5.18.2/i686-linux-thread-multi/Class/MOP/Attribute.pm line 450
	Class::MOP::Attribute::install_accessors('Moose::Meta::Attribute=HASH(0xabe13150)') called at /home/njh/perl5/perlbrew/perls/perl-5.18.2-sanitize-address/lib/site_perl/5.18.2/i686-linux-thread-multi/Moose/Meta/Attribute.pm line 1014
	Moose::Meta::Attribute::install_accessors('Moose::Meta::Attribute=HASH(0xabe13150)') called at /home/njh/.cpan/build/MooseX-RelClassTypes-0.03-ZjB8NJ/blib/lib/MooseX/RelClassTypes.pm line 76
	Class::MOP::Class:::before('TestAD::WithAuto_NoDefault_NoBuilder') called at /home/njh/perl5/perlbrew/perls/perl-5.18.2-sanitize-address/lib/site_perl/5.18.2/i686-linux-thread-multi/Class/MOP/Method/Wrapped.pm line 43
	TestAD::WithAuto_NoDefault_NoBuilder::_wrapped_BUILDARGS('TestAD::WithAuto_NoDefault_NoBuilder') called at /home/njh/perl5/perlbrew/perls/perl-5.18.2-sanitize-address/lib/site_perl/5.18.2/i686-linux-thread-multi/Class/MOP/Method/Wrapped.pm line 95
	TestAD::WithAuto_NoDefault_NoBuilder::BUILDARGS('TestAD::WithAuto_NoDefault_NoBuilder') called at /home/njh/perl5/perlbrew/perls/perl-5.18.2-sanitize-address/lib/site_perl/5.18.2/i686-linux-thread-multi/Moose/Object.pm line 22
	Moose::Object::new('TestAD::WithAuto_NoDefault_NoBuilder') called at t/01_auto_default.t line 143
You are overwriting a reader (rel_pack) for the rel_pack attribute (defined at t/01_auto_default.t line 71) with a new reader method for the rel_pack attribute (defined at t/01_auto_default.t line 71) at /home/njh/perl5/perlbrew/perls/perl-5.18.2-sanitize-address/lib/site_perl/5.18.2/i686-linux-thread-multi/Moose/Meta/Attribute.pm line 1094.
	Moose::Meta::Attribute::_process_accessors('Moose::Meta::Attribute=HASH(0xabe1a540)', 'reader', 'rel_pack', undef) called at /home/njh/perl5/perlbrew/perls/perl-5.18.2-sanitize-address/lib/site_perl/5.18.2/i686-linux-thread-multi/Class/MOP/Attribute.pm line 450
	Class::MOP::Attribute::install_accessors('Moose::Meta::Attribute=HASH(0xabe1a540)') called at /home/njh/perl5/perlbrew/perls/perl-5.18.2-sanitize-address/lib/site_perl/5.18.2/i686-linux-thread-multi/Moose/Meta/Attribute.pm line 1014
	Moose::Meta::Attribute::install_accessors('Moose::Meta::Attribute=HASH(0xabe1a540)') called at /home/njh/.cpan/build/MooseX-RelClassTypes-0.03-ZjB8NJ/blib/lib/MooseX/RelClassTypes.pm line 76
	Class::MOP::Class:::before('TestAD::WithAuto_WithDefault_NoBuilder') called at /home/njh/perl5/perlbrew/perls/perl-5.18.2-sanitize-address/lib/site_perl/5.18.2/i686-linux-thread-multi/Class/MOP/Method/Wrapped.pm line 43
	TestAD::WithAuto_WithDefault_NoBuilder::_wrapped_BUILDARGS('TestAD::WithAuto_WithDefault_NoBuilder') called at /home/njh/perl5/perlbrew/perls/perl-5.18.2-sanitize-address/lib/site_perl/5.18.2/i686-linux-thread-multi/Class/MOP/Method/Wrapped.pm line 95
	TestAD::WithAuto_WithDefault_NoBuilder::BUILDARGS('TestAD::WithAuto_WithDefault_NoBuilder') called at /home/njh/perl5/perlbrew/perls/perl-5.18.2-sanitize-address/lib/site_perl/5.18.2/i686-linux-thread-multi/Moose/Object.pm line 22
	Moose::Object::new('TestAD::WithAuto_WithDefault_NoBuilder') called at t/01_auto_default.t line 143
You are overwriting a reader (rel_pack) for the rel_pack attribute (defined at t/01_auto_default.t line 37) with a new reader method for the rel_pack attribute (defined at t/01_auto_default.t line 37) at /home/njh/perl5/perlbrew/perls/perl-5.18.2-sanitize-address/lib/site_perl/5.18.2/i686-linux-thread-multi/Moose/Meta/Attribute.pm line 1094.
	Moose::Meta::Attribute::_process_accessors('Moose::Meta::Attribute=HASH(0xabe12890)', 'reader', 'rel_pack', undef) called at /home/njh/perl5/perlbrew/perls/perl-5.18.2-sanitize-address/lib/site_perl/5.18.2/i686-linux-thread-multi/Class/MOP/Attribute.pm line 450
	Class::MOP::Attribute::install_accessors('Moose::Meta::Attribute=HASH(0xabe12890)') called at /home/njh/perl5/perlbrew/perls/perl-5.18.2-sanitize-address/lib/site_perl/5.18.2/i686-linux-thread-multi/Moose/Meta/Attribute.pm line 1014
	Moose::Meta::Attribute::install_accessors('Moose::Meta::Attribute=HASH(0xabe12890)') called at /home/njh/.cpan/build/MooseX-RelClassTypes-0.03-ZjB8NJ/blib/lib/MooseX/RelClassTypes.pm line 76
	Class::MOP::Class:::before('TestAD::NoAuto_WithDefault_NoBuilder') called at /home/njh/perl5/perlbrew/perls/perl-5.18.2-sanitize-address/lib/site_perl/5.18.2/i686-linux-thread-multi/Class/MOP/Method/Wrapped.pm line 43
	TestAD::NoAuto_WithDefault_NoBuilder::_wrapped_BUILDARGS('TestAD::NoAuto_WithDefault_NoBuilder') called at /home/njh/perl5/perlbrew/perls/perl-5.18.2-sanitize-address/lib/site_perl/5.18.2/i686-linux-thread-multi/Class/MOP/Method/Wrapped.pm line 95
	TestAD::NoAuto_WithDefault_NoBuilder::BUILDARGS('TestAD::NoAuto_WithDefault_NoBuilder') called at /home/njh/perl5/perlbrew/perls/perl-5.18.2-sanitize-address/lib/site_perl/5.18.2/i686-linux-thread-multi/Moose/Object.pm line 22
	Moose::Object::new('TestAD::NoAuto_WithDefault_NoBuilder') called at t/01_auto_default.t line 143
You are overwriting a reader (rel_pack) for the rel_pack attribute (defined at t/01_auto_default.t line 20) with a new reader method for the rel_pack attribute (defined at t/01_auto_default.t line 20) at /home/njh/perl5/perlbrew/perls/perl-5.18.2-sanitize-address/lib/site_perl/5.18.2/i686-linux-thread-multi/Moose/Meta/Attribute.pm line 1094.
	Moose::Meta::Attribute::_process_accessors('Moose::Meta::Attribute=HASH(0xabe0bf00)', 'reader', 'rel_pack', undef) called at /home/njh/perl5/perlbrew/perls/perl-5.18.2-sanitize-address/lib/site_perl/5.18.2/i686-linux-thread-multi/Class/MOP/Attribute.pm line 450
	Class::MOP::Attribute::install_accessors('Moose::Meta::Attribute=HASH(0xabe0bf00)') called at /home/njh/perl5/perlbrew/perls/perl-5.18.2-sanitize-address/lib/site_perl/5.18.2/i686-linux-thread-multi/Moose/Meta/Attribute.pm line 1014
	Moose::Meta::Attribute::install_accessors('Moose::Meta::Attribute=HASH(0xabe0bf00)') called at /home/njh/.cpan/build/MooseX-RelClassTypes-0.03-ZjB8NJ/blib/lib/MooseX/RelClassTypes.pm line 76
	Class::MOP::Class:::before('TestAD::NoAuto_NoDefault_WithBuilder') called at /home/njh/perl5/perlbrew/perls/perl-5.18.2-sanitize-address/lib/site_perl/5.18.2/i686-linux-thread-multi/Class/MOP/Method/Wrapped.pm line 43
	TestAD::NoAuto_NoDefault_WithBuilder::_wrapped_BUILDARGS('TestAD::NoAuto_NoDefault_WithBuilder') called at /home/njh/perl5/perlbrew/perls/perl-5.18.2-sanitize-address/lib/site_perl/5.18.2/i686-linux-thread-multi/Class/MOP/Method/Wrapped.pm line 95
	TestAD::NoAuto_NoDefault_WithBuilder::BUILDARGS('TestAD::NoAuto_NoDefault_WithBuilder') called at /home/njh/perl5/perlbrew/perls/perl-5.18.2-sanitize-address/lib/site_perl/5.18.2/i686-linux-thread-multi/Moose/Object.pm line 22
	Moose::Object::new('TestAD::NoAuto_NoDefault_WithBuilder') called at t/01_auto_default.t line 143
You are overwriting a reader (rel_pack) for the rel_pack attribute (defined at t/01_auto_default.t line 11) with a new reader method for the rel_pack attribute (defined at t/01_auto_default.t line 11) at /home/njh/perl5/perlbrew/perls/perl-5.18.2-sanitize-address/lib/site_perl/5.18.2/i686-linux-thread-multi/Moose/Meta/Attribute.pm line 1094.
	Moose::Meta::Attribute::_process_accessors('Moose::Meta::Attribute=HASH(0xabe0e050)', 'reader', 'rel_pack', undef) called at /home/njh/perl5/perlbrew/perls/perl-5.18.2-sanitize-address/lib/site_perl/5.18.2/i686-linux-thread-multi/Class/MOP/Attribute.pm line 450
	Class::MOP::Attribute::install_accessors('Moose::Meta::Attribute=HASH(0xabe0e050)') called at /home/njh/perl5/perlbrew/perls/perl-5.18.2-sanitize-address/lib/site_perl/5.18.2/i686-linux-thread-multi/Moose/Meta/Attribute.pm line 1014
	Moose::Meta::Attribute::install_accessors('Moose::Meta::Attribute=HASH(0xabe0e050)') called at /home/njh/.cpan/build/MooseX-RelClassTypes-0.03-ZjB8NJ/blib/lib/MooseX/RelClassTypes.pm line 76
	Class::MOP::Class:::before('TestAD::NoAuto_NoDefault_NoBuilder') called at /home/njh/perl5/perlbrew/perls/perl-5.18.2-sanitize-address/lib/site_perl/5.18.2/i686-linux-thread-multi/Class/MOP/Method/Wrapped.pm line 43
	TestAD::NoAuto_NoDefault_NoBuilder::_wrapped_BUILDARGS('TestAD::NoAuto_NoDefault_NoBuilder') called at /home/njh/perl5/perlbrew/perls/perl-5.18.2-sanitize-address/lib/site_perl/5.18.2/i686-linux-thread-multi/Class/MOP/Method/Wrapped.pm line 95
	TestAD::NoAuto_NoDefault_NoBuilder::BUILDARGS('TestAD::NoAuto_NoDefault_NoBuilder') called at /home/njh/perl5/perlbrew/perls/perl-5.18.2-sanitize-address/lib/site_perl/5.18.2/i686-linux-thread-multi/Moose/Object.pm line 22
	Moose::Object::new('TestAD::NoAuto_NoDefault_NoBuilder') called at t/01_auto_default.t line 143
t/01_auto_default.t .. ok
You are overwriting a reader (rel_pack) for the rel_pack attribute (defined at t/02_parser.t line 19) with a new reader method for the rel_pack attribute (defined at t/02_parser.t line 19) at /home/njh/perl5/perlbrew/perls/perl-5.18.2-sanitize-address/lib/site_perl/5.18.2/i686-linux-thread-multi/Moose/Meta/Attribute.pm line 1094.
	Moose::Meta::Attribute::_process_accessors('Moose::Meta::Attribute=HASH(0xad7fa630)', 'reader', 'rel_pack', undef) called at /home/njh/perl5/perlbrew/perls/perl-5.18.2-sanitize-address/lib/site_perl/5.18.2/i686-linux-thread-multi/Class/MOP/Attribute.pm line 450
	Class::MOP::Attribute::install_accessors('Moose::Meta::Attribute=HASH(0xad7fa630)') called at /home/njh/perl5/perlbrew/perls/perl-5.18.2-sanitize-address/lib/site_perl/5.18.2/i686-linux-thread-multi/Moose/Meta/Attribute.pm line 1014
	Moose::Meta::Attribute::install_accessors('Moose::Meta::Attribute=HASH(0xad7fa630)') called at /home/njh/.cpan/build/MooseX-RelClassTypes-0.03-ZjB8NJ/blib/lib/MooseX/RelClassTypes.pm line 76
	Class::MOP::Class:::before('TestParser::AngleBK') called at /home/njh/perl5/perlbrew/perls/perl-5.18.2-sanitize-address/lib/site_perl/5.18.2/i686-linux-thread-multi/Class/MOP/Method/Wrapped.pm line 43
	TestParser::AngleBK::_wrapped_BUILDARGS('TestParser::AngleBK') called at /home/njh/perl5/perlbrew/perls/perl-5.18.2-sanitize-address/lib/site_perl/5.18.2/i686-linux-thread-multi/Class/MOP/Method/Wrapped.pm line 95
	TestParser::AngleBK::BUILDARGS('TestParser::AngleBK') called at /home/njh/perl5/perlbrew/perls/perl-5.18.2-sanitize-address/lib/site_perl/5.18.2/i686-linux-thread-multi/Moose/Object.pm line 22
	Moose::Object::new('TestParser::AngleBK') called at t/02_parser.t line 87
You are overwriting a reader (alt_pack) for the alt_pack attribute (defined at t/02_parser.t line 24) with a new reader method for the alt_pack attribute (defined at t/02_parser.t line 24) at /home/njh/perl5/perlbrew/perls/perl-5.18.2-sanitize-address/lib/site_perl/5.18.2/i686-linux-thread-multi/Moose/Meta/Attribute.pm line 1094.
	Moose::Meta::Attribute::_process_accessors('Moose::Meta::Attribute=HASH(0xad7faab0)', 'reader', 'alt_pack', undef) called at /home/njh/perl5/perlbrew/perls/perl-5.18.2-sanitize-address/lib/site_perl/5.18.2/i686-linux-thread-multi/Class/MOP/Attribute.pm line 450
	Class::MOP::Attribute::install_accessors('Moose::Meta::Attribute=HASH(0xad7faab0)') called at /home/njh/perl5/perlbrew/perls/perl-5.18.2-sanitize-address/lib/site_perl/5.18.2/i686-linux-thread-multi/Moose/Meta/Attribute.pm line 1014
	Moose::Meta::Attribute::install_accessors('Moose::Meta::Attribute=HASH(0xad7faab0)') called at /home/njh/.cpan/build/MooseX-RelClassTypes-0.03-ZjB8NJ/blib/lib/MooseX/RelClassTypes.pm line 76
	Class::MOP::Class:::before('TestParser::AngleBK') called at /home/njh/perl5/perlbrew/perls/perl-5.18.2-sanitize-address/lib/site_perl/5.18.2/i686-linux-thread-multi/Class/MOP/Method/Wrapped.pm line 43
	TestParser::AngleBK::_wrapped_BUILDARGS('TestParser::AngleBK') called at /home/njh/perl5/perlbrew/perls/perl-5.18.2-sanitize-address/lib/site_perl/5.18.2/i686-linux-thread-multi/Class/MOP/Method/Wrapped.pm line 95
	TestParser::AngleBK::BUILDARGS('TestParser::AngleBK') called at /home/njh/perl5/perlbrew/perls/perl-5.18.2-sanitize-address/lib/site_perl/5.18.2/i686-linux-thread-multi/Moose/Object.pm line 22
	Moose::Object::new('TestParser::AngleBK') called at t/02_parser.t line 87
You are overwriting a reader (alt_pack) for the alt_pack attribute (defined at t/02_parser.t line 47) with a new reader method for the alt_pack attribute (defined at t/02_parser.t line 47) at /home/njh/perl5/perlbrew/perls/perl-5.18.2-sanitize-address/lib/site_perl/5.18.2/i686-linux-thread-multi/Moose/Meta/Attribute.pm line 1094.
	Moose::Meta::Attribute::_process_accessors('Moose::Meta::Attribute=HASH(0xad7fd2b0)', 'reader', 'alt_pack', undef) called at /home/njh/perl5/perlbrew/perls/perl-5.18.2-sanitize-address/lib/site_perl/5.18.2/i686-linux-thread-multi/Class/MOP/Attribute.pm line 450
	Class::MOP::Attribute::install_accessors('Moose::Meta::Attribute=HASH(0xad7fd2b0)') called at /home/njh/perl5/perlbrew/perls/perl-5.18.2-sanitize-address/lib/site_perl/5.18.2/i686-linux-thread-multi/Moose/Meta/Attribute.pm line 1014
	Moose::Meta::Attribute::install_accessors('Moose::Meta::Attribute=HASH(0xad7fd2b0)') called at /home/njh/.cpan/build/MooseX-RelClassTypes-0.03-ZjB8NJ/blib/lib/MooseX/RelClassTypes.pm line 76
	Class::MOP::Class:::before('TestParser::RoundBK') called at /home/njh/perl5/perlbrew/perls/perl-5.18.2-sanitize-address/lib/site_perl/5.18.2/i686-linux-thread-multi/Class/MOP/Method/Wrapped.pm line 43
	TestParser::RoundBK::_wrapped_BUILDARGS('TestParser::RoundBK') called at /home/njh/perl5/perlbrew/perls/perl-5.18.2-sanitize-address/lib/site_perl/5.18.2/i686-linux-thread-multi/Class/MOP/Method/Wrapped.pm line 95
	TestParser::RoundBK::BUILDARGS('TestParser::RoundBK') called at /home/njh/perl5/perlbrew/perls/perl-5.18.2-sanitize-address/lib/site_perl/5.18.2/i686-linux-thread-multi/Moose/Object.pm line 22
	Moose::Object::new('TestParser::RoundBK') called at t/02_parser.t line 87
You are overwriting a reader (rel_pack) for the rel_pack attribute (defined at t/02_parser.t line 42) with a new reader method for the rel_pack attribute (defined at t/02_parser.t line 42) at /home/njh/perl5/perlbrew/perls/perl-5.18.2-sanitize-address/lib/site_perl/5.18.2/i686-linux-thread-multi/Moose/Meta/Attribute.pm line 1094.
	Moose::Meta::Attribute::_process_accessors('Moose::Meta::Attribute=HASH(0xad7fcf00)', 'reader', 'rel_pack', undef) called at /home/njh/perl5/perlbrew/perls/perl-5.18.2-sanitize-address/lib/site_perl/5.18.2/i686-linux-thread-multi/Class/MOP/Attribute.pm line 450
	Class::MOP::Attribute::install_accessors('Moose::Meta::Attribute=HASH(0xad7fcf00)') called at /home/njh/perl5/perlbrew/perls/perl-5.18.2-sanitize-address/lib/site_perl/5.18.2/i686-linux-thread-multi/Moose/Meta/Attribute.pm line 1014
	Moose::Meta::Attribute::install_accessors('Moose::Meta::Attribute=HASH(0xad7fcf00)') called at /home/njh/.cpan/build/MooseX-RelClassTypes-0.03-ZjB8NJ/blib/lib/MooseX/RelClassTypes.pm line 76
	Class::MOP::Class:::before('TestParser::RoundBK') called at /home/njh/perl5/perlbrew/perls/perl-5.18.2-sanitize-address/lib/site_perl/5.18.2/i686-linux-thread-multi/Class/MOP/Method/Wrapped.pm line 43
	TestParser::RoundBK::_wrapped_BUILDARGS('TestParser::RoundBK') called at /home/njh/perl5/perlbrew/perls/perl-5.18.2-sanitize-address/lib/site_perl/5.18.2/i686-linux-thread-multi/Class/MOP/Method/Wrapped.pm line 95
	TestParser::RoundBK::BUILDARGS('TestParser::RoundBK') called at /home/njh/perl5/perlbrew/perls/perl-5.18.2-sanitize-address/lib/site_perl/5.18.2/i686-linux-thread-multi/Moose/Object.pm line 22
	Moose::Object::new('TestParser::RoundBK') called at t/02_parser.t line 87
t/02_parser.t ........ ok
You are overwriting a accessor (child_rel_pack) for the child_rel_pack attribute (defined at t/03_lazy.t line 32) with a new accessor method for the child_rel_pack attribute (defined at t/03_lazy.t line 32) at /home/njh/perl5/perlbrew/perls/perl-5.18.2-sanitize-address/lib/site_perl/5.18.2/i686-linux-thread-multi/Moose/Meta/Attribute.pm line 1094.
	Moose::Meta::Attribute::_process_accessors('Moose::Meta::Attribute=HASH(0xabf1d770)', 'accessor', 'child_rel_pack', undef) called at /home/njh/perl5/perlbrew/perls/perl-5.18.2-sanitize-address/lib/site_perl/5.18.2/i686-linux-thread-multi/Class/MOP/Attribute.pm line 446
	Class::MOP::Attribute::install_accessors('Moose::Meta::Attribute=HASH(0xabf1d770)') called at /home/njh/perl5/perlbrew/perls/perl-5.18.2-sanitize-address/lib/site_perl/5.18.2/i686-linux-thread-multi/Moose/Meta/Attribute.pm line 1014
	Moose::Meta::Attribute::install_accessors('Moose::Meta::Attribute=HASH(0xabf1d770)') called at /home/njh/.cpan/build/MooseX-RelClassTypes-0.03-ZjB8NJ/blib/lib/MooseX/RelClassTypes.pm line 76
	Class::MOP::Class:::before('LazyParent::Child') called at /home/njh/perl5/perlbrew/perls/perl-5.18.2-sanitize-address/lib/site_perl/5.18.2/i686-linux-thread-multi/Class/MOP/Method/Wrapped.pm line 43
	LazyParent::Child::_wrapped_BUILDARGS('LazyParent::Child') called at /home/njh/perl5/perlbrew/perls/perl-5.18.2-sanitize-address/lib/site_perl/5.18.2/i686-linux-thread-multi/Class/MOP/Method/Wrapped.pm line 95
	LazyParent::Child::BUILDARGS('LazyParent::Child') called at /home/njh/perl5/perlbrew/perls/perl-5.18.2-sanitize-address/lib/site_perl/5.18.2/i686-linux-thread-multi/Moose/Object.pm line 22
	Moose::Object::new('LazyParent::Child') called at t/03_lazy.t line 248
You are overwriting a accessor (parent_rel_pack) for the parent_rel_pack attribute (defined at t/03_lazy.t line 22) with a new accessor method for the parent_rel_pack attribute (defined at t/03_lazy.t line 22) at /home/njh/perl5/perlbrew/perls/perl-5.18.2-sanitize-address/lib/site_perl/5.18.2/i686-linux-thread-multi/Moose/Meta/Attribute.pm line 1094.
	Moose::Meta::Attribute::_process_accessors('Moose::Meta::Attribute=HASH(0xabf18020)', 'accessor', 'parent_rel_pack', undef) called at /home/njh/perl5/perlbrew/perls/perl-5.18.2-sanitize-address/lib/site_perl/5.18.2/i686-linux-thread-multi/Class/MOP/Attribute.pm line 446
	Class::MOP::Attribute::install_accessors('Moose::Meta::Attribute=HASH(0xabf18020)') called at /home/njh/perl5/perlbrew/perls/perl-5.18.2-sanitize-address/lib/site_perl/5.18.2/i686-linux-thread-multi/Moose/Meta/Attribute.pm line 1014
	Moose::Meta::Attribute::install_accessors('Moose::Meta::Attribute=HASH(0xabf18020)') called at /home/njh/.cpan/build/MooseX-RelClassTypes-0.03-ZjB8NJ/blib/lib/MooseX/RelClassTypes.pm line 76
	Class::MOP::Class:::before('LazyParent::Child') called at /home/njh/perl5/perlbrew/perls/perl-5.18.2-sanitize-address/lib/site_perl/5.18.2/i686-linux-thread-multi/Class/MOP/Method/Wrapped.pm line 43
	LazyParent::Child::_wrapped_BUILDARGS('LazyParent::Child') called at /home/njh/perl5/perlbrew/perls/perl-5.18.2-sanitize-address/lib/site_perl/5.18.2/i686-linux-thread-multi/Class/MOP/Method/Wrapped.pm line 95
	LazyParent::Child::BUILDARGS('LazyParent::Child') called at /home/njh/perl5/perlbrew/perls/perl-5.18.2-sanitize-address/lib/site_perl/5.18.2/i686-linux-thread-multi/Moose/Object.pm line 22
	Moose::Object::new('LazyParent::Child') called at t/03_lazy.t line 248
You are overwriting a accessor (child_rel_pack) for the child_rel_pack attribute (defined at t/03_lazy.t line 32) with a new accessor method for the child_rel_pack attribute (defined at t/03_lazy.t line 32) at /home/njh/perl5/perlbrew/perls/perl-5.18.2-sanitize-address/lib/site_perl/5.18.2/i686-linux-thread-multi/Moose/Meta/Attribute.pm line 1094.
	Moose::Meta::Attribute::_process_accessors('Moose::Meta::Attribute=HASH(0xabf1d770)', 'accessor', 'child_rel_pack', undef) called at /home/njh/perl5/perlbrew/perls/perl-5.18.2-sanitize-address/lib/site_perl/5.18.2/i686-linux-thread-multi/Class/MOP/Attribute.pm line 446
	Class::MOP::Attribute::install_accessors('Moose::Meta::Attribute=HASH(0xabf1d770)') called at /home/njh/perl5/perlbrew/perls/perl-5.18.2-sanitize-address/lib/site_perl/5.18.2/i686-linux-thread-multi/Moose/Meta/Attribute.pm line 1014
	Moose::Meta::Attribute::install_accessors('Moose::Meta::Attribute=HASH(0xabf1d770)') called at /home/njh/.cpan/build/MooseX-RelClassTypes-0.03-ZjB8NJ/blib/lib/MooseX/RelClassTypes.pm line 76
	Class::MOP::Class:::before('LazyParent::Child') called at /home/njh/perl5/perlbrew/perls/perl-5.18.2-sanitize-address/lib/site_perl/5.18.2/i686-linux-thread-multi/Class/MOP/Method/Wrapped.pm line 43
	LazyParent::Parent::_wrapped_BUILDARGS('LazyParent::Child') called at /home/njh/perl5/perlbrew/perls/perl-5.18.2-sanitize-address/lib/site_perl/5.18.2/i686-linux-thread-multi/Class/MOP/Method/Wrapped.pm line 95
	LazyParent::Parent::BUILDARGS('LazyParent::Child') called at /home/njh/perl5/perlbrew/perls/perl-5.18.2-sanitize-address/lib/site_perl/5.18.2/i686-linux-thread-multi/Class/MOP/Method/Wrapped.pm line 44
	LazyParent::Child::_wrapped_BUILDARGS('LazyParent::Child') called at /home/njh/perl5/perlbrew/perls/perl-5.18.2-sanitize-address/lib/site_perl/5.18.2/i686-linux-thread-multi/Class/MOP/Method/Wrapped.pm line 95
	LazyParent::Child::BUILDARGS('LazyParent::Child') called at /home/njh/perl5/perlbrew/perls/perl-5.18.2-sanitize-address/lib/site_perl/5.18.2/i686-linux-thread-multi/Moose/Object.pm line 22
	Moose::Object::new('LazyParent::Child') called at t/03_lazy.t line 248
You are overwriting a accessor (parent_rel_pack) for the parent_rel_pack attribute (defined at t/03_lazy.t line 22) with a new accessor method for the parent_rel_pack attribute (defined at t/03_lazy.t line 22) at /home/njh/perl5/perlbrew/perls/perl-5.18.2-sanitize-address/lib/site_perl/5.18.2/i686-linux-thread-multi/Moose/Meta/Attribute.pm line 1094.
	Moose::Meta::Attribute::_process_accessors('Moose::Meta::Attribute=HASH(0xabf18020)', 'accessor', 'parent_rel_pack', undef) called at /home/njh/perl5/perlbrew/perls/perl-5.18.2-sanitize-address/lib/site_perl/5.18.2/i686-linux-thread-multi/Class/MOP/Attribute.pm line 446
	Class::MOP::Attribute::install_accessors('Moose::Meta::Attribute=HASH(0xabf18020)') called at /home/njh/perl5/perlbrew/perls/perl-5.18.2-sanitize-address/lib/site_perl/5.18.2/i686-linux-thread-multi/Moose/Meta/Attribute.pm line 1014
	Moose::Meta::Attribute::install_accessors('Moose::Meta::Attribute=HASH(0xabf18020)') called at /home/njh/.cpan/build/MooseX-RelClassTypes-0.03-ZjB8NJ/blib/lib/MooseX/RelClassTypes.pm line 76
	Class::MOP::Class:::before('LazyParent::Child') called at /home/njh/perl5/perlbrew/perls/perl-5.18.2-sanitize-address/lib/site_perl/5.18.2/i686-linux-thread-multi/Class/MOP/Method/Wrapped.pm line 43
	LazyParent::Parent::_wrapped_BUILDARGS('LazyParent::Child') called at /home/njh/perl5/perlbrew/perls/perl-5.18.2-sanitize-address/lib/site_perl/5.18.2/i686-linux-thread-multi/Class/MOP/Method/Wrapped.pm line 95
	LazyParent::Parent::BUILDARGS('LazyParent::Child') called at /home/njh/perl5/perlbrew/perls/perl-5.18.2-sanitize-address/lib/site_perl/5.18.2/i686-linux-thread-multi/Class/MOP/Method/Wrapped.pm line 44
	LazyParent::Child::_wrapped_BUILDARGS('LazyParent::Child') called at /home/njh/perl5/perlbrew/perls/perl-5.18.2-sanitize-address/lib/site_perl/5.18.2/i686-linux-thread-multi/Class/MOP/Method/Wrapped.pm line 95
	LazyParent::Child::BUILDARGS('LazyParent::Child') called at /home/njh/perl5/perlbrew/perls/perl-5.18.2-sanitize-address/lib/site_perl/5.18.2/i686-linux-thread-multi/Moose/Object.pm line 22
	Moose::Object::new('LazyParent::Child') called at t/03_lazy.t line 248
You are overwriting a accessor (parent_rel_pack) for the parent_rel_pack attribute (defined at t/03_lazy.t line 66) with a new accessor method for the parent_rel_pack attribute (defined at t/03_lazy.t line 66) at /home/njh/perl5/perlbrew/perls/perl-5.18.2-sanitize-address/lib/site_perl/5.18.2/i686-linux-thread-multi/Moose/Meta/Attribute.pm line 1094.
	Moose::Meta::Attribute::_process_accessors('Moose::Meta::Attribute=HASH(0xabf1ec60)', 'accessor', 'parent_rel_pack', undef) called at /home/njh/perl5/perlbrew/perls/perl-5.18.2-sanitize-address/lib/site_perl/5.18.2/i686-linux-thread-multi/Class/MOP/Attribute.pm line 446
	Class::MOP::Attribute::install_accessors('Moose::Meta::Attribute=HASH(0xabf1ec60)') called at /home/njh/perl5/perlbrew/perls/perl-5.18.2-sanitize-address/lib/site_perl/5.18.2/i686-linux-thread-multi/Moose/Meta/Attribute.pm line 1014
	Moose::Meta::Attribute::install_accessors('Moose::Meta::Attribute=HASH(0xabf1ec60)') called at /home/njh/.cpan/build/MooseX-RelClassTypes-0.03-ZjB8NJ/blib/lib/MooseX/RelClassTypes.pm line 76
	Class::MOP::Class:::before('LazyChild::Child') called at /home/njh/perl5/perlbrew/perls/perl-5.18.2-sanitize-address/lib/site_perl/5.18.2/i686-linux-thread-multi/Class/MOP/Method/Wrapped.pm line 43
	LazyChild::Child::_wrapped_BUILDARGS('LazyChild::Child') called at /home/njh/perl5/perlbrew/perls/perl-5.18.2-sanitize-address/lib/site_perl/5.18.2/i686-linux-thread-multi/Class/MOP/Method/Wrapped.pm line 95
	LazyChild::Child::BUILDARGS('LazyChild::Child') called at /home/njh/perl5/perlbrew/perls/perl-5.18.2-sanitize-address/lib/site_perl/5.18.2/i686-linux-thread-multi/Moose/Object.pm line 22
	Moose::Object::new('LazyChild::Child') called at t/03_lazy.t line 248
You are overwriting a accessor (child_rel_pack) for the child_rel_pack attribute (defined at t/03_lazy.t line 86) with a new accessor method for the child_rel_pack attribute (defined at t/03_lazy.t line 86) at /home/njh/perl5/perlbrew/perls/perl-5.18.2-sanitize-address/lib/site_perl/5.18.2/i686-linux-thread-multi/Moose/Meta/Attribute.pm line 1094.
	Moose::Meta::Attribute::_process_accessors('Moose::Meta::Attribute=HASH(0xabf284d0)', 'accessor', 'child_rel_pack', undef) called at /home/njh/perl5/perlbrew/perls/perl-5.18.2-sanitize-address/lib/site_perl/5.18.2/i686-linux-thread-multi/Class/MOP/Attribute.pm line 446
	Class::MOP::Attribute::install_accessors('Moose::Meta::Attribute=HASH(0xabf284d0)') called at /home/njh/perl5/perlbrew/perls/perl-5.18.2-sanitize-address/lib/site_perl/5.18.2/i686-linux-thread-multi/Moose/Meta/Attribute.pm line 1014
	Moose::Meta::Attribute::install_accessors('Moose::Meta::Attribute=HASH(0xabf284d0)') called at /home/njh/.cpan/build/MooseX-RelClassTypes-0.03-ZjB8NJ/blib/lib/MooseX/RelClassTypes.pm line 76
	Class::MOP::Class:::before('LazyChild::Child') called at /home/njh/perl5/perlbrew/perls/perl-5.18.2-sanitize-address/lib/site_perl/5.18.2/i686-linux-thread-multi/Class/MOP/Method/Wrapped.pm line 43
	LazyChild::Child::_wrapped_BUILDARGS('LazyChild::Child') called at /home/njh/perl5/perlbrew/perls/perl-5.18.2-sanitize-address/lib/site_perl/5.18.2/i686-linux-thread-multi/Class/MOP/Method/Wrapped.pm line 95
	LazyChild::Child::BUILDARGS('LazyChild::Child') called at /home/njh/perl5/perlbrew/perls/perl-5.18.2-sanitize-address/lib/site_perl/5.18.2/i686-linux-thread-multi/Moose/Object.pm line 22
	Moose::Object::new('LazyChild::Child') called at t/03_lazy.t line 248
You are overwriting a accessor (parent_rel_pack) for the parent_rel_pack attribute (defined at t/03_lazy.t line 66) with a new accessor method for the parent_rel_pack attribute (defined at t/03_lazy.t line 66) at /home/njh/perl5/perlbrew/perls/perl-5.18.2-sanitize-address/lib/site_perl/5.18.2/i686-linux-thread-multi/Moose/Meta/Attribute.pm line 1094.
	Moose::Meta::Attribute::_process_accessors('Moose::Meta::Attribute=HASH(0xabf1ec60)', 'accessor', 'parent_rel_pack', undef) called at /home/njh/perl5/perlbrew/perls/perl-5.18.2-sanitize-address/lib/site_perl/5.18.2/i686-linux-thread-multi/Class/MOP/Attribute.pm line 446
	Class::MOP::Attribute::install_accessors('Moose::Meta::Attribute=HASH(0xabf1ec60)') called at /home/njh/perl5/perlbrew/perls/perl-5.18.2-sanitize-address/lib/site_perl/5.18.2/i686-linux-thread-multi/Moose/Meta/Attribute.pm line 1014
	Moose::Meta::Attribute::install_accessors('Moose::Meta::Attribute=HASH(0xabf1ec60)') called at /home/njh/.cpan/build/MooseX-RelClassTypes-0.03-ZjB8NJ/blib/lib/MooseX/RelClassTypes.pm line 76
	Class::MOP::Class:::before('LazyChild::Child') called at /home/njh/perl5/perlbrew/perls/perl-5.18.2-sanitize-address/lib/site_perl/5.18.2/i686-linux-thread-multi/Class/MOP/Method/Wrapped.pm line 43
	LazyChild::Parent::_wrapped_BUILDARGS('LazyChild::Child') called at /home/njh/perl5/perlbrew/perls/perl-5.18.2-sanitize-address/lib/site_perl/5.18.2/i686-linux-thread-multi/Class/MOP/Method/Wrapped.pm line 95
	LazyChild::Parent::BUILDARGS('LazyChild::Child') called at /home/njh/perl5/perlbrew/perls/perl-5.18.2-sanitize-address/lib/site_perl/5.18.2/i686-linux-thread-multi/Class/MOP/Method/Wrapped.pm line 44
	LazyChild::Child::_wrapped_BUILDARGS('LazyChild::Child') called at /home/njh/perl5/perlbrew/perls/perl-5.18.2-sanitize-address/lib/site_perl/5.18.2/i686-linux-thread-multi/Class/MOP/Method/Wrapped.pm line 95
	LazyChild::Child::BUILDARGS('LazyChild::Child') called at /home/njh/perl5/perlbrew/perls/perl-5.18.2-sanitize-address/lib/site_perl/5.18.2/i686-linux-thread-multi/Moose/Object.pm line 22
	Moose::Object::new('LazyChild::Child') called at t/03_lazy.t line 248
You are overwriting a accessor (child_rel_pack) for the child_rel_pack attribute (defined at t/03_lazy.t line 86) with a new accessor method for the child_rel_pack attribute (defined at t/03_lazy.t line 86) at /home/njh/perl5/perlbrew/perls/perl-5.18.2-sanitize-address/lib/site_perl/5.18.2/i686-linux-thread-multi/Moose/Meta/Attribute.pm line 1094.
	Moose::Meta::Attribute::_process_accessors('Moose::Meta::Attribute=HASH(0xabf284d0)', 'accessor', 'child_rel_pack', undef) called at /home/njh/perl5/perlbrew/perls/perl-5.18.2-sanitize-address/lib/site_perl/5.18.2/i686-linux-thread-multi/Class/MOP/Attribute.pm line 446
	Class::MOP::Attribute::install_accessors('Moose::Meta::Attribute=HASH(0xabf284d0)') called at /home/njh/perl5/perlbrew/perls/perl-5.18.2-sanitize-address/lib/site_perl/5.18.2/i686-linux-thread-multi/Moose/Meta/Attribute.pm line 1014
	Moose::Meta::Attribute::install_accessors('Moose::Meta::Attribute=HASH(0xabf284d0)') called at /home/njh/.cpan/build/MooseX-RelClassTypes-0.03-ZjB8NJ/blib/lib/MooseX/RelClassTypes.pm line 76
	Class::MOP::Class:::before('LazyChild::Child') called at /home/njh/perl5/perlbrew/perls/perl-5.18.2-sanitize-address/lib/site_perl/5.18.2/i686-linux-thread-multi/Class/MOP/Method/Wrapped.pm line 43
	LazyChild::Parent::_wrapped_BUILDARGS('LazyChild::Child') called at /home/njh/perl5/perlbrew/perls/perl-5.18.2-sanitize-address/lib/site_perl/5.18.2/i686-linux-thread-multi/Class/MOP/Method/Wrapped.pm line 95
	LazyChild::Parent::BUILDARGS('LazyChild::Child') called at /home/njh/perl5/perlbrew/perls/perl-5.18.2-sanitize-address/lib/site_perl/5.18.2/i686-linux-thread-multi/Class/MOP/Method/Wrapped.pm line 44
	LazyChild::Child::_wrapped_BUILDARGS('LazyChild::Child') called at /home/njh/perl5/perlbrew/perls/perl-5.18.2-sanitize-address/lib/site_perl/5.18.2/i686-linux-thread-multi/Class/MOP/Method/Wrapped.pm line 95
	LazyChild::Child::BUILDARGS('LazyChild::Child') called at /home/njh/perl5/perlbrew/perls/perl-5.18.2-sanitize-address/lib/site_perl/5.18.2/i686-linux-thread-multi/Moose/Object.pm line 22
	Moose::Object::new('LazyChild::Child') called at t/03_lazy.t line 248
You are overwriting a accessor (child_rel_pack) for the child_rel_pack attribute (defined at t/03_lazy.t line 129) with a new accessor method for the child_rel_pack attribute (defined at t/03_lazy.t line 129) at /home/njh/perl5/perlbrew/perls/perl-5.18.2-sanitize-address/lib/site_perl/5.18.2/i686-linux-thread-multi/Moose/Meta/Attribute.pm line 1094.
	Moose::Meta::Attribute::_process_accessors('Moose::Meta::Attribute=HASH(0xabf2a0a0)', 'accessor', 'child_rel_pack', undef) called at /home/njh/perl5/perlbrew/perls/perl-5.18.2-sanitize-address/lib/site_perl/5.18.2/i686-linux-thread-multi/Class/MOP/Attribute.pm line 446
	Class::MOP::Attribute::install_accessors('Moose::Meta::Attribute=HASH(0xabf2a0a0)') called at /home/njh/perl5/perlbrew/perls/perl-5.18.2-sanitize-address/lib/site_perl/5.18.2/i686-linux-thread-multi/Moose/Meta/Attribute.pm line 1014
	Moose::Meta::Attribute::install_accessors('Moose::Meta::Attribute=HASH(0xabf2a0a0)') called at /home/njh/.cpan/build/MooseX-RelClassTypes-0.03-ZjB8NJ/blib/lib/MooseX/RelClassTypes.pm line 76
	Class::MOP::Class:::before('LazyParam::Child') called at /home/njh/perl5/perlbrew/perls/perl-5.18.2-sanitize-address/lib/site_perl/5.18.2/i686-linux-thread-multi/Class/MOP/Method/Wrapped.pm line 43
	LazyParam::Child::_wrapped_BUILDARGS('LazyParam::Child') called at /home/njh/perl5/perlbrew/perls/perl-5.18.2-sanitize-address/lib/site_perl/5.18.2/i686-linux-thread-multi/Class/MOP/Method/Wrapped.pm line 95
	LazyParam::Child::BUILDARGS('LazyParam::Child') called at /home/njh/perl5/perlbrew/perls/perl-5.18.2-sanitize-address/lib/site_perl/5.18.2/i686-linux-thread-multi/Moose/Object.pm line 22
	Moose::Object::new('LazyParam::Child') called at t/03_lazy.t line 248
You are overwriting a accessor (parent_rel_pack) for the parent_rel_pack attribute (defined at t/03_lazy.t line 117) with a new accessor method for the parent_rel_pack attribute (defined at t/03_lazy.t line 117) at /home/njh/perl5/perlbrew/perls/perl-5.18.2-sanitize-address/lib/site_perl/5.18.2/i686-linux-thread-multi/Moose/Meta/Attribute.pm line 1094.
	Moose::Meta::Attribute::_process_accessors('Moose::Meta::Attribute=HASH(0xabf2ae00)', 'accessor', 'parent_rel_pack', undef) called at /home/njh/perl5/perlbrew/perls/perl-5.18.2-sanitize-address/lib/site_perl/5.18.2/i686-linux-thread-multi/Class/MOP/Attribute.pm line 446
	Class::MOP::Attribute::install_accessors('Moose::Meta::Attribute=HASH(0xabf2ae00)') called at /home/njh/perl5/perlbrew/perls/perl-5.18.2-sanitize-address/lib/site_perl/5.18.2/i686-linux-thread-multi/Moose/Meta/Attribute.pm line 1014
	Moose::Meta::Attribute::install_accessors('Moose::Meta::Attribute=HASH(0xabf2ae00)') called at /home/njh/.cpan/build/MooseX-RelClassTypes-0.03-ZjB8NJ/blib/lib/MooseX/RelClassTypes.pm line 76
	Class::MOP::Class:::before('LazyParam::Child') called at /home/njh/perl5/perlbrew/perls/perl-5.18.2-sanitize-address/lib/site_perl/5.18.2/i686-linux-thread-multi/Class/MOP/Method/Wrapped.pm line 43
	LazyParam::Child::_wrapped_BUILDARGS('LazyParam::Child') called at /home/njh/perl5/perlbrew/perls/perl-5.18.2-sanitize-address/lib/site_perl/5.18.2/i686-linux-thread-multi/Class/MOP/Method/Wrapped.pm line 95
	LazyParam::Child::BUILDARGS('LazyParam::Child') called at /home/njh/perl5/perlbrew/perls/perl-5.18.2-sanitize-address/lib/site_perl/5.18.2/i686-linux-thread-multi/Moose/Object.pm line 22
	Moose::Object::new('LazyParam::Child') called at t/03_lazy.t line 248
You are overwriting a accessor (parent_rel_pack) for the parent_rel_pack attribute (defined at t/03_lazy.t line 117) with a new accessor method for the parent_rel_pack attribute (defined at t/03_lazy.t line 117) at /home/njh/perl5/perlbrew/perls/perl-5.18.2-sanitize-address/lib/site_perl/5.18.2/i686-linux-thread-multi/Moose/Meta/Attribute.pm line 1094.
	Moose::Meta::Attribute::_process_accessors('Moose::Meta::Attribute=HASH(0xabf2ae00)', 'accessor', 'parent_rel_pack', undef) called at /home/njh/perl5/perlbrew/perls/perl-5.18.2-sanitize-address/lib/site_perl/5.18.2/i686-linux-thread-multi/Class/MOP/Attribute.pm line 446
	Class::MOP::Attribute::install_accessors('Moose::Meta::Attribute=HASH(0xabf2ae00)') called at /home/njh/perl5/perlbrew/perls/perl-5.18.2-sanitize-address/lib/site_perl/5.18.2/i686-linux-thread-multi/Moose/Meta/Attribute.pm line 1014
	Moose::Meta::Attribute::install_accessors('Moose::Meta::Attribute=HASH(0xabf2ae00)') called at /home/njh/.cpan/build/MooseX-RelClassTypes-0.03-ZjB8NJ/blib/lib/MooseX/RelClassTypes.pm line 76
	Class::MOP::Class:::before('LazyParam::Child') called at /home/njh/perl5/perlbrew/perls/perl-5.18.2-sanitize-address/lib/site_perl/5.18.2/i686-linux-thread-multi/Class/MOP/Method/Wrapped.pm line 43
	LazyParam::Parent::_wrapped_BUILDARGS('LazyParam::Child') called at /home/njh/perl5/perlbrew/perls/perl-5.18.2-sanitize-address/lib/site_perl/5.18.2/i686-linux-thread-multi/Class/MOP/Method/Wrapped.pm line 95
	LazyParam::Parent::BUILDARGS('LazyParam::Child') called at /home/njh/perl5/perlbrew/perls/perl-5.18.2-sanitize-address/lib/site_perl/5.18.2/i686-linux-thread-multi/Class/MOP/Method/Wrapped.pm line 44
	LazyParam::Child::_wrapped_BUILDARGS('LazyParam::Child') called at /home/njh/perl5/perlbrew/perls/perl-5.18.2-sanitize-address/lib/site_perl/5.18.2/i686-linux-thread-multi/Class/MOP/Method/Wrapped.pm line 95
	LazyParam::Child::BUILDARGS('LazyParam::Child') called at /home/njh/perl5/perlbrew/perls/perl-5.18.2-sanitize-address/lib/site_perl/5.18.2/i686-linux-thread-multi/Moose/Object.pm line 22
	Moose::Object::new('LazyParam::Child') called at t/03_lazy.t line 248
You are overwriting a accessor (child_rel_pack) for the child_rel_pack attribute (defined at t/03_lazy.t line 129) with a new accessor method for the child_rel_pack attribute (defined at t/03_lazy.t line 129) at /home/njh/perl5/perlbrew/perls/perl-5.18.2-sanitize-address/lib/site_perl/5.18.2/i686-linux-thread-multi/Moose/Meta/Attribute.pm line 1094.
	Moose::Meta::Attribute::_process_accessors('Moose::Meta::Attribute=HASH(0xabf2a0a0)', 'accessor', 'child_rel_pack', undef) called at /home/njh/perl5/perlbrew/perls/perl-5.18.2-sanitize-address/lib/site_perl/5.18.2/i686-linux-thread-multi/Class/MOP/Attribute.pm line 446
	Class::MOP::Attribute::install_accessors('Moose::Meta::Attribute=HASH(0xabf2a0a0)') called at /home/njh/perl5/perlbrew/perls/perl-5.18.2-sanitize-address/lib/site_perl/5.18.2/i686-linux-thread-multi/Moose/Meta/Attribute.pm line 1014
	Moose::Meta::Attribute::install_accessors('Moose::Meta::Attribute=HASH(0xabf2a0a0)') called at /home/njh/.cpan/build/MooseX-RelClassTypes-0.03-ZjB8NJ/blib/lib/MooseX/RelClassTypes.pm line 76
	Class::MOP::Class:::before('LazyParam::Child') called at /home/njh/perl5/perlbrew/perls/perl-5.18.2-sanitize-address/lib/site_perl/5.18.2/i686-linux-thread-multi/Class/MOP/Method/Wrapped.pm line 43
	LazyParam::Parent::_wrapped_BUILDARGS('LazyParam::Child') called at /home/njh/perl5/perlbrew/perls/perl-5.18.2-sanitize-address/lib/site_perl/5.18.2/i686-linux-thread-multi/Class/MOP/Method/Wrapped.pm line 95
	LazyParam::Parent::BUILDARGS('LazyParam::Child') called at /home/njh/perl5/perlbrew/perls/perl-5.18.2-sanitize-address/lib/site_perl/5.18.2/i686-linux-thread-multi/Class/MOP/Method/Wrapped.pm line 44
	LazyParam::Child::_wrapped_BUILDARGS('LazyParam::Child') called at /home/njh/perl5/perlbrew/perls/perl-5.18.2-sanitize-address/lib/site_perl/5.18.2/i686-linux-thread-multi/Class/MOP/Method/Wrapped.pm line 95
	LazyParam::Child::BUILDARGS('LazyParam::Child') called at /home/njh/perl5/perlbrew/perls/perl-5.18.2-sanitize-address/lib/site_perl/5.18.2/i686-linux-thread-multi/Moose/Object.pm line 22
	Moose::Object::new('LazyParam::Child') called at t/03_lazy.t line 248
You are overwriting a accessor (child_rel_pack) for the child_rel_pack attribute (defined at t/03_lazy.t line 194) with a new accessor method for the child_rel_pack attribute (defined at t/03_lazy.t line 194) at /home/njh/perl5/perlbrew/perls/perl-5.18.2-sanitize-address/lib/site_perl/5.18.2/i686-linux-thread-multi/Moose/Meta/Attribute.pm line 1094.
	Moose::Meta::Attribute::_process_accessors('Moose::Meta::Attribute=HASH(0xabf3f450)', 'accessor', 'child_rel_pack', undef) called at /home/njh/perl5/perlbrew/perls/perl-5.18.2-sanitize-address/lib/site_perl/5.18.2/i686-linux-thread-multi/Class/MOP/Attribute.pm line 446
	Class::MOP::Attribute::install_accessors('Moose::Meta::Attribute=HASH(0xabf3f450)') called at /home/njh/perl5/perlbrew/perls/perl-5.18.2-sanitize-address/lib/site_perl/5.18.2/i686-linux-thread-multi/Moose/Meta/Attribute.pm line 1014
	Moose::Meta::Attribute::install_accessors('Moose::Meta::Attribute=HASH(0xabf3f450)') called at /home/njh/.cpan/build/MooseX-RelClassTypes-0.03-ZjB8NJ/blib/lib/MooseX/RelClassTypes.pm line 76
	Class::MOP::Class:::before('LazyAll::Child') called at /home/njh/perl5/perlbrew/perls/perl-5.18.2-sanitize-address/lib/site_perl/5.18.2/i686-linux-thread-multi/Class/MOP/Method/Wrapped.pm line 43
	LazyAll::Child::_wrapped_BUILDARGS('LazyAll::Child') called at /home/njh/perl5/perlbrew/perls/perl-5.18.2-sanitize-address/lib/site_perl/5.18.2/i686-linux-thread-multi/Class/MOP/Method/Wrapped.pm line 95
	LazyAll::Child::BUILDARGS('LazyAll::Child') called at /home/njh/perl5/perlbrew/perls/perl-5.18.2-sanitize-address/lib/site_perl/5.18.2/i686-linux-thread-multi/Moose/Object.pm line 22
	Moose::Object::new('LazyAll::Child') called at t/03_lazy.t line 248
You are overwriting a accessor (parent_rel_pack) for the parent_rel_pack attribute (defined at t/03_lazy.t line 177) with a new accessor method for the parent_rel_pack attribute (defined at t/03_lazy.t line 177) at /home/njh/perl5/perlbrew/perls/perl-5.18.2-sanitize-address/lib/site_perl/5.18.2/i686-linux-thread-multi/Moose/Meta/Attribute.pm line 1094.
	Moose::Meta::Attribute::_process_accessors('Moose::Meta::Attribute=HASH(0xabf387c0)', 'accessor', 'parent_rel_pack', undef) called at /home/njh/perl5/perlbrew/perls/perl-5.18.2-sanitize-address/lib/site_perl/5.18.2/i686-linux-thread-multi/Class/MOP/Attribute.pm line 446
	Class::MOP::Attribute::install_accessors('Moose::Meta::Attribute=HASH(0xabf387c0)') called at /home/njh/perl5/perlbrew/perls/perl-5.18.2-sanitize-address/lib/site_perl/5.18.2/i686-linux-thread-multi/Moose/Meta/Attribute.pm line 1014
	Moose::Meta::Attribute::install_accessors('Moose::Meta::Attribute=HASH(0xabf387c0)') called at /home/njh/.cpan/build/MooseX-RelClassTypes-0.03-ZjB8NJ/blib/lib/MooseX/RelClassTypes.pm line 76
	Class::MOP::Class:::before('LazyAll::Child') called at /home/njh/perl5/perlbrew/perls/perl-5.18.2-sanitize-address/lib/site_perl/5.18.2/i686-linux-thread-multi/Class/MOP/Method/Wrapped.pm line 43
	LazyAll::Child::_wrapped_BUILDARGS('LazyAll::Child') called at /home/njh/perl5/perlbrew/perls/perl-5.18.2-sanitize-address/lib/site_perl/5.18.2/i686-linux-thread-multi/Class/MOP/Method/Wrapped.pm line 95
	LazyAll::Child::BUILDARGS('LazyAll::Child') called at /home/njh/perl5/perlbrew/perls/perl-5.18.2-sanitize-address/lib/site_perl/5.18.2/i686-linux-thread-multi/Moose/Object.pm line 22
	Moose::Object::new('LazyAll::Child') called at t/03_lazy.t line 248
You are overwriting a accessor (child_rel_pack) for the child_rel_pack attribute (defined at t/03_lazy.t line 194) with a new accessor method for the child_rel_pack attribute (defined at t/03_lazy.t line 194) at /home/njh/perl5/perlbrew/perls/perl-5.18.2-sanitize-address/lib/site_perl/5.18.2/i686-linux-thread-multi/Moose/Meta/Attribute.pm line 1094.
	Moose::Meta::Attribute::_process_accessors('Moose::Meta::Attribute=HASH(0xabf3f450)', 'accessor', 'child_rel_pack', undef) called at /home/njh/perl5/perlbrew/perls/perl-5.18.2-sanitize-address/lib/site_perl/5.18.2/i686-linux-thread-multi/Class/MOP/Attribute.pm line 446
	Class::MOP::Attribute::install_accessors('Moose::Meta::Attribute=HASH(0xabf3f450)') called at /home/njh/perl5/perlbrew/perls/perl-5.18.2-sanitize-address/lib/site_perl/5.18.2/i686-linux-thread-multi/Moose/Meta/Attribute.pm line 1014
	Moose::Meta::Attribute::install_accessors('Moose::Meta::Attribute=HASH(0xabf3f450)') called at /home/njh/.cpan/build/MooseX-RelClassTypes-0.03-ZjB8NJ/blib/lib/MooseX/RelClassTypes.pm line 76
	Class::MOP::Class:::before('LazyAll::Child') called at /home/njh/perl5/perlbrew/perls/perl-5.18.2-sanitize-address/lib/site_perl/5.18.2/i686-linux-thread-multi/Class/MOP/Method/Wrapped.pm line 43
	LazyAll::Parent::_wrapped_BUILDARGS('LazyAll::Child') called at /home/njh/perl5/perlbrew/perls/perl-5.18.2-sanitize-address/lib/site_perl/5.18.2/i686-linux-thread-multi/Class/MOP/Method/Wrapped.pm line 95
	LazyAll::Parent::BUILDARGS('LazyAll::Child') called at /home/njh/perl5/perlbrew/perls/perl-5.18.2-sanitize-address/lib/site_perl/5.18.2/i686-linux-thread-multi/Class/MOP/Method/Wrapped.pm line 44
	LazyAll::Child::_wrapped_BUILDARGS('LazyAll::Child') called at /home/njh/perl5/perlbrew/perls/perl-5.18.2-sanitize-address/lib/site_perl/5.18.2/i686-linux-thread-multi/Class/MOP/Method/Wrapped.pm line 95
	LazyAll::Child::BUILDARGS('LazyAll::Child') called at /home/njh/perl5/perlbrew/perls/perl-5.18.2-sanitize-address/lib/site_perl/5.18.2/i686-linux-thread-multi/Moose/Object.pm line 22
	Moose::Object::new('LazyAll::Child') called at t/03_lazy.t line 248
You are overwriting a accessor (parent_rel_pack) for the parent_rel_pack attribute (defined at t/03_lazy.t line 177) with a new accessor method for the parent_rel_pack attribute (defined at t/03_lazy.t line 177) at /home/njh/perl5/perlbrew/perls/perl-5.18.2-sanitize-address/lib/site_perl/5.18.2/i686-linux-thread-multi/Moose/Meta/Attribute.pm line 1094.
	Moose::Meta::Attribute::_process_accessors('Moose::Meta::Attribute=HASH(0xabf387c0)', 'accessor', 'parent_rel_pack', undef) called at /home/njh/perl5/perlbrew/perls/perl-5.18.2-sanitize-address/lib/site_perl/5.18.2/i686-linux-thread-multi/Class/MOP/Attribute.pm line 446
	Class::MOP::Attribute::install_accessors('Moose::Meta::Attribute=HASH(0xabf387c0)') called at /home/njh/perl5/perlbrew/perls/perl-5.18.2-sanitize-address/lib/site_perl/5.18.2/i686-linux-thread-multi/Moose/Meta/Attribute.pm line 1014
	Moose::Meta::Attribute::install_accessors('Moose::Meta::Attribute=HASH(0xabf387c0)') called at /home/njh/.cpan/build/MooseX-RelClassTypes-0.03-ZjB8NJ/blib/lib/MooseX/RelClassTypes.pm line 76
	Class::MOP::Class:::before('LazyAll::Child') called at /home/njh/perl5/perlbrew/perls/perl-5.18.2-sanitize-address/lib/site_perl/5.18.2/i686-linux-thread-multi/Class/MOP/Method/Wrapped.pm line 43
	LazyAll::Parent::_wrapped_BUILDARGS('LazyAll::Child') called at /home/njh/perl5/perlbrew/perls/perl-5.18.2-sanitize-address/lib/site_perl/5.18.2/i686-linux-thread-multi/Class/MOP/Method/Wrapped.pm line 95
	LazyAll::Parent::BUILDARGS('LazyAll::Child') called at /home/njh/perl5/perlbrew/perls/perl-5.18.2-sanitize-address/lib/site_perl/5.18.2/i686-linux-thread-multi/Class/MOP/Method/Wrapped.pm line 44
	LazyAll::Child::_wrapped_BUILDARGS('LazyAll::Child') called at /home/njh/perl5/perlbrew/perls/perl-5.18.2-sanitize-address/lib/site_perl/5.18.2/i686-linux-thread-multi/Class/MOP/Method/Wrapped.pm line 95
	LazyAll::Child::BUILDARGS('LazyAll::Child') called at /home/njh/perl5/perlbrew/perls/perl-5.18.2-sanitize-address/lib/site_perl/5.18.2/i686-linux-thread-multi/Moose/Object.pm line 22
	Moose::Object::new('LazyAll::Child') called at t/03_lazy.t line 248
t/03_lazy.t .......... ok
All tests successful.
Files=4, Tests=56,  4 wallclock secs ( 0.22 usr  0.05 sys +  6.46 cusr  0.55 csys =  7.28 CPU)
Result: PASS

------------------------------
PREREQUISITES
------------------------------

Prerequisite modules loaded:

requires:

    Module                      Need Have    
    --------------------------- ---- --------
    Carp                        0    1.29    
    Clone                       0    0.39    
    Module::Runtime             0    0.016   
    Moose                       0    2.2009  
    MooseX::Role::Parameterized 0    1.10    

build_requires:

    Module                      Need Have    
    --------------------------- ---- --------
    ExtUtils::MakeMaker         0    6.66    
    Test::More                  0    1.302120

configure_requires:

    Module                      Need Have    
    --------------------------- ---- --------
    ExtUtils::MakeMaker         0    6.66    


------------------------------
ENVIRONMENT AND OTHER CONTEXT
------------------------------

Environment variables:

    AUTOMATED_TESTING = 1
    HARNESS_OPTIONS = j2
    LANG = en_US.UTF-8
    PATH = /home/njh/perl5/perlbrew/bin:/home/njh/perl5/perlbrew/perls/perl-5.18.2-sanitize-address/bin:src/njh/smoker/bin:/usr/bin:/bin
    PERL5LIB = /home/njh/.cpan/build/File-Inplace-0.20-FFPmDT/blib/arch:/home/njh/.cpan/build/File-Inplace-0.20-FFPmDT/blib/lib:/home/njh/.cpan/build/Pod-Term-0.02-mDyoMf/blib/arch:/home/njh/.cpan/build/Pod-Term-0.02-mDyoMf/blib/lib:/home/njh/.cpan/build/Hash-Merge-0.300-_ekW4X/blib/arch:/home/njh/.cpan/build/Hash-Merge-0.300-_ekW4X/blib/lib:/home/njh/.cpan/build/Clone-Choose-0.010-ZIBMgX/blib/arch:/home/njh/.cpan/build/Clone-Choose-0.010-ZIBMgX/blib/lib:/home/njh/.cpan/build/Test-Without-Module-0.20-p9wGLm/blib/arch:/home/njh/.cpan/build/Test-Without-Module-0.20-p9wGLm/blib/lib:/home/njh/.cpan/build/MooseX-ClassAttribute-0.29-0yIIpH/blib/arch:/home/njh/.cpan/build/MooseX-ClassAttribute-0.29-0yIIpH/blib/lib:/home/njh/.cpan/build/Web-Scraper-0.38-I2YKqC/blib/arch:/home/njh/.cpan/build/Web-Scraper-0.38-I2YKqC/blib/lib:/home/njh/.cpan/build/YAML-1.25-npeFsF/blib/arch:/home/njh/.cpan/build/YAML-1.25-npeFsF/blib/lib:/home/njh/.cpan/build/HTML-TreeBuilder-XPath-0.14-bRVl3t/blib/arch:/home/njh/.cpan/build/HTML-TreeBuilder-XPath-0.14-bRVl3t/blib/lib:/home/njh/.cpan/build/XML-XPathEngine-0.14-WuiMqB/blib/arch:/home/njh/.cpan/build/XML-XPathEngine-0.14-WuiMqB/blib/lib:/home/njh/.cpan/build/Template-Nest-0.03-HYUvDl/blib/arch:/home/njh/.cpan/build/Template-Nest-0.03-HYUvDl/blib/lib:/home/njh/.cpan/build/WWW-Mechanize-PhantomJS-0.18-fftOFl/blib/arch:/home/njh/.cpan/build/WWW-Mechanize-PhantomJS-0.18-fftOFl/blib/lib:/home/njh/.cpan/build/Selenium-Remote-Driver-1.27-uruItz/blib/arch:/home/njh/.cpan/build/Selenium-Remote-Driver-1.27-uruItz/blib/lib:/home/njh/.cpan/build/Moo-2.003004-OcSyJ5/blib/arch:/home/njh/.cpan/build/Moo-2.003004-OcSyJ5/blib/lib:/home/njh/.cpan/build/Sub-Quote-2.005001-yNnXLr/blib/arch:/home/njh/.cpan/build/Sub-Quote-2.005001-yNnXLr/blib/lib:/home/njh/.cpan/build/Role-Tiny-2.000006-MeXvH5/blib/arch:/home/njh/.cpan/build/Role-Tiny-2.000006-MeXvH5/blib/lib:/home/njh/.cpan/build/Class-Method-Modifiers-2.12-5zNjF9/blib/arch:/home/njh/.cpan/build/Class-Method-Modifiers-2.12-5zNjF9/blib/lib:/home/njh/.cpan/build/XML-Simple-2.25-EDdDrn/blib/arch:/home/njh/.cpan/build/XML-Simple-2.25-EDdDrn/blib/lib:/home/njh/.cpan/build/XML-SAX-Expat-0.51-z3V3PC/blib/arch:/home/njh/.cpan/build/XML-SAX-Expat-0.51-z3V3PC/blib/lib:/home/njh/.cpan/build/XML-Parser-2.44-XchK2I/blib/arch:/home/njh/.cpan/build/XML-Parser-2.44-XchK2I/blib/lib:/home/njh/.cpan/build/Test-LWP-UserAgent-0.033-t3nUCb/blib/arch:/home/njh/.cpan/build/Test-LWP-UserAgent-0.033-t3nUCb/blib/lib:/home/njh/.cpan/build/Safe-Isa-1.000010-VkU9js/blib/arch:/home/njh/.cpan/build/Safe-Isa-1.000010-VkU9js/blib/lib:/home/njh/.cpan/build/Test-Time-0.05-dW5L_K/blib/arch:/home/njh/.cpan/build/Test-Time-0.05-dW5L_K/blib/lib:/home/njh/.cpan/build/HTML-Selector-XPath-0.23-Ip4OTM/blib/arch:/home/njh/.cpan/build/HTML-Selector-XPath-0.23-Ip4OTM/blib/lib:/home/njh/.cpan/build/Object-Import-1.004-wFHAr1/blib/arch:/home/njh/.cpan/build/Object-Import-1.004-wFHAr1/blib/lib
    PERL5OPT = 
    PERL5_CPANPLUS_IS_RUNNING = 26940
    PERL5_CPAN_IS_RUNNING = 26940
    PERLBREW_BASHRC_VERSION = 0.73
    PERLBREW_HOME = /home/njh/.perlbrew
    PERLBREW_MANPATH = /home/njh/perl5/perlbrew/perls/perl-5.18.2-sanitize-address/man
    PERLBREW_PATH = /home/njh/perl5/perlbrew/bin:/home/njh/perl5/perlbrew/perls/perl-5.18.2-sanitize-address/bin
    PERLBREW_PERL = perl-5.18.2-sanitize-address
    PERLBREW_ROOT = /home/njh/perl5/perlbrew
    PERLBREW_VERSION = 0.73
    SHELL = /bin/sh

Perl special variables (and OS-specific diagnostics, for MSWin32):

    $^X = /home/njh/perl5/perlbrew/perls/perl-5.18.2-sanitize-address/bin/perl5.18.2
    $UID/$EUID = 1000 / 1000
    $GID = 1000 4 24 25 29 30 44 46 108 1000
    $EGID = 1000 4 24 25 29 30 44 46 108 1000

Perl module toolchain versions installed:

    Module              Have    
    ------------------- --------
    CPAN                2.00    
    CPAN::Meta          2.150010
    Cwd                 3.40    
    ExtUtils::CBuilder  0.280210
    ExtUtils::Command   1.17    
    ExtUtils::Install   1.59    
    ExtUtils::MakeMaker 6.66    
    ExtUtils::Manifest  1.63    
    ExtUtils::ParseXS   3.18    
    File::Spec          3.40    
    JSON                2.97001 
    JSON::PP            2.97001 
    Module::Build       0.4224  
    Module::Signature   n/a     
    Parse::CPAN::Meta   2.150010
    Test::Harness       3.39    
    Test::More          1.302120
    YAML                1.25    
    YAML::Syck          n/a     
    version             0.9902  


--

Summary of my perl5 (revision 5 version 18 subversion 2) configuration:
   
  Platform:
    osname=linux, osvers=4.3.0-1-686-pae, archname=i686-linux-thread-multi
    uname='linux zack 4.3.0-1-686-pae #1 smp debian 4.3.5-1 (2016-02-06) i686 gnulinux '
    config_args='-de -Dprefix=/home/njh/perl5/perlbrew/perls/perl-5.18.2-sanitize-address -Dusedevel -Dcc= -Dusethreads -Accflags=-fsanitize=address -g -O2 -Aldflags=-fsanitize=address -g -Alddflags=-shared -O2 -L/usr/local/lib -fstack-protector-string -fsanitize=address -g -Aeval:scriptdir=/home/njh/perl5/perlbrew/perls/perl-5.18.2-sanitize-address/bin'
    hint=recommended, useposix=true, d_sigaction=define
    useithreads=define, usemultiplicity=define
    useperlio=define, d_sfio=undef, uselargefiles=define, usesocks=undef
    use64bitint=undef, use64bitall=undef, uselongdouble=undef
    usemymalloc=n, bincompat5005=undef
  Compiler:
    cc='cc', ccflags ='-D_REENTRANT -D_GNU_SOURCE -fsanitize=address -g -O2 -fno-strict-aliasing -pipe -fstack-protector -I/usr/local/include -D_LARGEFILE_SOURCE -D_FILE_OFFSET_BITS=64',
    optimize='-O2',
    cppflags='-D_REENTRANT -D_GNU_SOURCE -fsanitize=address -g -O2 -fno-strict-aliasing -pipe -fstack-protector -I/usr/local/include'
    ccversion='', gccversion='7.2.0', gccosandvers=''
    intsize=4, longsize=4, ptrsize=4, doublesize=8, byteorder=1234
    d_longlong=define, longlongsize=8, d_longdbl=define, longdblsize=12
    ivtype='long', ivsize=4, nvtype='double', nvsize=8, Off_t='off_t', lseeksize=8
    alignbytes=4, prototype=define
  Linker and Libraries:
    ld='cc', ldflags =' -fsanitize=address -g -fstack-protector -L/usr/local/lib'
    libpth=/usr/local/lib /lib/i386-linux-gnu /lib/../lib /usr/lib/i386-linux-gnu /usr/lib/../lib /lib /usr/lib /lib64 /usr/lib64
    libs=-lnsl -lgdbm -ldb -ldl -lm -lcrypt -lutil -lpthread -lc -lgdbm_compat
    perllibs=-lnsl -ldl -lm -lcrypt -lutil -lpthread -lc
    libc=libc-2.26.so, so=so, useshrplib=false, libperl=libperl.a
    gnulibc_version='2.26'
  Dynamic Linking:
    dlsrc=dl_dlopen.xs, dlext=so, d_dlsymun=undef, ccdlflags='-Wl,-E'
    cccdlflags='-fPIC', lddlflags='-shared -O2 -L/usr/local/lib -fstack-protector'


Characteristics of this binary (from libperl): 
  Compile-time options: HAS_TIMES MULTIPLICITY PERLIO_LAYERS
                        PERL_DONT_CREATE_GVSV
                        PERL_HASH_FUNC_ONE_AT_A_TIME_HARD
                        PERL_IMPLICIT_CONTEXT PERL_MALLOC_WRAP
                        PERL_PRESERVE_IVUV PERL_SAWAMPERSAND PERL_USE_DEVEL
                        USE_ITHREADS USE_LARGE_FILES USE_LOCALE
                        USE_LOCALE_COLLATE USE_LOCALE_CTYPE
                        USE_LOCALE_NUMERIC USE_PERLIO USE_PERL_ATOF
                        USE_REENTRANT_API
  Locally applied patches:
	Devel::PatchPerl 1.38
  Built under linux
  Compiled at Jan 26 2018 01:23:44
  %ENV:
    PERL5LIB="/home/njh/.cpan/build/File-Inplace-0.20-FFPmDT/blib/arch:/home/njh/.cpan/build/File-Inplace-0.20-FFPmDT/blib/lib:/home/njh/.cpan/build/Pod-Term-0.02-mDyoMf/blib/arch:/home/njh/.cpan/build/Pod-Term-0.02-mDyoMf/blib/lib:/home/njh/.cpan/build/Hash-Merge-0.300-_ekW4X/blib/arch:/home/njh/.cpan/build/Hash-Merge-0.300-_ekW4X/blib/lib:/home/njh/.cpan/build/Clone-Choose-0.010-ZIBMgX/blib/arch:/home/njh/.cpan/build/Clone-Choose-0.010-ZIBMgX/blib/lib:/home/njh/.cpan/build/Test-Without-Module-0.20-p9wGLm/blib/arch:/home/njh/.cpan/build/Test-Without-Module-0.20-p9wGLm/blib/lib:/home/njh/.cpan/build/MooseX-ClassAttribute-0.29-0yIIpH/blib/arch:/home/njh/.cpan/build/MooseX-ClassAttribute-0.29-0yIIpH/blib/lib:/home/njh/.cpan/build/Web-Scraper-0.38-I2YKqC/blib/arch:/home/njh/.cpan/build/Web-Scraper-0.38-I2YKqC/blib/lib:/home/njh/.cpan/build/YAML-1.25-npeFsF/blib/arch:/home/njh/.cpan/build/YAML-1.25-npeFsF/blib/lib:/home/njh/.cpan/build/HTML-TreeBuilder-XPath-0.14-bRVl3t/blib/arch:/home/njh/.cpan/build/HTML-TreeBuilder-XPath-0.14-bRVl3t/blib/lib:/home/njh/.cpan/build/XML-XPathEngine-0.14-WuiMqB/blib/arch:/home/njh/.cpan/build/XML-XPathEngine-0.14-WuiMqB/blib/lib:/home/njh/.cpan/build/Template-Nest-0.03-HYUvDl/blib/arch:/home/njh/.cpan/build/Template-Nest-0.03-HYUvDl/blib/lib:/home/njh/.cpan/build/WWW-Mechanize-PhantomJS-0.18-fftOFl/blib/arch:/home/njh/.cpan/build/WWW-Mechanize-PhantomJS-0.18-fftOFl/blib/lib:/home/njh/.cpan/build/Selenium-Remote-Driver-1.27-uruItz/blib/arch:/home/njh/.cpan/build/Selenium-Remote-Driver-1.27-uruItz/blib/lib:/home/njh/.cpan/build/Moo-2.003004-OcSyJ5/blib/arch:/home/njh/.cpan/build/Moo-2.003004-OcSyJ5/blib/lib:/home/njh/.cpan/build/Sub-Quote-2.005001-yNnXLr/blib/arch:/home/njh/.cpan/build/Sub-Quote-2.005001-yNnXLr/blib/lib:/home/njh/.cpan/build/Role-Tiny-2.000006-MeXvH5/blib/arch:/home/njh/.cpan/build/Role-Tiny-2.000006-MeXvH5/blib/lib:/home/njh/.cpan/build/Class-Method-Modifiers-2.12-5zNjF9/blib/arch:/home/njh/.cpan/build/Class-Method-Modifiers-2.12-5zNjF9/blib/lib:/home/njh/.cpan/build/XML-Simple-2.25-EDdDrn/blib/arch:/home/njh/.cpan/build/XML-Simple-2.25-EDdDrn/blib/lib:/home/njh/.cpan/build/XML-SAX-Expat-0.51-z3V3PC/blib/arch:/home/njh/.cpan/build/XML-SAX-Expat-0.51-z3V3PC/blib/lib:/home/njh/.cpan/build/XML-Parser-2.44-XchK2I/blib/arch:/home/njh/.cpan/build/XML-Parser-2.44-XchK2I/blib/lib:/home/njh/.cpan/build/Test-LWP-UserAgent-0.033-t3nUCb/blib/arch:/home/njh/.cpan/build/Test-LWP-UserAgent-0.033-t3nUCb/blib/lib:/home/njh/.cpan/build/Safe-Isa-1.000010-VkU9js/blib/arch:/home/njh/.cpan/build/Safe-Isa-1.000010-VkU9js/blib/lib:/home/njh/.cpan/build/Test-Time-0.05-dW5L_K/blib/arch:/home/njh/.cpan/build/Test-Time-0.05-dW5L_K/blib/lib:/home/njh/.cpan/build/HTML-Selector-XPath-0.23-Ip4OTM/blib/arch:/home/njh/.cpan/build/HTML-Selector-XPath-0.23-Ip4OTM/blib/lib:/home/njh/.cpan/build/Object-Import-1.004-wFHAr1/blib/arch:/home/njh/.cpan/build/Object-Import-1.004-wFHAr1/blib/lib"
    PERL5OPT=""
    PERL5_CPANPLUS_IS_RUNNING="26940"
    PERL5_CPAN_IS_RUNNING="26940"
    PERLBREW_BASHRC_VERSION="0.73"
    PERLBREW_HOME="/home/njh/.perlbrew"
    PERLBREW_MANPATH="/home/njh/perl5/perlbrew/perls/perl-5.18.2-sanitize-address/man"
    PERLBREW_PATH="/home/njh/perl5/perlbrew/bin:/home/njh/perl5/perlbrew/perls/perl-5.18.2-sanitize-address/bin"
    PERLBREW_PERL="perl-5.18.2-sanitize-address"
    PERLBREW_ROOT="/home/njh/perl5/perlbrew"
    PERLBREW_VERSION="0.73"
  @INC:
    /home/njh/.cpan/build/File-Inplace-0.20-FFPmDT/blib/arch
    /home/njh/.cpan/build/File-Inplace-0.20-FFPmDT/blib/lib
    /home/njh/.cpan/build/Pod-Term-0.02-mDyoMf/blib/arch
    /home/njh/.cpan/build/Pod-Term-0.02-mDyoMf/blib/lib
    /home/njh/.cpan/build/Hash-Merge-0.300-_ekW4X/blib/arch
    /home/njh/.cpan/build/Hash-Merge-0.300-_ekW4X/blib/lib
    /home/njh/.cpan/build/Clone-Choose-0.010-ZIBMgX/blib/arch
    /home/njh/.cpan/build/Clone-Choose-0.010-ZIBMgX/blib/lib
    /home/njh/.cpan/build/Test-Without-Module-0.20-p9wGLm/blib/arch
    /home/njh/.cpan/build/Test-Without-Module-0.20-p9wGLm/blib/lib
    /home/njh/.cpan/build/MooseX-ClassAttribute-0.29-0yIIpH/blib/arch
    /home/njh/.cpan/build/MooseX-ClassAttribute-0.29-0yIIpH/blib/lib
    /home/njh/.cpan/build/Web-Scraper-0.38-I2YKqC/blib/arch
    /home/njh/.cpan/build/Web-Scraper-0.38-I2YKqC/blib/lib
    /home/njh/.cpan/build/YAML-1.25-npeFsF/blib/arch
    /home/njh/.cpan/build/YAML-1.25-npeFsF/blib/lib
    /home/njh/.cpan/build/HTML-TreeBuilder-XPath-0.14-bRVl3t/blib/arch
    /home/njh/.cpan/build/HTML-TreeBuilder-XPath-0.14-bRVl3t/blib/lib
    /home/njh/.cpan/build/XML-XPathEngine-0.14-WuiMqB/blib/arch
    /home/njh/.cpan/build/XML-XPathEngine-0.14-WuiMqB/blib/lib
    /home/njh/.cpan/build/Template-Nest-0.03-HYUvDl/blib/arch
    /home/njh/.cpan/build/Template-Nest-0.03-HYUvDl/blib/lib
    /home/njh/.cpan/build/WWW-Mechanize-PhantomJS-0.18-fftOFl/blib/arch
    /home/njh/.cpan/build/WWW-Mechanize-PhantomJS-0.18-fftOFl/blib/lib
    /home/njh/.cpan/build/Selenium-Remote-Driver-1.27-uruItz/blib/arch
    /home/njh/.cpan/build/Selenium-Remote-Driver-1.27-uruItz/blib/lib
    /home/njh/.cpan/build/Moo-2.003004-OcSyJ5/blib/arch
    /home/njh/.cpan/build/Moo-2.003004-OcSyJ5/blib/lib
    /home/njh/.cpan/build/Sub-Quote-2.005001-yNnXLr/blib/arch
    /home/njh/.cpan/build/Sub-Quote-2.005001-yNnXLr/blib/lib
    /home/njh/.cpan/build/Role-Tiny-2.000006-MeXvH5/blib/arch
    /home/njh/.cpan/build/Role-Tiny-2.000006-MeXvH5/blib/lib
    /home/njh/.cpan/build/Class-Method-Modifiers-2.12-5zNjF9/blib/arch
    /home/njh/.cpan/build/Class-Method-Modifiers-2.12-5zNjF9/blib/lib
    /home/njh/.cpan/build/XML-Simple-2.25-EDdDrn/blib/arch
    /home/njh/.cpan/build/XML-Simple-2.25-EDdDrn/blib/lib
    /home/njh/.cpan/build/XML-SAX-Expat-0.51-z3V3PC/blib/arch
    /home/njh/.cpan/build/XML-SAX-Expat-0.51-z3V3PC/blib/lib
    /home/njh/.cpan/build/XML-Parser-2.44-XchK2I/blib/arch
    /home/njh/.cpan/build/XML-Parser-2.44-XchK2I/blib/lib
    /home/njh/.cpan/build/Test-LWP-UserAgent-0.033-t3nUCb/blib/arch
    /home/njh/.cpan/build/Test-LWP-UserAgent-0.033-t3nUCb/blib/lib
    /home/njh/.cpan/build/Safe-Isa-1.000010-VkU9js/blib/arch
    /home/njh/.cpan/build/Safe-Isa-1.000010-VkU9js/blib/lib
    /home/njh/.cpan/build/Test-Time-0.05-dW5L_K/blib/arch
    /home/njh/.cpan/build/Test-Time-0.05-dW5L_K/blib/lib
    /home/njh/.cpan/build/HTML-Selector-XPath-0.23-Ip4OTM/blib/arch
    /home/njh/.cpan/build/HTML-Selector-XPath-0.23-Ip4OTM/blib/lib
    /home/njh/.cpan/build/Object-Import-1.004-wFHAr1/blib/arch
    /home/njh/.cpan/build/Object-Import-1.004-wFHAr1/blib/lib
    /home/njh/perl5/perlbrew/perls/perl-5.18.2-sanitize-address/lib/site_perl/5.18.2/i686-linux-thread-multi
    /home/njh/perl5/perlbrew/perls/perl-5.18.2-sanitize-address/lib/site_perl/5.18.2
    /home/njh/perl5/perlbrew/perls/perl-5.18.2-sanitize-address/lib/5.18.2/i686-linux-thread-multi
    /home/njh/perl5/perlbrew/perls/perl-5.18.2-sanitize-address/lib/5.18.2
    .