MooseX-RelClassTypes v0.03 Perl 5 v5.26.0 x86_64-linux-thread-multi
- Status
- Pass
- From
- Nigel Horne
- Dist
-
MooseX-RelClassTypes v0.03
- Platform
- Perl 5 v5.26.0 x86_64-linux-thread-multi
- Date
- 2018-05-02 17:15:29
- ID
- 6a022c30-4e2c-11e8-9da6-f703c768dc7a
This distribution has been tested as part of the CPAN Testers
project, supporting the Perl programming language. See
http://wiki.cpantesters.org/ for more information or email
questions to cpan-testers-discuss@perl.org
--
Dear Tom Gracey,
This is a computer-generated report for MooseX-RelClassTypes-0.03
on perl 5.26.0, created by CPAN-Reporter-1.2018.
Thank you for uploading your work to CPAN. Congratulations!
All tests were successful.
Sections of this report:
* Tester comments
* Program output
* Prerequisites
* Environment and other context
------------------------------
TESTER COMMENTS
------------------------------
Additional comments from tester:
this report is from an automated smoke testing program
and was not reviewed by a human for accuracy
------------------------------
PROGRAM OUTPUT
------------------------------
Output from '/usr/bin/make test':
PERL_DL_NONLAZY=1 "/home/njh/perl5/perlbrew/perls/perl-5.26.0-64all/bin/perl5.26.0" "-MExtUtils::Command::MM" "-MTest::Harness" "-e" "undef *Test::Harness::Switches; test_harness(0, 'blib/lib', 'blib/arch')" t/*.t
You are overwriting a reader (rel_pack) for the rel_pack attribute (defined at t/02_parser.t line 19) with a new reader method for the rel_pack attribute (defined at t/02_parser.t line 19) at /tmp/build/Moose-2.2010-7/blib/lib/Moose/Meta/Attribute.pm line 1094.
Moose::Meta::Attribute::_process_accessors(Moose::Meta::Attribute=HASH(0x55afb725bf48), "reader", "rel_pack", undef) called at /tmp/build/Moose-2.2010-7/blib/lib/Class/MOP/Attribute.pm line 450
Class::MOP::Attribute::install_accessors(Moose::Meta::Attribute=HASH(0x55afb725bf48)) called at /tmp/build/Moose-2.2010-7/blib/lib/Moose/Meta/Attribute.pm line 1014
Moose::Meta::Attribute::install_accessors(Moose::Meta::Attribute=HASH(0x55afb725bf48)) called at /tmp/build/MooseX-RelClassTypes-0.03-21/blib/lib/MooseX/RelClassTypes.pm line 76
Class::MOP::Class:::before("TestParser::AngleBK") called at /tmp/build/Moose-2.2010-7/blib/lib/Class/MOP/Method/Wrapped.pm line 43
TestParser::AngleBK::_wrapped_BUILDARGS("TestParser::AngleBK") called at /tmp/build/Moose-2.2010-7/blib/lib/Class/MOP/Method/Wrapped.pm line 95
TestParser::AngleBK::BUILDARGS("TestParser::AngleBK") called at /tmp/build/Moose-2.2010-7/blib/lib/Moose/Object.pm line 22
Moose::Object::new("TestParser::AngleBK") called at t/02_parser.t line 87
You are overwriting a reader (alt_pack) for the alt_pack attribute (defined at t/02_parser.t line 24) with a new reader method for the alt_pack attribute (defined at t/02_parser.t line 24) at /tmp/build/Moose-2.2010-7/blib/lib/Moose/Meta/Attribute.pm line 1094.
Moose::Meta::Attribute::_process_accessors(Moose::Meta::Attribute=HASH(0x55afb725c4b8), "reader", "alt_pack", undef) called at /tmp/build/Moose-2.2010-7/blib/lib/Class/MOP/Attribute.pm line 450
Class::MOP::Attribute::install_accessors(Moose::Meta::Attribute=HASH(0x55afb725c4b8)) called at /tmp/build/Moose-2.2010-7/blib/lib/Moose/Meta/Attribute.pm line 1014
Moose::Meta::Attribute::install_accessors(Moose::Meta::Attribute=HASH(0x55afb725c4b8)) called at /tmp/build/MooseX-RelClassTypes-0.03-21/blib/lib/MooseX/RelClassTypes.pm line 76
Class::MOP::Class:::before("TestParser::AngleBK") called at /tmp/build/Moose-2.2010-7/blib/lib/Class/MOP/Method/Wrapped.pm line 43
TestParser::AngleBK::_wrapped_BUILDARGS("TestParser::AngleBK") called at /tmp/build/Moose-2.2010-7/blib/lib/Class/MOP/Method/Wrapped.pm line 95
TestParser::AngleBK::BUILDARGS("TestParser::AngleBK") called at /tmp/build/Moose-2.2010-7/blib/lib/Moose/Object.pm line 22
Moose::Object::new("TestParser::AngleBK") called at t/02_parser.t line 87
You are overwriting a accessor (child_rel_pack) for the child_rel_pack attribute (defined at t/00_set_isa.t line 45) with a new accessor method for the child_rel_pack attribute (defined at t/00_set_isa.t line 45) at /tmp/build/Moose-2.2010-7/blib/lib/Moose/Meta/Attribute.pm line 1094.
Moose::Meta::Attribute::_process_accessors(Moose::Meta::Attribute=HASH(0x563e43a1ee88), "accessor", "child_rel_pack", undef) called at /tmp/build/Moose-2.2010-7/blib/lib/Class/MOP/Attribute.pm line 446
Class::MOP::Attribute::install_accessors(Moose::Meta::Attribute=HASH(0x563e43a1ee88)) called at /tmp/build/Moose-2.2010-7/blib/lib/Moose/Meta/Attribute.pm line 1014
Moose::Meta::Attribute::install_accessors(Moose::Meta::Attribute=HASH(0x563e43a1ee88)) called at /tmp/build/MooseX-RelClassTypes-0.03-21/blib/lib/MooseX/RelClassTypes.pm line 76
Class::MOP::Class:::before("Child") called at /tmp/build/Moose-2.2010-7/blib/lib/Class/MOP/Method/Wrapped.pm line 43
Child::_wrapped_BUILDARGS("Child") called at /tmp/build/Moose-2.2010-7/blib/lib/Class/MOP/Method/Wrapped.pm line 95
Child::BUILDARGS("Child") called at /tmp/build/Moose-2.2010-7/blib/lib/Moose/Object.pm line 22
Moose::Object::new("Child") called at t/00_set_isa.t line 99
You are overwriting a accessor (parent_rel_pack) for the parent_rel_pack attribute (defined at t/00_set_isa.t line 23) with a new accessor method for the parent_rel_pack attribute (defined at t/00_set_isa.t line 23) at /tmp/build/Moose-2.2010-7/blib/lib/Moose/Meta/Attribute.pm line 1094.
Moose::Meta::Attribute::_process_accessors(Moose::Meta::Attribute=HASH(0x563e43a15e80), "accessor", "parent_rel_pack", undef) called at /tmp/build/Moose-2.2010-7/blib/lib/Class/MOP/Attribute.pm line 446
Class::MOP::Attribute::install_accessors(Moose::Meta::Attribute=HASH(0x563e43a15e80)) called at /tmp/build/Moose-2.2010-7/blib/lib/Moose/Meta/Attribute.pm line 1014
Moose::Meta::Attribute::install_accessors(Moose::Meta::Attribute=HASH(0x563e43a15e80)) called at /tmp/build/MooseX-RelClassTypes-0.03-21/blib/lib/MooseX/RelClassTypes.pm line 76
Class::MOP::Class:::before("Child") called at /tmp/build/Moose-2.2010-7/blib/lib/Class/MOP/Method/Wrapped.pm line 43
Child::_wrapped_BUILDARGS("Child") called at /tmp/build/Moose-2.2010-7/blib/lib/Class/MOP/Method/Wrapped.pm line 95
Child::BUILDARGS("Child") called at /tmp/build/Moose-2.2010-7/blib/lib/Moose/Object.pm line 22
Moose::Object::new("Child") called at t/00_set_isa.t line 99
You are overwriting a accessor (parent_rel_pack) for the parent_rel_pack attribute (defined at t/00_set_isa.t line 23) with a new accessor method for the parent_rel_pack attribute (defined at t/00_set_isa.t line 23) at /tmp/build/Moose-2.2010-7/blib/lib/Moose/Meta/Attribute.pm line 1094.
Moose::Meta::Attribute::_process_accessors(Moose::Meta::Attribute=HASH(0x563e43a15e80), "accessor", "parent_rel_pack", undef) called at /tmp/build/Moose-2.2010-7/blib/lib/Class/MOP/Attribute.pm line 446
Class::MOP::Attribute::install_accessors(Moose::Meta::Attribute=HASH(0x563e43a15e80)) called at /tmp/build/Moose-2.2010-7/blib/lib/Moose/Meta/Attribute.pm line 1014
Moose::Meta::Attribute::install_accessors(Moose::Meta::Attribute=HASH(0x563e43a15e80)) called at /tmp/build/MooseX-RelClassTypes-0.03-21/blib/lib/MooseX/RelClassTypes.pm line 76
Class::MOP::Class:::before("Child") called at /tmp/build/Moose-2.2010-7/blib/lib/Class/MOP/Method/Wrapped.pm line 43
Parent::_wrapped_BUILDARGS("Child") called at /tmp/build/Moose-2.2010-7/blib/lib/Class/MOP/Method/Wrapped.pm line 95
Parent::BUILDARGS("Child") called at /tmp/build/Moose-2.2010-7/blib/lib/Class/MOP/Method/Wrapped.pm line 44
Child::_wrapped_BUILDARGS("Child") called at /tmp/build/Moose-2.2010-7/blib/lib/Class/MOP/Method/Wrapped.pm line 95
Child::BUILDARGS("Child") called at /tmp/build/Moose-2.2010-7/blib/lib/Moose/Object.pm line 22
Moose::Object::new("Child") called at t/00_set_isa.t line 99
You are overwriting a accessor (child_rel_pack) for the child_rel_pack attribute (defined at t/00_set_isa.t line 45) with a new accessor method for the child_rel_pack attribute (defined at t/00_set_isa.t line 45) at /tmp/build/Moose-2.2010-7/blib/lib/Moose/Meta/Attribute.pm line 1094.
Moose::Meta::Attribute::_process_accessors(Moose::Meta::Attribute=HASH(0x563e43a1ee88), "accessor", "child_rel_pack", undef) called at /tmp/build/Moose-2.2010-7/blib/lib/Class/MOP/Attribute.pm line 446
Class::MOP::Attribute::install_accessors(Moose::Meta::Attribute=HASH(0x563e43a1ee88)) called at /tmp/build/Moose-2.2010-7/blib/lib/Moose/Meta/Attribute.pm line 1014
Moose::Meta::Attribute::install_accessors(Moose::Meta::Attribute=HASH(0x563e43a1ee88)) called at /tmp/build/MooseX-RelClassTypes-0.03-21/blib/lib/MooseX/RelClassTypes.pm line 76
Class::MOP::Class:::before("Child") called at /tmp/build/Moose-2.2010-7/blib/lib/Class/MOP/Method/Wrapped.pm line 43
Parent::_wrapped_BUILDARGS("Child") called at /tmp/build/Moose-2.2010-7/blib/lib/Class/MOP/Method/Wrapped.pm line 95
Parent::BUILDARGS("Child") called at /tmp/build/Moose-2.2010-7/blib/lib/Class/MOP/Method/Wrapped.pm line 44
Child::_wrapped_BUILDARGS("Child") called at /tmp/build/Moose-2.2010-7/blib/lib/Class/MOP/Method/Wrapped.pm line 95
Child::BUILDARGS("Child") called at /tmp/build/Moose-2.2010-7/blib/lib/Moose/Object.pm line 22
Moose::Object::new("Child") called at t/00_set_isa.t line 99
You are overwriting a reader (rel_pack) for the rel_pack attribute (defined at t/01_auto_default.t line 37) with a new reader method for the rel_pack attribute (defined at t/01_auto_default.t line 37) at /tmp/build/Moose-2.2010-7/blib/lib/Moose/Meta/Attribute.pm line 1094.
Moose::Meta::Attribute::_process_accessors(Moose::Meta::Attribute=HASH(0x55df8c6a7228), "reader", "rel_pack", undef) called at /tmp/build/Moose-2.2010-7/blib/lib/Class/MOP/Attribute.pm line 450
Class::MOP::Attribute::install_accessors(Moose::Meta::Attribute=HASH(0x55df8c6a7228)) called at /tmp/build/Moose-2.2010-7/blib/lib/Moose/Meta/Attribute.pm line 1014
Moose::Meta::Attribute::install_accessors(Moose::Meta::Attribute=HASH(0x55df8c6a7228)) called at /tmp/build/MooseX-RelClassTypes-0.03-21/blib/lib/MooseX/RelClassTypes.pm line 76
Class::MOP::Class:::before("TestAD::NoAuto_WithDefault_NoBuilder") called at /tmp/build/Moose-2.2010-7/blib/lib/Class/MOP/Method/Wrapped.pm line 43
TestAD::NoAuto_WithDefault_NoBuilder::_wrapped_BUILDARGS("TestAD::NoAuto_WithDefault_NoBuilder") called at /tmp/build/Moose-2.2010-7/blib/lib/Class/MOP/Method/Wrapped.pm line 95
TestAD::NoAuto_WithDefault_NoBuilder::BUILDARGS("TestAD::NoAuto_WithDefault_NoBuilder") called at /tmp/build/Moose-2.2010-7/blib/lib/Moose/Object.pm line 22
Moose::Object::new("TestAD::NoAuto_WithDefault_NoBuilder") called at t/01_auto_default.t line 143
You are overwriting a reader (alt_pack) for the alt_pack attribute (defined at t/02_parser.t line 47) with a new reader method for the alt_pack attribute (defined at t/02_parser.t line 47) at /tmp/build/Moose-2.2010-7/blib/lib/Moose/Meta/Attribute.pm line 1094.
Moose::Meta::Attribute::_process_accessors(Moose::Meta::Attribute=HASH(0x55afb725e908), "reader", "alt_pack", undef) called at /tmp/build/Moose-2.2010-7/blib/lib/Class/MOP/Attribute.pm line 450
Class::MOP::Attribute::install_accessors(Moose::Meta::Attribute=HASH(0x55afb725e908)) called at /tmp/build/Moose-2.2010-7/blib/lib/Moose/Meta/Attribute.pm line 1014
Moose::Meta::Attribute::install_accessors(Moose::Meta::Attribute=HASH(0x55afb725e908)) called at /tmp/build/MooseX-RelClassTypes-0.03-21/blib/lib/MooseX/RelClassTypes.pm line 76
Class::MOP::Class:::before("TestParser::RoundBK") called at /tmp/build/Moose-2.2010-7/blib/lib/Class/MOP/Method/Wrapped.pm line 43
TestParser::RoundBK::_wrapped_BUILDARGS("TestParser::RoundBK") called at /tmp/build/Moose-2.2010-7/blib/lib/Class/MOP/Method/Wrapped.pm line 95
TestParser::RoundBK::BUILDARGS("TestParser::RoundBK") called at /tmp/build/Moose-2.2010-7/blib/lib/Moose/Object.pm line 22
Moose::Object::new("TestParser::RoundBK") called at t/02_parser.t line 87
You are overwriting a reader (rel_pack) for the rel_pack attribute (defined at t/02_parser.t line 42) with a new reader method for the rel_pack attribute (defined at t/02_parser.t line 42) at /tmp/build/Moose-2.2010-7/blib/lib/Moose/Meta/Attribute.pm line 1094.
Moose::Meta::Attribute::_process_accessors(Moose::Meta::Attribute=HASH(0x55afb726cb70), "reader", "rel_pack", undef) called at /tmp/build/Moose-2.2010-7/blib/lib/Class/MOP/Attribute.pm line 450
Class::MOP::Attribute::install_accessors(Moose::Meta::Attribute=HASH(0x55afb726cb70)) called at /tmp/build/Moose-2.2010-7/blib/lib/Moose/Meta/Attribute.pm line 1014
Moose::Meta::Attribute::install_accessors(Moose::Meta::Attribute=HASH(0x55afb726cb70)) called at /tmp/build/MooseX-RelClassTypes-0.03-21/blib/lib/MooseX/RelClassTypes.pm line 76
Class::MOP::Class:::before("TestParser::RoundBK") called at /tmp/build/Moose-2.2010-7/blib/lib/Class/MOP/Method/Wrapped.pm line 43
TestParser::RoundBK::_wrapped_BUILDARGS("TestParser::RoundBK") called at /tmp/build/Moose-2.2010-7/blib/lib/Class/MOP/Method/Wrapped.pm line 95
TestParser::RoundBK::BUILDARGS("TestParser::RoundBK") called at /tmp/build/Moose-2.2010-7/blib/lib/Moose/Object.pm line 22
Moose::Object::new("TestParser::RoundBK") called at t/02_parser.t line 87
t/02_parser.t ........ ok
t/00_set_isa.t ....... ok
You are overwriting a reader (rel_pack) for the rel_pack attribute (defined at t/01_auto_default.t line 20) with a new reader method for the rel_pack attribute (defined at t/01_auto_default.t line 20) at /tmp/build/Moose-2.2010-7/blib/lib/Moose/Meta/Attribute.pm line 1094.
Moose::Meta::Attribute::_process_accessors(Moose::Meta::Attribute=HASH(0x55df8c69e5a0), "reader", "rel_pack", undef) called at /tmp/build/Moose-2.2010-7/blib/lib/Class/MOP/Attribute.pm line 450
Class::MOP::Attribute::install_accessors(Moose::Meta::Attribute=HASH(0x55df8c69e5a0)) called at /tmp/build/Moose-2.2010-7/blib/lib/Moose/Meta/Attribute.pm line 1014
Moose::Meta::Attribute::install_accessors(Moose::Meta::Attribute=HASH(0x55df8c69e5a0)) called at /tmp/build/MooseX-RelClassTypes-0.03-21/blib/lib/MooseX/RelClassTypes.pm line 76
Class::MOP::Class:::before("TestAD::NoAuto_NoDefault_WithBuilder") called at /tmp/build/Moose-2.2010-7/blib/lib/Class/MOP/Method/Wrapped.pm line 43
TestAD::NoAuto_NoDefault_WithBuilder::_wrapped_BUILDARGS("TestAD::NoAuto_NoDefault_WithBuilder") called at /tmp/build/Moose-2.2010-7/blib/lib/Class/MOP/Method/Wrapped.pm line 95
TestAD::NoAuto_NoDefault_WithBuilder::BUILDARGS("TestAD::NoAuto_NoDefault_WithBuilder") called at /tmp/build/Moose-2.2010-7/blib/lib/Moose/Object.pm line 22
Moose::Object::new("TestAD::NoAuto_NoDefault_WithBuilder") called at t/01_auto_default.t line 143
You are overwriting a reader (rel_pack) for the rel_pack attribute (defined at t/01_auto_default.t line 11) with a new reader method for the rel_pack attribute (defined at t/01_auto_default.t line 11) at /tmp/build/Moose-2.2010-7/blib/lib/Moose/Meta/Attribute.pm line 1094.
Moose::Meta::Attribute::_process_accessors(Moose::Meta::Attribute=HASH(0x55df8c692528), "reader", "rel_pack", undef) called at /tmp/build/Moose-2.2010-7/blib/lib/Class/MOP/Attribute.pm line 450
Class::MOP::Attribute::install_accessors(Moose::Meta::Attribute=HASH(0x55df8c692528)) called at /tmp/build/Moose-2.2010-7/blib/lib/Moose/Meta/Attribute.pm line 1014
Moose::Meta::Attribute::install_accessors(Moose::Meta::Attribute=HASH(0x55df8c692528)) called at /tmp/build/MooseX-RelClassTypes-0.03-21/blib/lib/MooseX/RelClassTypes.pm line 76
Class::MOP::Class:::before("TestAD::NoAuto_NoDefault_NoBuilder") called at /tmp/build/Moose-2.2010-7/blib/lib/Class/MOP/Method/Wrapped.pm line 43
TestAD::NoAuto_NoDefault_NoBuilder::_wrapped_BUILDARGS("TestAD::NoAuto_NoDefault_NoBuilder") called at /tmp/build/Moose-2.2010-7/blib/lib/Class/MOP/Method/Wrapped.pm line 95
TestAD::NoAuto_NoDefault_NoBuilder::BUILDARGS("TestAD::NoAuto_NoDefault_NoBuilder") called at /tmp/build/Moose-2.2010-7/blib/lib/Moose/Object.pm line 22
Moose::Object::new("TestAD::NoAuto_NoDefault_NoBuilder") called at t/01_auto_default.t line 143
You are overwriting a reader (rel_pack) for the rel_pack attribute (defined at t/01_auto_default.t line 45) with a new reader method for the rel_pack attribute (defined at t/01_auto_default.t line 45) at /tmp/build/Moose-2.2010-7/blib/lib/Moose/Meta/Attribute.pm line 1094.
Moose::Meta::Attribute::_process_accessors(Moose::Meta::Attribute=HASH(0x55df8c6afa98), "reader", "rel_pack", undef) called at /tmp/build/Moose-2.2010-7/blib/lib/Class/MOP/Attribute.pm line 450
Class::MOP::Attribute::install_accessors(Moose::Meta::Attribute=HASH(0x55df8c6afa98)) called at /tmp/build/Moose-2.2010-7/blib/lib/Moose/Meta/Attribute.pm line 1014
Moose::Meta::Attribute::install_accessors(Moose::Meta::Attribute=HASH(0x55df8c6afa98)) called at /tmp/build/MooseX-RelClassTypes-0.03-21/blib/lib/MooseX/RelClassTypes.pm line 76
Class::MOP::Class:::before("TestAD::WithAuto_NoDefault_NoBuilder") called at /tmp/build/Moose-2.2010-7/blib/lib/Class/MOP/Method/Wrapped.pm line 43
TestAD::WithAuto_NoDefault_NoBuilder::_wrapped_BUILDARGS("TestAD::WithAuto_NoDefault_NoBuilder") called at /tmp/build/Moose-2.2010-7/blib/lib/Class/MOP/Method/Wrapped.pm line 95
TestAD::WithAuto_NoDefault_NoBuilder::BUILDARGS("TestAD::WithAuto_NoDefault_NoBuilder") called at /tmp/build/Moose-2.2010-7/blib/lib/Moose/Object.pm line 22
Moose::Object::new("TestAD::WithAuto_NoDefault_NoBuilder") called at t/01_auto_default.t line 143
You are overwriting a reader (rel_pack) for the rel_pack attribute (defined at t/01_auto_default.t line 54) with a new reader method for the rel_pack attribute (defined at t/01_auto_default.t line 54) at /tmp/build/Moose-2.2010-7/blib/lib/Moose/Meta/Attribute.pm line 1094.
Moose::Meta::Attribute::_process_accessors(Moose::Meta::Attribute=HASH(0x55df8c6b6548), "reader", "rel_pack", undef) called at /tmp/build/Moose-2.2010-7/blib/lib/Class/MOP/Attribute.pm line 450
Class::MOP::Attribute::install_accessors(Moose::Meta::Attribute=HASH(0x55df8c6b6548)) called at /tmp/build/Moose-2.2010-7/blib/lib/Moose/Meta/Attribute.pm line 1014
Moose::Meta::Attribute::install_accessors(Moose::Meta::Attribute=HASH(0x55df8c6b6548)) called at /tmp/build/MooseX-RelClassTypes-0.03-21/blib/lib/MooseX/RelClassTypes.pm line 76
Class::MOP::Class:::before("TestAD::WithAuto_NoDefault_WithBuilder") called at /tmp/build/Moose-2.2010-7/blib/lib/Class/MOP/Method/Wrapped.pm line 43
TestAD::WithAuto_NoDefault_WithBuilder::_wrapped_BUILDARGS("TestAD::WithAuto_NoDefault_WithBuilder") called at /tmp/build/Moose-2.2010-7/blib/lib/Class/MOP/Method/Wrapped.pm line 95
TestAD::WithAuto_NoDefault_WithBuilder::BUILDARGS("TestAD::WithAuto_NoDefault_WithBuilder") called at /tmp/build/Moose-2.2010-7/blib/lib/Moose/Object.pm line 22
Moose::Object::new("TestAD::WithAuto_NoDefault_WithBuilder") called at t/01_auto_default.t line 143
You are overwriting a reader (rel_pack) for the rel_pack attribute (defined at t/01_auto_default.t line 71) with a new reader method for the rel_pack attribute (defined at t/01_auto_default.t line 71) at /tmp/build/Moose-2.2010-7/blib/lib/Moose/Meta/Attribute.pm line 1094.
Moose::Meta::Attribute::_process_accessors(Moose::Meta::Attribute=HASH(0x55df8c6badc0), "reader", "rel_pack", undef) called at /tmp/build/Moose-2.2010-7/blib/lib/Class/MOP/Attribute.pm line 450
Class::MOP::Attribute::install_accessors(Moose::Meta::Attribute=HASH(0x55df8c6badc0)) called at /tmp/build/Moose-2.2010-7/blib/lib/Moose/Meta/Attribute.pm line 1014
Moose::Meta::Attribute::install_accessors(Moose::Meta::Attribute=HASH(0x55df8c6badc0)) called at /tmp/build/MooseX-RelClassTypes-0.03-21/blib/lib/MooseX/RelClassTypes.pm line 76
Class::MOP::Class:::before("TestAD::WithAuto_WithDefault_NoBuilder") called at /tmp/build/Moose-2.2010-7/blib/lib/Class/MOP/Method/Wrapped.pm line 43
TestAD::WithAuto_WithDefault_NoBuilder::_wrapped_BUILDARGS("TestAD::WithAuto_WithDefault_NoBuilder") called at /tmp/build/Moose-2.2010-7/blib/lib/Class/MOP/Method/Wrapped.pm line 95
TestAD::WithAuto_WithDefault_NoBuilder::BUILDARGS("TestAD::WithAuto_WithDefault_NoBuilder") called at /tmp/build/Moose-2.2010-7/blib/lib/Moose/Object.pm line 22
Moose::Object::new("TestAD::WithAuto_WithDefault_NoBuilder") called at t/01_auto_default.t line 143
t/01_auto_default.t .. ok
You are overwriting a accessor (parent_rel_pack) for the parent_rel_pack attribute (defined at t/03_lazy.t line 22) with a new accessor method for the parent_rel_pack attribute (defined at t/03_lazy.t line 22) at /tmp/build/Moose-2.2010-7/blib/lib/Moose/Meta/Attribute.pm line 1094.
Moose::Meta::Attribute::_process_accessors(Moose::Meta::Attribute=HASH(0x559feaba7538), "accessor", "parent_rel_pack", undef) called at /tmp/build/Moose-2.2010-7/blib/lib/Class/MOP/Attribute.pm line 446
Class::MOP::Attribute::install_accessors(Moose::Meta::Attribute=HASH(0x559feaba7538)) called at /tmp/build/Moose-2.2010-7/blib/lib/Moose/Meta/Attribute.pm line 1014
Moose::Meta::Attribute::install_accessors(Moose::Meta::Attribute=HASH(0x559feaba7538)) called at /tmp/build/MooseX-RelClassTypes-0.03-21/blib/lib/MooseX/RelClassTypes.pm line 76
Class::MOP::Class:::before("LazyParent::Child") called at /tmp/build/Moose-2.2010-7/blib/lib/Class/MOP/Method/Wrapped.pm line 43
LazyParent::Child::_wrapped_BUILDARGS("LazyParent::Child") called at /tmp/build/Moose-2.2010-7/blib/lib/Class/MOP/Method/Wrapped.pm line 95
LazyParent::Child::BUILDARGS("LazyParent::Child") called at /tmp/build/Moose-2.2010-7/blib/lib/Moose/Object.pm line 22
Moose::Object::new("LazyParent::Child") called at t/03_lazy.t line 248
You are overwriting a accessor (child_rel_pack) for the child_rel_pack attribute (defined at t/03_lazy.t line 32) with a new accessor method for the child_rel_pack attribute (defined at t/03_lazy.t line 32) at /tmp/build/Moose-2.2010-7/blib/lib/Moose/Meta/Attribute.pm line 1094.
Moose::Meta::Attribute::_process_accessors(Moose::Meta::Attribute=HASH(0x559feabb7078), "accessor", "child_rel_pack", undef) called at /tmp/build/Moose-2.2010-7/blib/lib/Class/MOP/Attribute.pm line 446
Class::MOP::Attribute::install_accessors(Moose::Meta::Attribute=HASH(0x559feabb7078)) called at /tmp/build/Moose-2.2010-7/blib/lib/Moose/Meta/Attribute.pm line 1014
Moose::Meta::Attribute::install_accessors(Moose::Meta::Attribute=HASH(0x559feabb7078)) called at /tmp/build/MooseX-RelClassTypes-0.03-21/blib/lib/MooseX/RelClassTypes.pm line 76
Class::MOP::Class:::before("LazyParent::Child") called at /tmp/build/Moose-2.2010-7/blib/lib/Class/MOP/Method/Wrapped.pm line 43
LazyParent::Child::_wrapped_BUILDARGS("LazyParent::Child") called at /tmp/build/Moose-2.2010-7/blib/lib/Class/MOP/Method/Wrapped.pm line 95
LazyParent::Child::BUILDARGS("LazyParent::Child") called at /tmp/build/Moose-2.2010-7/blib/lib/Moose/Object.pm line 22
Moose::Object::new("LazyParent::Child") called at t/03_lazy.t line 248
You are overwriting a accessor (parent_rel_pack) for the parent_rel_pack attribute (defined at t/03_lazy.t line 22) with a new accessor method for the parent_rel_pack attribute (defined at t/03_lazy.t line 22) at /tmp/build/Moose-2.2010-7/blib/lib/Moose/Meta/Attribute.pm line 1094.
Moose::Meta::Attribute::_process_accessors(Moose::Meta::Attribute=HASH(0x559feaba7538), "accessor", "parent_rel_pack", undef) called at /tmp/build/Moose-2.2010-7/blib/lib/Class/MOP/Attribute.pm line 446
Class::MOP::Attribute::install_accessors(Moose::Meta::Attribute=HASH(0x559feaba7538)) called at /tmp/build/Moose-2.2010-7/blib/lib/Moose/Meta/Attribute.pm line 1014
Moose::Meta::Attribute::install_accessors(Moose::Meta::Attribute=HASH(0x559feaba7538)) called at /tmp/build/MooseX-RelClassTypes-0.03-21/blib/lib/MooseX/RelClassTypes.pm line 76
Class::MOP::Class:::before("LazyParent::Child") called at /tmp/build/Moose-2.2010-7/blib/lib/Class/MOP/Method/Wrapped.pm line 43
LazyParent::Parent::_wrapped_BUILDARGS("LazyParent::Child") called at /tmp/build/Moose-2.2010-7/blib/lib/Class/MOP/Method/Wrapped.pm line 95
LazyParent::Parent::BUILDARGS("LazyParent::Child") called at /tmp/build/Moose-2.2010-7/blib/lib/Class/MOP/Method/Wrapped.pm line 44
LazyParent::Child::_wrapped_BUILDARGS("LazyParent::Child") called at /tmp/build/Moose-2.2010-7/blib/lib/Class/MOP/Method/Wrapped.pm line 95
LazyParent::Child::BUILDARGS("LazyParent::Child") called at /tmp/build/Moose-2.2010-7/blib/lib/Moose/Object.pm line 22
Moose::Object::new("LazyParent::Child") called at t/03_lazy.t line 248
You are overwriting a accessor (child_rel_pack) for the child_rel_pack attribute (defined at t/03_lazy.t line 32) with a new accessor method for the child_rel_pack attribute (defined at t/03_lazy.t line 32) at /tmp/build/Moose-2.2010-7/blib/lib/Moose/Meta/Attribute.pm line 1094.
Moose::Meta::Attribute::_process_accessors(Moose::Meta::Attribute=HASH(0x559feabb7078), "accessor", "child_rel_pack", undef) called at /tmp/build/Moose-2.2010-7/blib/lib/Class/MOP/Attribute.pm line 446
Class::MOP::Attribute::install_accessors(Moose::Meta::Attribute=HASH(0x559feabb7078)) called at /tmp/build/Moose-2.2010-7/blib/lib/Moose/Meta/Attribute.pm line 1014
Moose::Meta::Attribute::install_accessors(Moose::Meta::Attribute=HASH(0x559feabb7078)) called at /tmp/build/MooseX-RelClassTypes-0.03-21/blib/lib/MooseX/RelClassTypes.pm line 76
Class::MOP::Class:::before("LazyParent::Child") called at /tmp/build/Moose-2.2010-7/blib/lib/Class/MOP/Method/Wrapped.pm line 43
LazyParent::Parent::_wrapped_BUILDARGS("LazyParent::Child") called at /tmp/build/Moose-2.2010-7/blib/lib/Class/MOP/Method/Wrapped.pm line 95
LazyParent::Parent::BUILDARGS("LazyParent::Child") called at /tmp/build/Moose-2.2010-7/blib/lib/Class/MOP/Method/Wrapped.pm line 44
LazyParent::Child::_wrapped_BUILDARGS("LazyParent::Child") called at /tmp/build/Moose-2.2010-7/blib/lib/Class/MOP/Method/Wrapped.pm line 95
LazyParent::Child::BUILDARGS("LazyParent::Child") called at /tmp/build/Moose-2.2010-7/blib/lib/Moose/Object.pm line 22
Moose::Object::new("LazyParent::Child") called at t/03_lazy.t line 248
You are overwriting a accessor (child_rel_pack) for the child_rel_pack attribute (defined at t/03_lazy.t line 86) with a new accessor method for the child_rel_pack attribute (defined at t/03_lazy.t line 86) at /tmp/build/Moose-2.2010-7/blib/lib/Moose/Meta/Attribute.pm line 1094.
Moose::Meta::Attribute::_process_accessors(Moose::Meta::Attribute=HASH(0x559feabc9190), "accessor", "child_rel_pack", undef) called at /tmp/build/Moose-2.2010-7/blib/lib/Class/MOP/Attribute.pm line 446
Class::MOP::Attribute::install_accessors(Moose::Meta::Attribute=HASH(0x559feabc9190)) called at /tmp/build/Moose-2.2010-7/blib/lib/Moose/Meta/Attribute.pm line 1014
Moose::Meta::Attribute::install_accessors(Moose::Meta::Attribute=HASH(0x559feabc9190)) called at /tmp/build/MooseX-RelClassTypes-0.03-21/blib/lib/MooseX/RelClassTypes.pm line 76
Class::MOP::Class:::before("LazyChild::Child") called at /tmp/build/Moose-2.2010-7/blib/lib/Class/MOP/Method/Wrapped.pm line 43
LazyChild::Child::_wrapped_BUILDARGS("LazyChild::Child") called at /tmp/build/Moose-2.2010-7/blib/lib/Class/MOP/Method/Wrapped.pm line 95
LazyChild::Child::BUILDARGS("LazyChild::Child") called at /tmp/build/Moose-2.2010-7/blib/lib/Moose/Object.pm line 22
Moose::Object::new("LazyChild::Child") called at t/03_lazy.t line 248
You are overwriting a accessor (parent_rel_pack) for the parent_rel_pack attribute (defined at t/03_lazy.t line 66) with a new accessor method for the parent_rel_pack attribute (defined at t/03_lazy.t line 66) at /tmp/build/Moose-2.2010-7/blib/lib/Moose/Meta/Attribute.pm line 1094.
Moose::Meta::Attribute::_process_accessors(Moose::Meta::Attribute=HASH(0x559feabc65a8), "accessor", "parent_rel_pack", undef) called at /tmp/build/Moose-2.2010-7/blib/lib/Class/MOP/Attribute.pm line 446
Class::MOP::Attribute::install_accessors(Moose::Meta::Attribute=HASH(0x559feabc65a8)) called at /tmp/build/Moose-2.2010-7/blib/lib/Moose/Meta/Attribute.pm line 1014
Moose::Meta::Attribute::install_accessors(Moose::Meta::Attribute=HASH(0x559feabc65a8)) called at /tmp/build/MooseX-RelClassTypes-0.03-21/blib/lib/MooseX/RelClassTypes.pm line 76
Class::MOP::Class:::before("LazyChild::Child") called at /tmp/build/Moose-2.2010-7/blib/lib/Class/MOP/Method/Wrapped.pm line 43
LazyChild::Child::_wrapped_BUILDARGS("LazyChild::Child") called at /tmp/build/Moose-2.2010-7/blib/lib/Class/MOP/Method/Wrapped.pm line 95
LazyChild::Child::BUILDARGS("LazyChild::Child") called at /tmp/build/Moose-2.2010-7/blib/lib/Moose/Object.pm line 22
Moose::Object::new("LazyChild::Child") called at t/03_lazy.t line 248
You are overwriting a accessor (child_rel_pack) for the child_rel_pack attribute (defined at t/03_lazy.t line 86) with a new accessor method for the child_rel_pack attribute (defined at t/03_lazy.t line 86) at /tmp/build/Moose-2.2010-7/blib/lib/Moose/Meta/Attribute.pm line 1094.
Moose::Meta::Attribute::_process_accessors(Moose::Meta::Attribute=HASH(0x559feabc9190), "accessor", "child_rel_pack", undef) called at /tmp/build/Moose-2.2010-7/blib/lib/Class/MOP/Attribute.pm line 446
Class::MOP::Attribute::install_accessors(Moose::Meta::Attribute=HASH(0x559feabc9190)) called at /tmp/build/Moose-2.2010-7/blib/lib/Moose/Meta/Attribute.pm line 1014
Moose::Meta::Attribute::install_accessors(Moose::Meta::Attribute=HASH(0x559feabc9190)) called at /tmp/build/MooseX-RelClassTypes-0.03-21/blib/lib/MooseX/RelClassTypes.pm line 76
Class::MOP::Class:::before("LazyChild::Child") called at /tmp/build/Moose-2.2010-7/blib/lib/Class/MOP/Method/Wrapped.pm line 43
LazyChild::Parent::_wrapped_BUILDARGS("LazyChild::Child") called at /tmp/build/Moose-2.2010-7/blib/lib/Class/MOP/Method/Wrapped.pm line 95
LazyChild::Parent::BUILDARGS("LazyChild::Child") called at /tmp/build/Moose-2.2010-7/blib/lib/Class/MOP/Method/Wrapped.pm line 44
LazyChild::Child::_wrapped_BUILDARGS("LazyChild::Child") called at /tmp/build/Moose-2.2010-7/blib/lib/Class/MOP/Method/Wrapped.pm line 95
LazyChild::Child::BUILDARGS("LazyChild::Child") called at /tmp/build/Moose-2.2010-7/blib/lib/Moose/Object.pm line 22
Moose::Object::new("LazyChild::Child") called at t/03_lazy.t line 248
You are overwriting a accessor (parent_rel_pack) for the parent_rel_pack attribute (defined at t/03_lazy.t line 66) with a new accessor method for the parent_rel_pack attribute (defined at t/03_lazy.t line 66) at /tmp/build/Moose-2.2010-7/blib/lib/Moose/Meta/Attribute.pm line 1094.
Moose::Meta::Attribute::_process_accessors(Moose::Meta::Attribute=HASH(0x559feabc65a8), "accessor", "parent_rel_pack", undef) called at /tmp/build/Moose-2.2010-7/blib/lib/Class/MOP/Attribute.pm line 446
Class::MOP::Attribute::install_accessors(Moose::Meta::Attribute=HASH(0x559feabc65a8)) called at /tmp/build/Moose-2.2010-7/blib/lib/Moose/Meta/Attribute.pm line 1014
Moose::Meta::Attribute::install_accessors(Moose::Meta::Attribute=HASH(0x559feabc65a8)) called at /tmp/build/MooseX-RelClassTypes-0.03-21/blib/lib/MooseX/RelClassTypes.pm line 76
Class::MOP::Class:::before("LazyChild::Child") called at /tmp/build/Moose-2.2010-7/blib/lib/Class/MOP/Method/Wrapped.pm line 43
LazyChild::Parent::_wrapped_BUILDARGS("LazyChild::Child") called at /tmp/build/Moose-2.2010-7/blib/lib/Class/MOP/Method/Wrapped.pm line 95
LazyChild::Parent::BUILDARGS("LazyChild::Child") called at /tmp/build/Moose-2.2010-7/blib/lib/Class/MOP/Method/Wrapped.pm line 44
LazyChild::Child::_wrapped_BUILDARGS("LazyChild::Child") called at /tmp/build/Moose-2.2010-7/blib/lib/Class/MOP/Method/Wrapped.pm line 95
LazyChild::Child::BUILDARGS("LazyChild::Child") called at /tmp/build/Moose-2.2010-7/blib/lib/Moose/Object.pm line 22
Moose::Object::new("LazyChild::Child") called at t/03_lazy.t line 248
You are overwriting a accessor (parent_rel_pack) for the parent_rel_pack attribute (defined at t/03_lazy.t line 117) with a new accessor method for the parent_rel_pack attribute (defined at t/03_lazy.t line 117) at /tmp/build/Moose-2.2010-7/blib/lib/Moose/Meta/Attribute.pm line 1094.
Moose::Meta::Attribute::_process_accessors(Moose::Meta::Attribute=HASH(0x559feabe2dd8), "accessor", "parent_rel_pack", undef) called at /tmp/build/Moose-2.2010-7/blib/lib/Class/MOP/Attribute.pm line 446
Class::MOP::Attribute::install_accessors(Moose::Meta::Attribute=HASH(0x559feabe2dd8)) called at /tmp/build/Moose-2.2010-7/blib/lib/Moose/Meta/Attribute.pm line 1014
Moose::Meta::Attribute::install_accessors(Moose::Meta::Attribute=HASH(0x559feabe2dd8)) called at /tmp/build/MooseX-RelClassTypes-0.03-21/blib/lib/MooseX/RelClassTypes.pm line 76
Class::MOP::Class:::before("LazyParam::Child") called at /tmp/build/Moose-2.2010-7/blib/lib/Class/MOP/Method/Wrapped.pm line 43
LazyParam::Child::_wrapped_BUILDARGS("LazyParam::Child") called at /tmp/build/Moose-2.2010-7/blib/lib/Class/MOP/Method/Wrapped.pm line 95
LazyParam::Child::BUILDARGS("LazyParam::Child") called at /tmp/build/Moose-2.2010-7/blib/lib/Moose/Object.pm line 22
Moose::Object::new("LazyParam::Child") called at t/03_lazy.t line 248
You are overwriting a accessor (child_rel_pack) for the child_rel_pack attribute (defined at t/03_lazy.t line 129) with a new accessor method for the child_rel_pack attribute (defined at t/03_lazy.t line 129) at /tmp/build/Moose-2.2010-7/blib/lib/Moose/Meta/Attribute.pm line 1094.
Moose::Meta::Attribute::_process_accessors(Moose::Meta::Attribute=HASH(0x559feabebc08), "accessor", "child_rel_pack", undef) called at /tmp/build/Moose-2.2010-7/blib/lib/Class/MOP/Attribute.pm line 446
Class::MOP::Attribute::install_accessors(Moose::Meta::Attribute=HASH(0x559feabebc08)) called at /tmp/build/Moose-2.2010-7/blib/lib/Moose/Meta/Attribute.pm line 1014
Moose::Meta::Attribute::install_accessors(Moose::Meta::Attribute=HASH(0x559feabebc08)) called at /tmp/build/MooseX-RelClassTypes-0.03-21/blib/lib/MooseX/RelClassTypes.pm line 76
Class::MOP::Class:::before("LazyParam::Child") called at /tmp/build/Moose-2.2010-7/blib/lib/Class/MOP/Method/Wrapped.pm line 43
LazyParam::Child::_wrapped_BUILDARGS("LazyParam::Child") called at /tmp/build/Moose-2.2010-7/blib/lib/Class/MOP/Method/Wrapped.pm line 95
LazyParam::Child::BUILDARGS("LazyParam::Child") called at /tmp/build/Moose-2.2010-7/blib/lib/Moose/Object.pm line 22
Moose::Object::new("LazyParam::Child") called at t/03_lazy.t line 248
You are overwriting a accessor (parent_rel_pack) for the parent_rel_pack attribute (defined at t/03_lazy.t line 117) with a new accessor method for the parent_rel_pack attribute (defined at t/03_lazy.t line 117) at /tmp/build/Moose-2.2010-7/blib/lib/Moose/Meta/Attribute.pm line 1094.
Moose::Meta::Attribute::_process_accessors(Moose::Meta::Attribute=HASH(0x559feabe2dd8), "accessor", "parent_rel_pack", undef) called at /tmp/build/Moose-2.2010-7/blib/lib/Class/MOP/Attribute.pm line 446
Class::MOP::Attribute::install_accessors(Moose::Meta::Attribute=HASH(0x559feabe2dd8)) called at /tmp/build/Moose-2.2010-7/blib/lib/Moose/Meta/Attribute.pm line 1014
Moose::Meta::Attribute::install_accessors(Moose::Meta::Attribute=HASH(0x559feabe2dd8)) called at /tmp/build/MooseX-RelClassTypes-0.03-21/blib/lib/MooseX/RelClassTypes.pm line 76
Class::MOP::Class:::before("LazyParam::Child") called at /tmp/build/Moose-2.2010-7/blib/lib/Class/MOP/Method/Wrapped.pm line 43
LazyParam::Parent::_wrapped_BUILDARGS("LazyParam::Child") called at /tmp/build/Moose-2.2010-7/blib/lib/Class/MOP/Method/Wrapped.pm line 95
LazyParam::Parent::BUILDARGS("LazyParam::Child") called at /tmp/build/Moose-2.2010-7/blib/lib/Class/MOP/Method/Wrapped.pm line 44
LazyParam::Child::_wrapped_BUILDARGS("LazyParam::Child") called at /tmp/build/Moose-2.2010-7/blib/lib/Class/MOP/Method/Wrapped.pm line 95
LazyParam::Child::BUILDARGS("LazyParam::Child") called at /tmp/build/Moose-2.2010-7/blib/lib/Moose/Object.pm line 22
Moose::Object::new("LazyParam::Child") called at t/03_lazy.t line 248
You are overwriting a accessor (child_rel_pack) for the child_rel_pack attribute (defined at t/03_lazy.t line 129) with a new accessor method for the child_rel_pack attribute (defined at t/03_lazy.t line 129) at /tmp/build/Moose-2.2010-7/blib/lib/Moose/Meta/Attribute.pm line 1094.
Moose::Meta::Attribute::_process_accessors(Moose::Meta::Attribute=HASH(0x559feabebc08), "accessor", "child_rel_pack", undef) called at /tmp/build/Moose-2.2010-7/blib/lib/Class/MOP/Attribute.pm line 446
Class::MOP::Attribute::install_accessors(Moose::Meta::Attribute=HASH(0x559feabebc08)) called at /tmp/build/Moose-2.2010-7/blib/lib/Moose/Meta/Attribute.pm line 1014
Moose::Meta::Attribute::install_accessors(Moose::Meta::Attribute=HASH(0x559feabebc08)) called at /tmp/build/MooseX-RelClassTypes-0.03-21/blib/lib/MooseX/RelClassTypes.pm line 76
Class::MOP::Class:::before("LazyParam::Child") called at /tmp/build/Moose-2.2010-7/blib/lib/Class/MOP/Method/Wrapped.pm line 43
LazyParam::Parent::_wrapped_BUILDARGS("LazyParam::Child") called at /tmp/build/Moose-2.2010-7/blib/lib/Class/MOP/Method/Wrapped.pm line 95
LazyParam::Parent::BUILDARGS("LazyParam::Child") called at /tmp/build/Moose-2.2010-7/blib/lib/Class/MOP/Method/Wrapped.pm line 44
LazyParam::Child::_wrapped_BUILDARGS("LazyParam::Child") called at /tmp/build/Moose-2.2010-7/blib/lib/Class/MOP/Method/Wrapped.pm line 95
LazyParam::Child::BUILDARGS("LazyParam::Child") called at /tmp/build/Moose-2.2010-7/blib/lib/Moose/Object.pm line 22
Moose::Object::new("LazyParam::Child") called at t/03_lazy.t line 248
You are overwriting a accessor (parent_rel_pack) for the parent_rel_pack attribute (defined at t/03_lazy.t line 177) with a new accessor method for the parent_rel_pack attribute (defined at t/03_lazy.t line 177) at /tmp/build/Moose-2.2010-7/blib/lib/Moose/Meta/Attribute.pm line 1094.
Moose::Meta::Attribute::_process_accessors(Moose::Meta::Attribute=HASH(0x559feac04bc0), "accessor", "parent_rel_pack", undef) called at /tmp/build/Moose-2.2010-7/blib/lib/Class/MOP/Attribute.pm line 446
Class::MOP::Attribute::install_accessors(Moose::Meta::Attribute=HASH(0x559feac04bc0)) called at /tmp/build/Moose-2.2010-7/blib/lib/Moose/Meta/Attribute.pm line 1014
Moose::Meta::Attribute::install_accessors(Moose::Meta::Attribute=HASH(0x559feac04bc0)) called at /tmp/build/MooseX-RelClassTypes-0.03-21/blib/lib/MooseX/RelClassTypes.pm line 76
Class::MOP::Class:::before("LazyAll::Child") called at /tmp/build/Moose-2.2010-7/blib/lib/Class/MOP/Method/Wrapped.pm line 43
LazyAll::Child::_wrapped_BUILDARGS("LazyAll::Child") called at /tmp/build/Moose-2.2010-7/blib/lib/Class/MOP/Method/Wrapped.pm line 95
LazyAll::Child::BUILDARGS("LazyAll::Child") called at /tmp/build/Moose-2.2010-7/blib/lib/Moose/Object.pm line 22
Moose::Object::new("LazyAll::Child") called at t/03_lazy.t line 248
You are overwriting a accessor (child_rel_pack) for the child_rel_pack attribute (defined at t/03_lazy.t line 194) with a new accessor method for the child_rel_pack attribute (defined at t/03_lazy.t line 194) at /tmp/build/Moose-2.2010-7/blib/lib/Moose/Meta/Attribute.pm line 1094.
Moose::Meta::Attribute::_process_accessors(Moose::Meta::Attribute=HASH(0x559feac0f7f0), "accessor", "child_rel_pack", undef) called at /tmp/build/Moose-2.2010-7/blib/lib/Class/MOP/Attribute.pm line 446
Class::MOP::Attribute::install_accessors(Moose::Meta::Attribute=HASH(0x559feac0f7f0)) called at /tmp/build/Moose-2.2010-7/blib/lib/Moose/Meta/Attribute.pm line 1014
Moose::Meta::Attribute::install_accessors(Moose::Meta::Attribute=HASH(0x559feac0f7f0)) called at /tmp/build/MooseX-RelClassTypes-0.03-21/blib/lib/MooseX/RelClassTypes.pm line 76
Class::MOP::Class:::before("LazyAll::Child") called at /tmp/build/Moose-2.2010-7/blib/lib/Class/MOP/Method/Wrapped.pm line 43
LazyAll::Child::_wrapped_BUILDARGS("LazyAll::Child") called at /tmp/build/Moose-2.2010-7/blib/lib/Class/MOP/Method/Wrapped.pm line 95
LazyAll::Child::BUILDARGS("LazyAll::Child") called at /tmp/build/Moose-2.2010-7/blib/lib/Moose/Object.pm line 22
Moose::Object::new("LazyAll::Child") called at t/03_lazy.t line 248
You are overwriting a accessor (child_rel_pack) for the child_rel_pack attribute (defined at t/03_lazy.t line 194) with a new accessor method for the child_rel_pack attribute (defined at t/03_lazy.t line 194) at /tmp/build/Moose-2.2010-7/blib/lib/Moose/Meta/Attribute.pm line 1094.
Moose::Meta::Attribute::_process_accessors(Moose::Meta::Attribute=HASH(0x559feac0f7f0), "accessor", "child_rel_pack", undef) called at /tmp/build/Moose-2.2010-7/blib/lib/Class/MOP/Attribute.pm line 446
Class::MOP::Attribute::install_accessors(Moose::Meta::Attribute=HASH(0x559feac0f7f0)) called at /tmp/build/Moose-2.2010-7/blib/lib/Moose/Meta/Attribute.pm line 1014
Moose::Meta::Attribute::install_accessors(Moose::Meta::Attribute=HASH(0x559feac0f7f0)) called at /tmp/build/MooseX-RelClassTypes-0.03-21/blib/lib/MooseX/RelClassTypes.pm line 76
Class::MOP::Class:::before("LazyAll::Child") called at /tmp/build/Moose-2.2010-7/blib/lib/Class/MOP/Method/Wrapped.pm line 43
LazyAll::Parent::_wrapped_BUILDARGS("LazyAll::Child") called at /tmp/build/Moose-2.2010-7/blib/lib/Class/MOP/Method/Wrapped.pm line 95
LazyAll::Parent::BUILDARGS("LazyAll::Child") called at /tmp/build/Moose-2.2010-7/blib/lib/Class/MOP/Method/Wrapped.pm line 44
LazyAll::Child::_wrapped_BUILDARGS("LazyAll::Child") called at /tmp/build/Moose-2.2010-7/blib/lib/Class/MOP/Method/Wrapped.pm line 95
LazyAll::Child::BUILDARGS("LazyAll::Child") called at /tmp/build/Moose-2.2010-7/blib/lib/Moose/Object.pm line 22
Moose::Object::new("LazyAll::Child") called at t/03_lazy.t line 248
You are overwriting a accessor (parent_rel_pack) for the parent_rel_pack attribute (defined at t/03_lazy.t line 177) with a new accessor method for the parent_rel_pack attribute (defined at t/03_lazy.t line 177) at /tmp/build/Moose-2.2010-7/blib/lib/Moose/Meta/Attribute.pm line 1094.
Moose::Meta::Attribute::_process_accessors(Moose::Meta::Attribute=HASH(0x559feac04bc0), "accessor", "parent_rel_pack", undef) called at /tmp/build/Moose-2.2010-7/blib/lib/Class/MOP/Attribute.pm line 446
Class::MOP::Attribute::install_accessors(Moose::Meta::Attribute=HASH(0x559feac04bc0)) called at /tmp/build/Moose-2.2010-7/blib/lib/Moose/Meta/Attribute.pm line 1014
Moose::Meta::Attribute::install_accessors(Moose::Meta::Attribute=HASH(0x559feac04bc0)) called at /tmp/build/MooseX-RelClassTypes-0.03-21/blib/lib/MooseX/RelClassTypes.pm line 76
Class::MOP::Class:::before("LazyAll::Child") called at /tmp/build/Moose-2.2010-7/blib/lib/Class/MOP/Method/Wrapped.pm line 43
LazyAll::Parent::_wrapped_BUILDARGS("LazyAll::Child") called at /tmp/build/Moose-2.2010-7/blib/lib/Class/MOP/Method/Wrapped.pm line 95
LazyAll::Parent::BUILDARGS("LazyAll::Child") called at /tmp/build/Moose-2.2010-7/blib/lib/Class/MOP/Method/Wrapped.pm line 44
LazyAll::Child::_wrapped_BUILDARGS("LazyAll::Child") called at /tmp/build/Moose-2.2010-7/blib/lib/Class/MOP/Method/Wrapped.pm line 95
LazyAll::Child::BUILDARGS("LazyAll::Child") called at /tmp/build/Moose-2.2010-7/blib/lib/Moose/Object.pm line 22
Moose::Object::new("LazyAll::Child") called at t/03_lazy.t line 248
t/03_lazy.t .......... ok
All tests successful.
Files=4, Tests=56, 1 wallclock secs ( 0.02 usr 0.01 sys + 0.79 cusr 0.11 csys = 0.93 CPU)
Result: PASS
------------------------------
PREREQUISITES
------------------------------
Prerequisite modules loaded:
requires:
Module Need Have
--------------------------- ---- --------
Carp 0 1.42
Clone 0 0.39
Module::Runtime 0 0.015
Moose 0 2.2010
MooseX::Role::Parameterized 0 1.10
build_requires:
Module Need Have
--------------------------- ---- --------
ExtUtils::MakeMaker 0 7.30
Test::More 0 1.302120
configure_requires:
Module Need Have
--------------------------- ---- --------
ExtUtils::MakeMaker 0 7.30
------------------------------
ENVIRONMENT AND OTHER CONTEXT
------------------------------
Environment variables:
AUTOMATED_TESTING = 1
HARNESS_OPTIONS = j10
LANG = en_GB.UTF-8
PATH = /home/njh/perl5/perlbrew/bin:/home/njh/perl5/perlbrew/perls/perl-5.26.0-64all/bin:src/njh/smoker/bin:/usr/bin:/bin
PERL5LIB = /tmp/build/MooseX-Role-Parameterized-1.10-8/blib/arch:/tmp/build/MooseX-Role-Parameterized-1.10-8/blib/lib:/tmp/build/MooseX-Role-WithOverloading-0.17-8/blib/arch:/tmp/build/MooseX-Role-WithOverloading-0.17-8/blib/lib:/tmp/build/aliased-0.34-7/blib/arch:/tmp/build/aliased-0.34-7/blib/lib:/tmp/build/Module-Build-Tiny-0.039-7/blib/arch:/tmp/build/Module-Build-Tiny-0.039-7/blib/lib:/tmp/build/ExtUtils-InstallPaths-0.011-7/blib/arch:/tmp/build/ExtUtils-InstallPaths-0.011-7/blib/lib:/tmp/build/ExtUtils-Helpers-0.026-7/blib/arch:/tmp/build/ExtUtils-Helpers-0.026-7/blib/lib:/tmp/build/ExtUtils-Config-0.008-7/blib/arch:/tmp/build/ExtUtils-Config-0.008-7/blib/lib:/tmp/build/Moose-2.2010-7/blib/arch:/tmp/build/Moose-2.2010-7/blib/lib:/tmp/build/Package-DeprecationManager-0.17-7/blib/arch:/tmp/build/Package-DeprecationManager-0.17-7/blib/lib:/tmp/build/Sub-Name-0.21-7/blib/arch:/tmp/build/Sub-Name-0.21-7/blib/lib:/tmp/build/Module-Runtime-Conflicts-0.003-6/blib/arch:/tmp/build/Module-Runtime-Conflicts-0.003-6/blib/lib:/tmp/build/Devel-StackTrace-2.03-6/blib/arch:/tmp/build/Devel-StackTrace-2.03-6/blib/lib:/tmp/build/Devel-OverloadInfo-0.005-7/blib/arch:/tmp/build/Devel-OverloadInfo-0.005-7/blib/lib:/tmp/build/Class-Load-XS-0.10-7/blib/arch:/tmp/build/Class-Load-XS-0.10-7/blib/lib:/tmp/build/Log-ger-Manual-0.023.001-21/blib/arch:/tmp/build/Log-ger-Manual-0.023.001-21/blib/lib:/tmp/build/ExtUtils-ModuleMaker-0.57-21/blib/arch:/tmp/build/ExtUtils-ModuleMaker-0.57-21/blib/lib:/tmp/build/File-Path-2.15-9/blib/arch:/tmp/build/File-Path-2.15-9/blib/lib:/tmp/build/File-Copy-Recursive-Reduced-0.006-21/blib/arch:/tmp/build/File-Copy-Recursive-Reduced-0.006-21/blib/lib
PERL5OPT =
PERL5_CPANPLUS_IS_RUNNING = 21817
PERL5_CPAN_IS_RUNNING = 21817
PERLBREW_HOME = /home/njh/.perlbrew
PERLBREW_MANPATH = /home/njh/perl5/perlbrew/perls/perl-5.26.0-64all/man
PERLBREW_PATH = /home/njh/perl5/perlbrew/bin:/home/njh/perl5/perlbrew/perls/perl-5.26.0-64all/bin
PERLBREW_PERL = perl-5.26.0-64all
PERLBREW_ROOT = /home/njh/perl5/perlbrew
PERLBREW_SHELLRC_VERSION = 0.82
PERLBREW_VERSION = 0.82
SHELL = /bin/sh
TMPDIR = /tmp/testwrapper.21807
Perl special variables (and OS-specific diagnostics, for MSWin32):
$^X = /home/njh/perl5/perlbrew/perls/perl-5.26.0-64all/bin/perl5.26.0
$UID/$EUID = 1000 / 1000
$GID = 1000 4 24 25 29 30 44 46 107 112 118 1000
$EGID = 1000 4 24 25 29 30 44 46 107 112 118 1000
Perl module toolchain versions installed:
Module Have
------------------- ----------
CPAN 2.16
CPAN::Meta 2.150010
Cwd 3.67
ExtUtils::CBuilder 0.280225
ExtUtils::Command 7.30
ExtUtils::Install 2.06
ExtUtils::MakeMaker 7.30
ExtUtils::Manifest 1.70
ExtUtils::ParseXS 3.34
File::Spec 3.67
JSON 2.94
JSON::PP 2.27400_02
Module::Build 0.4224
Module::Signature n/a
Parse::CPAN::Meta 2.150010
Test::Harness 3.38
Test::More 1.302120
YAML 1.24
YAML::Syck 1.30
version 0.9917
--
Summary of my perl5 (revision 5 version 26 subversion 0) configuration:
Platform:
osname=linux
osvers=4.12.0-1-amd64
archname=x86_64-linux-thread-multi
uname='linux microcenter 4.12.0-1-amd64 #1 smp debian 4.12.6-1 (2017-08-12) x86_64 gnulinux '
config_args='-de -Dprefix=/home/njh/perl5/perlbrew/perls/perl-5.26.0-64all -Duseithreads -Dusemultiplicity -Dusedevel -Duse64bitall -Accflags=-O2 -W -Wformat=2 -Wswitch -Wshadow -Wwrite-strings -Wuninitialized -Wall -pipe -fomit-frame-pointer -pedantic -D_FORTIFY_SOURCE=2 -Wpointer-arith -Wstrict-prototypes -fstack-protector -Wstack-protector -Wextra -Wbad-function-cast -Wcast-align -Wcast-qual -Wdisabled-optimization -Wendif-labels -Wfloat-equal -Wformat-nonliteral -Winline -Wmissing-declarations -Wmissing-prototypes -Wnested-externs -Wpointer-arith -Wundef -Wformat-security -ftree-vectorize -msse -mfpmath=sse -msse2 -mssse3 -msse4.1 -msse4.2 -fdiagnostics-color=auto -mtune=native -march=native -Aeval:scriptdir=/home/njh/perl5/perlbrew/perls/perl-5.26.0-64all/bin'
hint=recommended
useposix=true
d_sigaction=define
useithreads=define
usemultiplicity=define
use64bitint=define
use64bitall=define
uselongdouble=undef
usemymalloc=n
default_inc_excludes_dot=define
bincompat5005=undef
Compiler:
cc='cc'
ccflags ='-D_REENTRANT -D_GNU_SOURCE -O2 -W -Wformat=2 -Wswitch -Wshadow -Wwrite-strings -Wuninitialized -Wall -pipe -fomit-frame-pointer -pedantic -D_FORTIFY_SOURCE=2 -Wpointer-arith -Wstrict-prototypes -fstack-protector -Wstack-protector -Wextra -Wbad-function-cast -Wcast-align -Wcast-qual -Wdisabled-optimization -Wendif-labels -Wfloat-equal -Wformat-nonliteral -Winline -Wmissing-declarations -Wmissing-prototypes -Wnested-externs -Wpointer-arith -Wundef -Wformat-security -ftree-vectorize -msse -mfpmath=sse -msse2 -mssse3 -msse4.1 -msse4.2 -fdiagnostics-color=auto -mtune=native -march=native -fwrapv -fno-strict-aliasing -fstack-protector-strong -I/usr/local/include -D_LARGEFILE_SOURCE -D_FILE_OFFSET_BITS=64'
optimize='-O2'
cppflags='-D_REENTRANT -D_GNU_SOURCE -O2 -W -Wformat=2 -Wswitch -Wshadow -Wwrite-strings -Wuninitialized -Wall -pipe -fomit-frame-pointer -pedantic -D_FORTIFY_SOURCE=2 -Wpointer-arith -Wstrict-prototypes -fstack-protector -Wstack-protector -Wextra -Wbad-function-cast -Wcast-align -Wcast-qual -Wdisabled-optimization -Wendif-labels -Wfloat-equal -Wformat-nonliteral -Winline -Wmissing-declarations -Wmissing-prototypes -Wnested-externs -Wpointer-arith -Wundef -Wformat-security -ftree-vectorize -msse -mfpmath=sse -msse2 -mssse3 -msse4.1 -msse4.2 -fdiagnostics-color=auto -mtune=native -march=native -fwrapv -fno-strict-aliasing -fstack-protector-strong -I/usr/local/include'
ccversion=''
gccversion='7.2.0'
gccosandvers=''
intsize=4
longsize=8
ptrsize=8
doublesize=8
byteorder=12345678
doublekind=3
d_longlong=define
longlongsize=8
d_longdbl=define
longdblsize=16
longdblkind=3
ivtype='long'
ivsize=8
nvtype='double'
nvsize=8
Off_t='off_t'
lseeksize=8
alignbytes=8
prototype=define
Linker and Libraries:
ld='cc'
ldflags =' -fstack-protector-strong -L/usr/local/lib'
libpth=/usr/local/lib /usr/lib/gcc/x86_64-linux-gnu/7/include-fixed /usr/include/x86_64-linux-gnu /usr/lib /lib/x86_64-linux-gnu /lib/../lib /usr/lib/x86_64-linux-gnu /usr/lib/../lib /lib
libs=-lpthread -lnsl -lgdbm -ldb -ldl -lm -lcrypt -lutil -lc -lgdbm_compat
perllibs=-lpthread -lnsl -ldl -lm -lcrypt -lutil -lc
libc=libc-2.24.so
so=so
useshrplib=false
libperl=libperl.a
gnulibc_version='2.24'
Dynamic Linking:
dlsrc=dl_dlopen.xs
dlext=so
d_dlsymun=undef
ccdlflags='-Wl,-E'
cccdlflags='-fPIC'
lddlflags='-shared -O2 -L/usr/local/lib -fstack-protector-strong'
Characteristics of this binary (from libperl):
Compile-time options:
HAS_TIMES
MULTIPLICITY
PERLIO_LAYERS
PERL_COPY_ON_WRITE
PERL_DONT_CREATE_GVSV
PERL_IMPLICIT_CONTEXT
PERL_MALLOC_WRAP
PERL_OP_PARENT
PERL_PRESERVE_IVUV
PERL_USE_DEVEL
USE_64_BIT_ALL
USE_64_BIT_INT
USE_ITHREADS
USE_LARGE_FILES
USE_LOCALE
USE_LOCALE_COLLATE
USE_LOCALE_CTYPE
USE_LOCALE_NUMERIC
USE_LOCALE_TIME
USE_PERLIO
USE_PERL_ATOF
USE_REENTRANT_API
Built under linux
Compiled at Sep 14 2017 12:48:26
%ENV:
PERL5LIB="/tmp/build/MooseX-Role-Parameterized-1.10-8/blib/arch:/tmp/build/MooseX-Role-Parameterized-1.10-8/blib/lib:/tmp/build/MooseX-Role-WithOverloading-0.17-8/blib/arch:/tmp/build/MooseX-Role-WithOverloading-0.17-8/blib/lib:/tmp/build/aliased-0.34-7/blib/arch:/tmp/build/aliased-0.34-7/blib/lib:/tmp/build/Module-Build-Tiny-0.039-7/blib/arch:/tmp/build/Module-Build-Tiny-0.039-7/blib/lib:/tmp/build/ExtUtils-InstallPaths-0.011-7/blib/arch:/tmp/build/ExtUtils-InstallPaths-0.011-7/blib/lib:/tmp/build/ExtUtils-Helpers-0.026-7/blib/arch:/tmp/build/ExtUtils-Helpers-0.026-7/blib/lib:/tmp/build/ExtUtils-Config-0.008-7/blib/arch:/tmp/build/ExtUtils-Config-0.008-7/blib/lib:/tmp/build/Moose-2.2010-7/blib/arch:/tmp/build/Moose-2.2010-7/blib/lib:/tmp/build/Package-DeprecationManager-0.17-7/blib/arch:/tmp/build/Package-DeprecationManager-0.17-7/blib/lib:/tmp/build/Sub-Name-0.21-7/blib/arch:/tmp/build/Sub-Name-0.21-7/blib/lib:/tmp/build/Module-Runtime-Conflicts-0.003-6/blib/arch:/tmp/build/Module-Runtime-Conflicts-0.003-6/blib/lib:/tmp/build/Devel-StackTrace-2.03-6/blib/arch:/tmp/build/Devel-StackTrace-2.03-6/blib/lib:/tmp/build/Devel-OverloadInfo-0.005-7/blib/arch:/tmp/build/Devel-OverloadInfo-0.005-7/blib/lib:/tmp/build/Class-Load-XS-0.10-7/blib/arch:/tmp/build/Class-Load-XS-0.10-7/blib/lib:/tmp/build/Log-ger-Manual-0.023.001-21/blib/arch:/tmp/build/Log-ger-Manual-0.023.001-21/blib/lib:/tmp/build/ExtUtils-ModuleMaker-0.57-21/blib/arch:/tmp/build/ExtUtils-ModuleMaker-0.57-21/blib/lib:/tmp/build/File-Path-2.15-9/blib/arch:/tmp/build/File-Path-2.15-9/blib/lib:/tmp/build/File-Copy-Recursive-Reduced-0.006-21/blib/arch:/tmp/build/File-Copy-Recursive-Reduced-0.006-21/blib/lib"
PERL5OPT=""
PERL5_CPANPLUS_IS_RUNNING="21817"
PERL5_CPAN_IS_RUNNING="21817"
PERLBREW_HOME="/home/njh/.perlbrew"
PERLBREW_MANPATH="/home/njh/perl5/perlbrew/perls/perl-5.26.0-64all/man"
PERLBREW_PATH="/home/njh/perl5/perlbrew/bin:/home/njh/perl5/perlbrew/perls/perl-5.26.0-64all/bin"
PERLBREW_PERL="perl-5.26.0-64all"
PERLBREW_ROOT="/home/njh/perl5/perlbrew"
PERLBREW_SHELLRC_VERSION="0.82"
PERLBREW_VERSION="0.82"
@INC:
/tmp/build/MooseX-Role-Parameterized-1.10-8/blib/arch
/tmp/build/MooseX-Role-Parameterized-1.10-8/blib/lib
/tmp/build/MooseX-Role-WithOverloading-0.17-8/blib/arch
/tmp/build/MooseX-Role-WithOverloading-0.17-8/blib/lib
/tmp/build/aliased-0.34-7/blib/arch
/tmp/build/aliased-0.34-7/blib/lib
/tmp/build/Module-Build-Tiny-0.039-7/blib/arch
/tmp/build/Module-Build-Tiny-0.039-7/blib/lib
/tmp/build/ExtUtils-InstallPaths-0.011-7/blib/arch
/tmp/build/ExtUtils-InstallPaths-0.011-7/blib/lib
/tmp/build/ExtUtils-Helpers-0.026-7/blib/arch
/tmp/build/ExtUtils-Helpers-0.026-7/blib/lib
/tmp/build/ExtUtils-Config-0.008-7/blib/arch
/tmp/build/ExtUtils-Config-0.008-7/blib/lib
/tmp/build/Moose-2.2010-7/blib/arch
/tmp/build/Moose-2.2010-7/blib/lib
/tmp/build/Package-DeprecationManager-0.17-7/blib/arch
/tmp/build/Package-DeprecationManager-0.17-7/blib/lib
/tmp/build/Sub-Name-0.21-7/blib/arch
/tmp/build/Sub-Name-0.21-7/blib/lib
/tmp/build/Module-Runtime-Conflicts-0.003-6/blib/arch
/tmp/build/Module-Runtime-Conflicts-0.003-6/blib/lib
/tmp/build/Devel-StackTrace-2.03-6/blib/arch
/tmp/build/Devel-StackTrace-2.03-6/blib/lib
/tmp/build/Devel-OverloadInfo-0.005-7/blib/arch
/tmp/build/Devel-OverloadInfo-0.005-7/blib/lib
/tmp/build/Class-Load-XS-0.10-7/blib/arch
/tmp/build/Class-Load-XS-0.10-7/blib/lib
/tmp/build/Log-ger-Manual-0.023.001-21/blib/arch
/tmp/build/Log-ger-Manual-0.023.001-21/blib/lib
/tmp/build/ExtUtils-ModuleMaker-0.57-21/blib/arch
/tmp/build/ExtUtils-ModuleMaker-0.57-21/blib/lib
/tmp/build/File-Path-2.15-9/blib/arch
/tmp/build/File-Path-2.15-9/blib/lib
/tmp/build/File-Copy-Recursive-Reduced-0.006-21/blib/arch
/tmp/build/File-Copy-Recursive-Reduced-0.006-21/blib/lib
/home/njh/perl5/perlbrew/perls/perl-5.26.0-64all/lib/site_perl/5.26.0/x86_64-linux-thread-multi
/home/njh/perl5/perlbrew/perls/perl-5.26.0-64all/lib/site_perl/5.26.0
/home/njh/perl5/perlbrew/perls/perl-5.26.0-64all/lib/5.26.0/x86_64-linux-thread-multi
/home/njh/perl5/perlbrew/perls/perl-5.26.0-64all/lib/5.26.0