Report for HPC-Runner-Command-Plugin-Logger-Sqlite-0.0.4

Back
From: metabase:user:320bfe00-2aae-11df-837a-5e0a49663a4f
Subject: PASS HPC-Runner-Command-Plugin-Logger-Sqlite-0.0.4 v5.14.4 GNU/Linux
Date: 2017-05-01T07:11:36Z

This distribution has been tested as part of the CPAN Testers
project, supporting the Perl programming language.  See
http://wiki.cpantesters.org/ for more information or email
questions to cpan-testers-discuss@perl.org


--
Dear Jillian Rowe,

This is a computer-generated report for HPC-Runner-Command-Plugin-Logger-Sqlite-0.0.4
on perl 5.14.4, created by CPAN-Reporter-1.2018.

Thank you for uploading your work to CPAN.  Congratulations!
All tests were successful.

Sections of this report:

    * Tester comments
    * Program output
    * Prerequisites
    * Environment and other context

------------------------------
TESTER COMMENTS
------------------------------

Additional comments from tester:

this report is from an automated smoke testing program
and was not reviewed by a human for accuracy

------------------------------
PROGRAM OUTPUT
------------------------------

Output from './Build test':

t/author-pod-syntax.t .. skipped: these tests are for testing by the author
t/basic.t .............. ok
[2017/05/01 07:11:07] Loaded plugin Dummy 
[2017/05/01 07:11:07] Loaded plugin Logger::Sqlite 
[2017/05/01 07:11:08] Saving to sqlite db as submission id : 1 
[2017/05/01 07:11:08] Here is your tabular dependency list in alphabetical order 
[2017/05/01 07:11:08] 

.--------------------------------.
| JobName    | Deps | Task Count |
+------------+------+------------+
| hpcjob_001 |      |          4 |
'------------+------+------------'
 
[2017/05/01 07:11:08] Beginning to submit jobs to the scheduler 
[2017/05/01 07:11:08] Schedule is hpcjob_001
 
[2017/05/01 07:11:08] Submitting all hpcjob_001 job types 
[2017/05/01 07:11:08] SUBMITTING DUMMY JOB /tmp/hpcrunner/beXU4Tnr/hpc-runner/0.01/scratch/001_hpcjob_001.sh
	With dummy jobid 1234 
[2017/05/01 07:11:08] There are 4 tasks for job type hpcjob_001 
[2017/05/01 07:11:08] Submitted in 1 job arrays.
 
[2017/05/01 07:11:08] Job Summary 
[2017/05/01 07:11:08] 
.--------------------------------------------------------.
| Job Name   | Scheduler ID | Task Indices | Total Tasks |
+------------+--------------+--------------+-------------+
| hpcjob_001 |         1234 | 1-4          |           4 |
'------------+--------------+--------------+-------------'
 
[2017/05/01 07:11:09] Loaded plugin Logger::Sqlite 
t/test_class_tests.t ... ok
All tests successful.
Files=3, Tests=2, 23 wallclock secs ( 0.02 usr  0.02 sys +  2.92 cusr  1.96 csys =  4.92 CPU)
Result: PASS

------------------------------
PREREQUISITES
------------------------------

Prerequisite modules loaded:

requires:

    Module                     Need  Have    
    -------------------------- ----- --------
    base                       0     2.23    
    Cwd                        0     3.62    
    Data::Dumper               0     2.161   
    DateTime                   0     1.42    
    DBIx::Class::Core          0     0       
    DBIx::Class::Schema        0     0       
    HPC::Runner::Command       0     3.1.5   
    JSON                       0     2.90    
    JSON::XS                   0     3.03    
    Log::Log4perl              0     1.49    
    Moose::Role                0     2.2004  
    MooseX::App::Command       0     0       
    strict                     0     1.04    
    Text::ASCIITable           0     0.22    
    utf8                       0     1.09    
    warnings                   0     1.12    

build_requires:

    Module                     Need  Have    
    -------------------------- ----- --------
    Capture::Tiny              0     0.46    
    File::Path                 0     2.12_005
    File::Slurp                0     9999.19 
    File::Spec::Functions      0     3.62    
    FindBin                    0     1.50    
    IPC::Cmd                   0     0.96    
    Slurp                      0     0.4     
    Test::Class::Moose         0     0.82    
    Test::Class::Moose::Load   0     0.82    
    Test::Class::Moose::Runner 0     0.82    
    Test::More                 0     1.302078

configure_requires:

    Module                     Need  Have    
    -------------------------- ----- --------
    Module::Build::Tiny        0.034 0.039   


------------------------------
ENVIRONMENT AND OTHER CONTEXT
------------------------------

Environment variables:

    AUTOMATED_TESTING = 1
    LANG = en_US.UTF-8
    PATH = /home/sand/bin:/usr/local/bin:/usr/bin:/bin:/usr/games:/usr/local/perl/bin:/usr/X11/bin:/sbin:/usr/sbin
    PERL5LIB = 
    PERL5OPT = 
    PERL5_CPANPLUS_IS_RUNNING = 1769
    PERL5_CPAN_IS_RUNNING = 1769
    PERL_CANARY_STABILITY_NOPROMPT = 1
    PERL_MM_USE_DEFAULT = 1
    PERL_USE_UNSAFE_INC = 1
    SHELL = /usr/bin/zsh
    TERM = screen

Perl special variables (and OS-specific diagnostics, for MSWin32):

    $^X = /home/sand/src/perl/repoperls/installed-perls/host/k93msid/v5.14.4/0a29/bin/perl
    $UID/$EUID = 1005 / 1005
    $GID = 1005 1005
    $EGID = 1005 1005

Perl module toolchain versions installed:

    Module              Have    
    ------------------- --------
    CPAN                2.18    
    CPAN::Meta          2.150010
    Cwd                 3.62    
    ExtUtils::CBuilder  0.280224
    ExtUtils::Command   7.24    
    ExtUtils::Install   1.56    
    ExtUtils::MakeMaker 7.24    
    ExtUtils::Manifest  1.70    
    ExtUtils::ParseXS   3.30    
    File::Spec          3.62    
    JSON                2.90    
    JSON::PP            2.27400 
    Module::Build       0.4222  
    Module::Signature   0.81    
    Parse::CPAN::Meta   2.150010
    Test::Harness       3.39    
    Test::More          1.302078
    YAML                1.23    
    YAML::Syck          1.29    
    version             0.9917  


--

Summary of my perl5 (revision 5 version 14 subversion 4) configuration:
  Derived from: 26c5c13a4ece9084f310610bb17fb2f24c72a73e
  Platform:
    osname=linux, osvers=4.9.0-2-amd64, archname=x86_64-linux-ld
    uname='linux k93msid 4.9.0-2-amd64 #1 smp debian 4.9.18-1 (2017-03-30) x86_64 gnulinux '
    config_args='-Dprefix=/home/sand/src/perl/repoperls/installed-perls/host/k93msid/v5.14.4/0a29 -Dmyhostname=k93msid -Dinstallusrbinperl=n -Uversiononly -Dusedevel -des -Ui_db -Dlibswanted=cl pthread socket inet nsl gdbm dbm malloc dl ld sun m crypt sec util c cposix posix ucb BSD gdbm_compat -Uuseithreads -Duselongdouble -DDEBUGGING=both'
    hint=recommended, useposix=true, d_sigaction=define
    useithreads=undef, usemultiplicity=undef
    useperlio=define, d_sfio=undef, uselargefiles=define, usesocks=undef
    use64bitint=define, use64bitall=define, uselongdouble=define
    usemymalloc=n, bincompat5005=undef
  Compiler:
    cc='cc', ccflags ='-DDEBUGGING -fno-strict-aliasing -pipe -fstack-protector -I/usr/local/include -D_LARGEFILE_SOURCE -D_FILE_OFFSET_BITS=64',
    optimize='-O2 -g',
    cppflags='-DDEBUGGING -fno-strict-aliasing -pipe -fstack-protector -I/usr/local/include'
    ccversion='', gccversion='6.3.0 20170406', gccosandvers=''
    intsize=4, longsize=8, ptrsize=8, doublesize=8, byteorder=12345678
    d_longlong=define, longlongsize=8, d_longdbl=define, longdblsize=16
    ivtype='long', ivsize=8, nvtype='long double', nvsize=16, Off_t='off_t', lseeksize=8
    alignbytes=16, prototype=define
  Linker and Libraries:
    ld='cc', ldflags =' -fstack-protector -L/usr/local/lib'
    libpth=/usr/local/lib /lib/x86_64-linux-gnu /lib/../lib /usr/lib/x86_64-linux-gnu /usr/lib/../lib /lib /usr/lib
    libs=-lpthread -lnsl -ldl -lm -lcrypt -lutil -lc
    perllibs=-lpthread -lnsl -ldl -lm -lcrypt -lutil -lc
    libc=libc-2.24.so, so=so, useshrplib=false, libperl=libperl.a
    gnulibc_version='2.24'
  Dynamic Linking:
    dlsrc=dl_dlopen.xs, dlext=so, d_dlsymun=undef, ccdlflags='-Wl,-E'
    cccdlflags='-fPIC', lddlflags='-shared -O2 -g -L/usr/local/lib -fstack-protector'


Characteristics of this binary (from libperl): 
  Compile-time options: DEBUGGING PERL_DONT_CREATE_GVSV PERL_MALLOC_WRAP
                        PERL_PRESERVE_IVUV PERL_USE_DEVEL USE_64_BIT_ALL
                        USE_64_BIT_INT USE_LARGE_FILES USE_LONG_DOUBLE
                        USE_PERLIO USE_PERL_ATOF
  Locally applied patches:
	uncommitted-changes
  Built under linux
  Compiled at Apr 14 2017 07:06:49
  %ENV:
    PERL5LIB=""
    PERL5OPT=""
    PERL5_CPANPLUS_IS_RUNNING="1769"
    PERL5_CPAN_IS_RUNNING="1769"
    PERL_CANARY_STABILITY_NOPROMPT="1"
    PERL_MM_USE_DEFAULT="1"
    PERL_USE_UNSAFE_INC="1"
  @INC:
    /home/sand/src/perl/repoperls/installed-perls/host/k93msid/v5.14.4/0a29/lib/site_perl/5.14.4/x86_64-linux-ld
    /home/sand/src/perl/repoperls/installed-perls/host/k93msid/v5.14.4/0a29/lib/site_perl/5.14.4
    /home/sand/src/perl/repoperls/installed-perls/host/k93msid/v5.14.4/0a29/lib/5.14.4/x86_64-linux-ld
    /home/sand/src/perl/repoperls/installed-perls/host/k93msid/v5.14.4/0a29/lib/5.14.4
    .