HTML-Formatter v2.16 Perl 5 v5.16.1 darwin-2level

Status
Pass
From
Neil Bowers
Dist
HTML-Formatter v2.16
Platform
Perl 5 v5.16.1 darwin-2level
Date
2021-06-08 11:33:57
ID
69974bf6-c84d-11eb-a285-83afed01cbbc
This distribution has been tested as part of the CPAN Testers
project, supporting the Perl programming language.  See
http://wiki.cpantesters.org/ for more information or email
questions to cpan-testers-discuss@perl.org


--
Dear Nigel Metheringham,

This is a computer-generated report for HTML-Formatter-2.16
on perl 5.16.1, created by CPAN-Reporter-1.2018.

Thank you for uploading your work to CPAN.  Congratulations!
All tests were successful.

Sections of this report:

    * Tester comments
    * Program output
    * Prerequisites
    * Environment and other context

------------------------------
TESTER COMMENTS
------------------------------

Additional comments from tester:

none provided

------------------------------
PROGRAM OUTPUT
------------------------------

Output from '/usr/bin/make test':

PERL_DL_NONLAZY=1 "/usr/local/perl/5161/bin/perl" "-MExtUtils::Command::MM" "-MTest::Harness" "-e" "undef *Test::Harness::Switches; test_harness(0, 'blib/lib', 'blib/arch')" t/*.t
t/00-compile.t ............... ok
# 
# Versions for all modules listed in MYMETA.json (including optional ones):
# 
# === Configure Requires ===
# 
#     Module              Want Have
#     ------------------- ---- ----
#     ExtUtils::MakeMaker  any 7.62
# 
# === Build Requires ===
# 
#     Module              Want Have
#     ------------------- ---- ----
#     ExtUtils::MakeMaker  any 7.62
# 
# === Test Requires ===
# 
#     Module              Want     Have
#     ------------------- ---- --------
#     ExtUtils::MakeMaker  any     7.62
#     File::Slurper        any    0.012
#     File::Spec           any     3.47
#     FindBin              any     1.51
#     IO::Handle           any     1.33
#     IPC::Open3           any     1.12
#     Test::More          0.96 1.302177
#     Test::Warnings       any    0.021
#     blib                1.01     1.06
#     bytes                any     1.04
#     lib                  any     0.63
# 
# === Test Recommends ===
# 
#     Module         Want     Have
#     ---------- -------- --------
#     CPAN::Meta 2.120900 2.143240
# 
# === Runtime Requires ===
# 
#     Module                              Want  Have
#     ----------------------------------- ---- -----
#     Carp                                 any  1.38
#     Data::Dumper                         any 2.181
#     Encode                               any  3.10
#     Font::Metrics::Courier               any undef
#     Font::Metrics::CourierBold           any undef
#     Font::Metrics::CourierBoldOblique    any undef
#     Font::Metrics::CourierOblique        any undef
#     Font::Metrics::Helvetica             any undef
#     Font::Metrics::HelveticaBold         any undef
#     Font::Metrics::HelveticaBoldOblique  any undef
#     Font::Metrics::HelveticaOblique      any undef
#     Font::Metrics::TimesBold             any undef
#     Font::Metrics::TimesBoldItalic       any undef
#     Font::Metrics::TimesItalic           any undef
#     Font::Metrics::TimesRoman            any undef
#     HTML::Element                       3.15  5.03
#     HTML::TreeBuilder                    any  5.03
#     IO::File                             any  1.16
#     base                                 any  2.18
#     integer                              any  1.00
#     parent                               any 0.225
#     strict                               any  1.07
#     utf8                                 any  1.09
#     warnings                             any  1.13
# 
t/00-report-prereqs.t ........ ok
t/01_ps.t .................... ok
t/02_rtf.t ................... ok
t/03_text.t .................. ok
t/04_md.t .................... ok
t/author-critic.t ............ skipped: these tests are for testing by the author
t/author-eol.t ............... skipped: these tests are for testing by the author
t/author-no-tabs.t ........... skipped: these tests are for testing by the author
t/author-pod-spell.t ......... skipped: these tests are for testing by the author
t/author-pod-syntax.t ........ skipped: these tests are for testing by the author
t/author-portability.t ....... skipped: these tests are for testing by the author
t/author-synopsis.t .......... skipped: these tests are for testing by the author
t/release-dist-manifest.t .... skipped: these tests are for release candidate testing
t/release-distmeta.t ......... skipped: these tests are for release candidate testing
t/release-has-version.t ...... skipped: these tests are for release candidate testing
t/release-minimum-version.t .. skipped: these tests are for release candidate testing
t/release-unused-vars.t ...... skipped: these tests are for release candidate testing
t/rt111783.t ................. ok
t/rt69426.t .................. ok
All tests successful.
Files=20, Tests=94,  1 wallclock secs ( 0.06 usr  0.03 sys +  0.80 cusr  0.17 csys =  1.06 CPU)
Result: PASS

------------------------------
PREREQUISITES
------------------------------

Prerequisite modules loaded:

requires:

    Module                              Need  Have    
    ----------------------------------- ----- --------
    base                                0     2.18    
    Carp                                0     1.38    
    Data::Dumper                        0     2.181   
    Encode                              0     3.10    
    Font::Metrics::Courier              0     0       
    Font::Metrics::CourierBold          0     0       
    Font::Metrics::CourierBoldOblique   0     0       
    Font::Metrics::CourierOblique       0     0       
    Font::Metrics::Helvetica            0     0       
    Font::Metrics::HelveticaBold        0     0       
    Font::Metrics::HelveticaBoldOblique 0     0       
    Font::Metrics::HelveticaOblique     0     0       
    Font::Metrics::TimesBold            0     0       
    Font::Metrics::TimesBoldItalic      0     0       
    Font::Metrics::TimesItalic          0     0       
    Font::Metrics::TimesRoman           0     0       
    HTML::Element                       3.15  5.03    
    HTML::TreeBuilder                   0     5.03    
    integer                             0     1.00    
    IO::File                            0     1.16    
    parent                              0     0.225   
    perl                                5.008 5.016001
    strict                              0     1.07    
    utf8                                0     1.09    
    warnings                            0     1.13    

build_requires:

    Module                              Need  Have    
    ----------------------------------- ----- --------
    blib                                1.01  1.06    
    bytes                               0     1.04    
    ExtUtils::MakeMaker                 0     7.62    
    File::Slurper                       0     0.012   
    File::Spec                          0     3.47    
    FindBin                             0     1.51    
    IO::Handle                          0     1.33    
    IPC::Open3                          0     1.12    
    lib                                 0     0.63    
    Test::More                          0.96  1.302177
    Test::Warnings                      0     0.021   

configure_requires:

    Module                              Need  Have    
    ----------------------------------- ----- --------
    ExtUtils::MakeMaker                 0     7.62    


------------------------------
ENVIRONMENT AND OTHER CONTEXT
------------------------------

Environment variables:

    PATH = /usr/local/apache/bin:/usr/local/bin:/usr/local/bin:/usr/bin:/bin:/usr/sbin:/sbin:/Applications/VMware Fusion.app/Contents/Public:/usr/local/go/bin:/opt/X11/bin:/usr/local/git/bin
    PERL5LIB = 
    PERL5OPT = 
    PERL5_CPANPLUS_IS_RUNNING = 78993
    PERL5_CPAN_IS_RUNNING = 78993
    SHELL = /bin/sh
    TERM = xterm

Perl special variables (and OS-specific diagnostics, for MSWin32):

    $^X = /usr/local/perl/5161/bin/perl
    $UID/$EUID = 0 / 0
    $GID = 0 0 1 2 3 4 5 8 9 12 20 29 61 80 701 702 33
    $EGID = 0 0 1 2 3 4 5 8 9 12 20 29 61 80 701 702 33

Perl module toolchain versions installed:

    Module              Have    
    ------------------- --------
    CPAN                1.9800  
    CPAN::Meta          2.143240
    Cwd                 3.47    
    ExtUtils::CBuilder  0.280206
    ExtUtils::Command   7.62    
    ExtUtils::Install   2.06    
    ExtUtils::MakeMaker 7.62    
    ExtUtils::Manifest  1.70    
    ExtUtils::ParseXS   3.35    
    File::Spec          3.47    
    JSON                2.90    
    JSON::PP            2.27203 
    Module::Build       0.4231  
    Module::Signature   n/a     
    Parse::CPAN::Meta   1.4414  
    Test::Harness       3.31    
    Test::More          1.302177
    YAML                1.30    
    YAML::Syck          n/a     
    version             0.9929  


--

Summary of my perl5 (revision 5 version 16 subversion 1) configuration:
   
  Platform:
    osname=darwin, osvers=12.5.0, archname=darwin-2level
    uname='darwin tucumcari.local 12.5.0 darwin kernel version 12.5.0: sun sep 29 13:33:47 pdt 2013; root:xnu-2050.48.12~1release_x86_64 x86_64 '
    config_args='-Dprefix=/usr/local/perl/5161'
    hint=recommended, useposix=true, d_sigaction=define
    useithreads=undef, usemultiplicity=undef
    useperlio=define, d_sfio=undef, uselargefiles=define, usesocks=undef
    use64bitint=define, use64bitall=define, uselongdouble=undef
    usemymalloc=n, bincompat5005=undef
  Compiler:
    cc='gcc', ccflags ='-fno-common -DPERL_DARWIN -fno-strict-aliasing -pipe -fstack-protector -I/usr/local/include -I/opt/local/include',
    optimize='-O3',
    cppflags='-fno-common -DPERL_DARWIN -fno-strict-aliasing -pipe -fstack-protector -I/usr/local/include -I/opt/local/include'
    ccversion='', gccversion='4.2.1 (Based on Apple Inc. build 5658) (LLVM build 2336.11.00)', gccosandvers=''
    intsize=4, longsize=8, ptrsize=8, doublesize=8, byteorder=12345678
    d_longlong=define, longlongsize=8, d_longdbl=define, longdblsize=16
    ivtype='long', ivsize=8, nvtype='double', nvsize=8, Off_t='off_t', lseeksize=8
    alignbytes=8, prototype=define
  Linker and Libraries:
    ld='env MACOSX_DEPLOYMENT_TARGET=10.3 gcc', ldflags =' -fstack-protector -L/usr/local/lib -L/opt/local/lib'
    libpth=/usr/local/lib /opt/local/lib /usr/lib
    libs=-lgdbm -ldbm -ldl -lm -lutil -lc
    perllibs=-ldl -lm -lutil -lc
    libc=, so=dylib, useshrplib=false, libperl=libperl.a
    gnulibc_version=''
  Dynamic Linking:
    dlsrc=dl_dlopen.xs, dlext=bundle, d_dlsymun=undef, ccdlflags=' '
    cccdlflags=' ', lddlflags=' -bundle -undefined dynamic_lookup -L/usr/local/lib -L/opt/local/lib -fstack-protector'


Characteristics of this binary (from libperl): 
  Compile-time options: HAS_TIMES PERLIO_LAYERS PERL_DONT_CREATE_GVSV
                        PERL_MALLOC_WRAP PERL_PRESERVE_IVUV USE_64_BIT_ALL
                        USE_64_BIT_INT USE_LARGE_FILES USE_LOCALE
                        USE_LOCALE_COLLATE USE_LOCALE_CTYPE
                        USE_LOCALE_NUMERIC USE_PERLIO USE_PERL_ATOF
  Built under darwin
  Compiled at Jun 10 2014 14:43:28
  %ENV:
    PERL5LIB=""
    PERL5OPT=""
    PERL5_CPANPLUS_IS_RUNNING="78993"
    PERL5_CPAN_IS_RUNNING="78993"
  @INC:
    /usr/local/perl/5161/lib/site_perl/5.16.1/darwin-2level
    /usr/local/perl/5161/lib/site_perl/5.16.1
    /usr/local/perl/5161/lib/5.16.1/darwin-2level
    /usr/local/perl/5161/lib/5.16.1
    .