Back
From: metabase:user:314402c4-2aae-11df-837a-5e0a49663a4f
Subject: PASS Swagger2-0.89 v5.22.3 GNU/Linux
Date: 2017-01-19T16:43:31Z
This distribution has been tested as part of the CPAN Testers
project, supporting the Perl programming language. See
http://wiki.cpantesters.org/ for more information or email
questions to cpan-testers-discuss@perl.org
--
Dear Martin Renvoize,
This is a computer-generated report for Swagger2-0.89
on perl 5.22.3, created by CPAN-Reporter-1.2018.
Thank you for uploading your work to CPAN. Congratulations!
All tests were successful.
Sections of this report:
* Tester comments
* Program output
* Prerequisites
* Environment and other context
------------------------------
TESTER COMMENTS
------------------------------
Additional comments from tester:
none provided
------------------------------
PROGRAM OUTPUT
------------------------------
Output from '/usr/bin/make test':
PERL_DL_NONLAZY=1 "/opt/perl-5.22.3/bin/perl5.22.3" "-MExtUtils::Command::MM" "-MTest::Harness" "-e" "undef *Test::Harness::Switches; test_harness(0, 'blib/lib', 'blib/arch')" t/*.t
Mojolicious::Plugin::Swagger2 is deprecated in favor of Mojolicious::Plugin::OpenAPI at (eval 96) line 1.
# Swagger2::SchemaValidator is deprecated in favor of JSON::Validator::OpenAPI at /home/cpansand/.cpan/build/2017011915/Swagger2-0.89-gR7dNf/blib/lib/Swagger2/SchemaValidator.pm line 3.
t/00-basic.t .......................... ok
Mojolicious::Plugin::Swagger2 is deprecated in favor of Mojolicious::Plugin::OpenAPI at (eval 92) line 1.
t/around-action.t ..................... ok
Mojolicious::Plugin::Swagger2 is deprecated in favor of Mojolicious::Plugin::OpenAPI at (eval 92) line 1.
t/authenticate.t ...................... ok
t/blog.t .............................. skipped: BLOG_PG_URL=postgresql://postgres@/test
Mojolicious::Plugin::Swagger2 is deprecated in favor of Mojolicious::Plugin::OpenAPI at (eval 92) line 1.
t/bodytest.t .......................... ok
Mojolicious::Plugin::Swagger2 is deprecated in favor of Mojolicious::Plugin::OpenAPI at (eval 92) line 1.
t/boolean-in-url.t .................... ok
Mojolicious::Plugin::Swagger2 is deprecated in favor of Mojolicious::Plugin::OpenAPI at (eval 119) line 1.
t/client-return-on-error.t ............ ok
Mojolicious::Plugin::Swagger2 is deprecated in favor of Mojolicious::Plugin::OpenAPI at (eval 121) line 1.
t/client-with-swagger.t ............... ok
Mojolicious::Plugin::Swagger2 is deprecated in favor of Mojolicious::Plugin::OpenAPI at (eval 119) line 1.
t/client.t ............................ ok
Mojolicious::Plugin::Swagger2 is deprecated in favor of Mojolicious::Plugin::OpenAPI at (eval 92) line 1.
t/collection-format.t ................. ok
t/command-client.t .................... ok
Mojolicious::Plugin::Swagger2 is deprecated in favor of Mojolicious::Plugin::OpenAPI at (eval 92) line 1.
t/discriminator.t ..................... ok
Mojo::Util::slurp is DEPRECATED in favor of Mojo::File::slurp at /opt/perl-5.22.3/lib/site_perl/5.22.3/Mojo/Server.pm line 17.
Mojo::Util::slurp is DEPRECATED in favor of Mojo::File::slurp at /opt/perl-5.22.3/lib/site_perl/5.22.3/Mojo/Util.pm line 253.
Mojo::Util::slurp("t/data/petstore.json") called at t/editor.t line 19
Mojo::Util::spurt is DEPRECATED in favor of Mojo::File::spurt at /opt/perl-5.22.3/lib/site_perl/5.22.3/Mojolicious/Plugins.pm line 15.
Mojo::Util::spurt is DEPRECATED in favor of Mojo::File::spurt at /opt/perl-5.22.3/lib/site_perl/5.22.3/Mojolicious/Plugins.pm line 15.
t/editor.t ............................ ok
Mojolicious::Plugin::Swagger2 is deprecated in favor of Mojolicious::Plugin::OpenAPI at (eval 92) line 1.
t/emtpy-response.t .................... ok
Mojolicious::Plugin::Swagger2 is deprecated in favor of Mojolicious::Plugin::OpenAPI at (eval 92) line 1.
t/ensure-swagger-response.t ........... ok
t/example-json-patch.t ................ skipped: TEST_ONLINE=1
Mojolicious::Plugin::Swagger2 is deprecated in favor of Mojolicious::Plugin::OpenAPI at (eval 92) line 1.
t/example-lowercase-request-params.t .. ok
t/expand-yaml.t ....................... ok
t/expand.t ............................ ok
Mojolicious::Plugin::Swagger2 is deprecated in favor of Mojolicious::Plugin::OpenAPI at (eval 92) line 1.
t/file.t .............................. ok
Mojolicious::Plugin::Swagger2 is deprecated in favor of Mojolicious::Plugin::OpenAPI at (eval 92) line 1.
t/formdata.t .......................... ok
Mojolicious::Plugin::Swagger2 is deprecated in favor of Mojolicious::Plugin::OpenAPI at (eval 92) line 1.
t/headers.t ........................... ok
Mojolicious::Plugin::Swagger2 is deprecated in favor of Mojolicious::Plugin::OpenAPI at (eval 92) line 1.
t/ip-in-url.t ......................... ok
Mojolicious::Plugin::Swagger2 is deprecated in favor of Mojolicious::Plugin::OpenAPI at (eval 92) line 1.
t/multi-param.t ....................... ok
Mojolicious::Plugin::Swagger2 is deprecated in favor of Mojolicious::Plugin::OpenAPI at (eval 92) line 1.
t/not-implemented-501.t ............... ok
Mojolicious::Plugin::Swagger2 is deprecated in favor of Mojolicious::Plugin::OpenAPI at (eval 92) line 1.
t/nullable.t .......................... ok
Mojolicious::Plugin::Swagger2 is deprecated in favor of Mojolicious::Plugin::OpenAPI at (eval 92) line 1.
t/operation-id.t ...................... ok
Mojolicious::Plugin::Swagger2 is deprecated in favor of Mojolicious::Plugin::OpenAPI at (eval 92) line 1.
t/order-pathobjects-lengthwise.t ...... ok
Mojo::Util::slurp is DEPRECATED in favor of Mojo::File::slurp at /opt/perl-5.22.3/lib/site_perl/5.22.3/Mojo/Util.pm line 253.
Mojo::Util::slurp("t/data/petstore.json") called at t/parse-json.t line 12
t/parse-json.t ........................ ok
Mojolicious::Plugin::Swagger2 is deprecated in favor of Mojolicious::Plugin::OpenAPI at (eval 92) line 1.
t/plugin-defaults.t ................... ok
Mojolicious::Plugin::Swagger2 is deprecated in favor of Mojolicious::Plugin::OpenAPI at (eval 92) line 1.
t/plugin-json.t ....................... ok
t/plugin-yaml.t ....................... skipped: Fails with JSON::Validator 0.91
Mojolicious::Plugin::Swagger2 is deprecated in favor of Mojolicious::Plugin::OpenAPI at (eval 92) line 1.
t/plugin.t ............................ ok
Mojo::Util::slurp is DEPRECATED in favor of Mojo::File::slurp at /opt/perl-5.22.3/lib/site_perl/5.22.3/Mojo/Util.pm line 253.
Mojo::Util::slurp("t/data/pod-as-string.pod") called at t/pod-as-string.t line 10
t/pod-as-string.t ..................... ok
Mojolicious::Plugin::Swagger2 is deprecated in favor of Mojolicious::Plugin::OpenAPI at (eval 92) line 1.
t/read-only-property.t ................ ok
Mojolicious::Plugin::Swagger2 is deprecated in favor of Mojolicious::Plugin::OpenAPI at (eval 92) line 1.
t/repeat.t ............................ ok
Mojolicious::Plugin::Swagger2 is deprecated in favor of Mojolicious::Plugin::OpenAPI at (eval 92) line 1.
t/stash-defaults.t .................... ok
t/swagger.t ........................... ok
Mojolicious::Plugin::Swagger2 is deprecated in favor of Mojolicious::Plugin::OpenAPI at (eval 92) line 1.
t/validate-json-schema.t .............. ok
t/validate-massive.t .................. ok
t/validate.t .......................... ok
Mojolicious::Plugin::Swagger2 is deprecated in favor of Mojolicious::Plugin::OpenAPI at (eval 92) line 1.
t/websocket.t ......................... ok
All tests successful.
Files=42, Tests=534, 27 wallclock secs ( 0.25 usr 0.06 sys + 24.83 cusr 2.02 csys = 27.16 CPU)
Result: PASS
------------------------------
PREREQUISITES
------------------------------
Prerequisite modules loaded:
requires:
Module Need Have
------------------- ---- --------
JSON::Validator 0.90 0.91
Mojolicious 6.00 7.20
build_requires:
Module Need Have
------------------- ---- --------
Test::More 0.88 1.302075
configure_requires:
Module Need Have
------------------- ---- --------
ExtUtils::MakeMaker 0 7.24
------------------------------
ENVIRONMENT AND OTHER CONTEXT
------------------------------
Environment variables:
LANG = en_US.UTF-8
PATH = /usr/local/bin:/usr/bin:/bin:/usr/local/sbin:/usr/sbin:/sbin:/home/cpansand/bin/linux-gnu:/home/cpansand/bin/sh:/home/cpansand/bin:/usr/games:/home/cpansand/devel:/home/eserte/src/srezic-misc/scripts
PERL5LIB =
PERL5OPT =
PERL5_CPANPLUS_IS_RUNNING = 32221
PERL5_CPAN_IS_RUNNING = 32221
PERL5_CPAN_IS_RUNNING_IN_RECURSION = 30344,32221
PERLDOC = -MPod::Perldoc::ToTextOverstrike
PERL_BATCH = yes
PERL_CANARY_STABILITY_NOPROMPT = 1
PERL_CPAN_REPORTER_CONFIG = /var/tmp/cpansmoker-1002/2017011906/cpanreporter_001_config.ini
PERL_EXTUTILS_AUTOINSTALL = --defaultdeps
SHELL = /bin/zsh
TERM = screen
TMPDIR = /var/tmp/cpansmoker-1002/2017011906
Perl special variables (and OS-specific diagnostics, for MSWin32):
$^X = /opt/perl-5.22.3/bin/perl5.22.3
$UID/$EUID = 1002 / 1002
$GID = 1002 1002
$EGID = 1002 1002
Perl module toolchain versions installed:
Module Have
------------------- --------
CPAN 2.11_01
CPAN::Meta 2.150010
Cwd 3.56_02
ExtUtils::CBuilder 0.280221
ExtUtils::Command 7.24
ExtUtils::Install 2.04
ExtUtils::MakeMaker 7.24
ExtUtils::Manifest 1.70
ExtUtils::ParseXS 3.28
File::Spec 3.56_02
JSON 2.90
JSON::PP 2.27400
Module::Build 0.4220
Module::Signature 0.81
Parse::CPAN::Meta 2.150010
Test::Harness 3.35_01
Test::More 1.302075
YAML 1.21
YAML::Syck 1.29
version 0.9917
--
Summary of my perl5 (revision 5 version 22 subversion 3) configuration:
Platform:
osname=linux, osvers=4.4.0-59-generic, archname=x86_64-linux
uname='linux prod3.bbbike.org 4.4.0-59-generic #80-ubuntu smp fri jan 6 17:47:47 utc 2017 x86_64 x86_64 x86_64 gnulinux '
config_args='-ds -e -Dprefix=/opt/perl-5.22.3 -Dcf_email=srezic@cpan.org'
hint=recommended, useposix=true, d_sigaction=define
useithreads=undef, usemultiplicity=undef
use64bitint=define, use64bitall=define, uselongdouble=undef
usemymalloc=n, bincompat5005=undef
Compiler:
cc='cc', ccflags ='-fwrapv -fno-strict-aliasing -pipe -fstack-protector-strong -I/usr/local/include -D_LARGEFILE_SOURCE -D_FILE_OFFSET_BITS=64',
optimize='-O2',
cppflags='-fwrapv -fno-strict-aliasing -pipe -fstack-protector-strong -I/usr/local/include'
ccversion='', gccversion='5.4.0 20160609', gccosandvers=''
intsize=4, longsize=8, ptrsize=8, doublesize=8, byteorder=12345678, doublekind=3
d_longlong=define, longlongsize=8, d_longdbl=define, longdblsize=16, longdblkind=3
ivtype='long', ivsize=8, nvtype='double', nvsize=8, Off_t='off_t', lseeksize=8
alignbytes=8, prototype=define
Linker and Libraries:
ld='cc', ldflags =' -fstack-protector-strong -L/usr/local/lib'
libpth=/usr/local/lib /usr/lib/gcc/x86_64-linux-gnu/5/include-fixed /usr/include/x86_64-linux-gnu /usr/lib /lib/x86_64-linux-gnu /lib/../lib /usr/lib/x86_64-linux-gnu /usr/lib/../lib /lib
libs=-lpthread -lnsl -lgdbm -ldb -ldl -lm -lcrypt -lutil -lc -lgdbm_compat
perllibs=-lpthread -lnsl -ldl -lm -lcrypt -lutil -lc
libc=libc-2.23.so, so=so, useshrplib=false, libperl=libperl.a
gnulibc_version='2.23'
Dynamic Linking:
dlsrc=dl_dlopen.xs, dlext=so, d_dlsymun=undef, ccdlflags='-Wl,-E'
cccdlflags='-fPIC', lddlflags='-shared -O2 -L/usr/local/lib -fstack-protector-strong'
Characteristics of this binary (from libperl):
Compile-time options: HAS_TIMES PERLIO_LAYERS PERL_DONT_CREATE_GVSV
PERL_HASH_FUNC_ONE_AT_A_TIME_HARD PERL_MALLOC_WRAP
PERL_NEW_COPY_ON_WRITE PERL_PRESERVE_IVUV
USE_64_BIT_ALL USE_64_BIT_INT USE_LARGE_FILES
USE_LOCALE USE_LOCALE_COLLATE USE_LOCALE_CTYPE
USE_LOCALE_NUMERIC USE_LOCALE_TIME USE_PERLIO
USE_PERL_ATOF
Built under linux
Compiled at Jan 14 2017 21:01:24
%ENV:
PERL5LIB=""
PERL5OPT=""
PERL5_CPANPLUS_IS_RUNNING="32221"
PERL5_CPAN_IS_RUNNING="32221"
PERL5_CPAN_IS_RUNNING_IN_RECURSION="30344,32221"
PERLDOC="-MPod::Perldoc::ToTextOverstrike"
PERL_BATCH="yes"
PERL_CANARY_STABILITY_NOPROMPT="1"
PERL_CPAN_REPORTER_CONFIG="/var/tmp/cpansmoker-1002/2017011906/cpanreporter_001_config.ini"
PERL_EXTUTILS_AUTOINSTALL="--defaultdeps"
@INC:
/opt/perl-5.22.3/lib/site_perl/5.22.3/x86_64-linux
/opt/perl-5.22.3/lib/site_perl/5.22.3
/opt/perl-5.22.3/lib/5.22.3/x86_64-linux
/opt/perl-5.22.3/lib/5.22.3
.