Proc-Exists v1.01 Perl 5 v5.35.9 x86_64-linux-thread-multi-ld
- Status
- Pass
- From
- Andreas J. König (ANDK)
- Dist
-
Proc-Exists v1.01
- Platform
- Perl 5 v5.35.9 x86_64-linux-thread-multi-ld
- Date
- 2022-02-21 14:41:52
- ID
- 6873b03c-9324-11ec-ae60-b51e8e136e9a
This distribution has been tested as part of the CPAN Testers
project, supporting the Perl programming language. See
http://wiki.cpantesters.org/ for more information or email
questions to cpan-testers-discuss@perl.org
--
Dear Brian Szymanski,
This is a computer-generated report for Proc-Exists-1.01
on perl 5.35.9, created by CPAN-Reporter-1.2018.
Thank you for uploading your work to CPAN. Congratulations!
All tests were successful.
Sections of this report:
* Tester comments
* Program output
* Prerequisites
* Environment and other context
------------------------------
TESTER COMMENTS
------------------------------
Additional comments from tester:
this report is from an automated smoke testing program
and was not reviewed by a human for accuracy
------------------------------
PROGRAM OUTPUT
------------------------------
Output from '/usr/bin/make test':
"/tmp/basesmoker-reloperl-10Iu/bin/perl" -MExtUtils::Command::MM -e 'cp_nonempty' -- Exists.bs blib/arch/auto/Proc/Exists/Exists.bs 644
PERL_DL_NONLAZY=1 "/tmp/basesmoker-reloperl-10Iu/bin/perl" "-MExtUtils::Command::MM" "-MTest::Harness" "-e" "undef *Test::Harness::Switches; test_harness(0, 'blib/lib', 'blib/arch')" t/*.t
# WARNING: ignore all warnings from this test ;-)
# osname: linux
# perl cc: gcc 7.5.0
# perl version: 5.35.9
# POSIX::uname: Linux - k93bionic - 4.15.0-167-generic - #175-Ubuntu SMP Wed Jan 5 01:56:07 UTC 2022 - x86_64
# EPERM: 1 ESRCH: 3
# tested by a smoker
# errno 0 () was the result on these pids: 0
# errno 1 (Operation not permitted) was the result on these pids: 1, 2, 4, 6, 7, 8, 9, 10, 11, 12, 13, 14, 15, 16, 18, 19, 20, 21, 22, 23, 24, 25, 26, 27, 28, 29, 30, 31, 32, 33, 34, 35, 36, 37, 38, 39, 40, 41, 42, 43, 44, 45, 47, 48, 49, 50, 51, 52, 53, 54, 55, 56, 57, 58, 59, 60, 63, 64, 65, 96
# errno 3 (No such process) was the result on these pids: 3, 5, 17, 46, 61, 62, 66, 67, 68, 69, 70, 71, 72, 73, 74, 75, 76, 77, 78, 79, 80, 81, 82, 83, 84, 85, 86, 87, 88, 89, 90, 91, 92, 93, 94, 95, 97, 98, 99, 100, 24559
t/00-info.t ... ok
# Testing Proc::Exists 1.01, XS (via XSLoader) implementation
t/01-load.t ... ok
t/02-usage.t .. ok
All tests successful.
Files=3, Tests=33, 1 wallclock secs ( 0.01 usr 0.03 sys + 0.23 cusr 0.11 csys = 0.38 CPU)
Result: PASS
------------------------------
PREREQUISITES
------------------------------
Prerequisite modules loaded:
requires:
Module Need Have
------------------- ---- --------
Config 0 5.035009
Exporter 0 5.77
ExtUtils::MakeMaker 0 7.64
Getopt::Long 0 2.52
Test::More 0 1.302188
build_requires:
Module Need Have
------------------- ---- --------
ExtUtils::MakeMaker 0 7.64
opt_requires:
Module Need Have
------------------- ---- --------
XSLoader 0 0.31
------------------------------
ENVIRONMENT AND OTHER CONTEXT
------------------------------
Environment variables:
AUTOMATED_TESTING = 1
LANG = en_US.utf8
PATH = /home/sand/bin:/usr/local/bin:/usr/local/sbin:/usr/sbin:/usr/bin:/sbin:/bin:/usr/games:/usr/local/games:/snap/bin:/usr/local/perl/bin:/usr/X11/bin
PERL = /tmp/basesmoker-reloperl-10Iu/bin/perl
PERL5LIB = /tmp/loop_over_bdir-21176-OnpZlS/DBIx-Migration-Directories-0.12-0/blib/arch:/tmp/loop_over_bdir-21176-OnpZlS/DBIx-Migration-Directories-0.12-0/blib/lib
PERL5OPT =
PERL5_CPANPLUS_IS_RUNNING = 21185
PERL5_CPAN_IS_RUNNING = 21185
PERL_CANARY_STABILITY_NOPROMPT = 1
PERL_MM_USE_DEFAULT = 1
PERL_USE_UNSAFE_INC = 1
SHELL = /usr/bin/zsh
TERM = screen
Perl special variables (and OS-specific diagnostics, for MSWin32):
$^X = /tmp/basesmoker-reloperl-10Iu/bin/perl
$UID/$EUID = 1005 / 1005
$GID = 1005 1005
$EGID = 1005 1005
Perl module toolchain versions installed:
Module Have
------------------- --------
CPAN 2.33
CPAN::Meta 2.150010
Cwd 3.83
ExtUtils::CBuilder 0.280236
ExtUtils::Command 7.64
ExtUtils::Install 2.20
ExtUtils::MakeMaker 7.64
ExtUtils::Manifest 1.73
ExtUtils::ParseXS 3.44
File::Spec 3.83
JSON 4.05
JSON::PP 4.07
Module::Build 0.4231
Module::Signature 0.88
Parse::CPAN::Meta 2.150010
Test::Harness 3.43
Test::More 1.302188
YAML 1.30
YAML::Syck 1.34
version 0.9929
--
Summary of my perl5 (revision 5 version 35 subversion 9) configuration:
Commit id: a4f7faaf7e7c49fceb79725d6853abbd83bc8bd9
Platform:
osname=linux
osvers=4.15.0-167-generic
archname=x86_64-linux-thread-multi-ld
uname='linux k93bionic 4.15.0-167-generic #175-ubuntu smp wed jan 5 01:56:07 utc 2022 x86_64 x86_64 x86_64 gnulinux '
config_args='-Dprefix=/home/sand/src/perl/repoperls/installed-perls/host/k93bionic/v5.35.9/ebf1 -Dmyhostname=k93bionic -Dinstallusrbinperl=n -Uversiononly -Dusedevel -des -Ui_db -Dlibswanted=cl pthread socket inet nsl gdbm dbm malloc dl ld sun m crypt sec util c cposix posix ucb BSD gdbm_compat -Duseithreads -Duselongdouble -DEBUGGING=-g'
hint=recommended
useposix=true
d_sigaction=define
useithreads=define
usemultiplicity=define
use64bitint=define
use64bitall=define
uselongdouble=define
usemymalloc=n
default_inc_excludes_dot=define
Compiler:
cc='cc'
ccflags ='-D_REENTRANT -D_GNU_SOURCE -fwrapv -fno-strict-aliasing -pipe -fstack-protector-strong -I/usr/local/include -D_LARGEFILE_SOURCE -D_FILE_OFFSET_BITS=64'
optimize='-O2 -g'
cppflags='-D_REENTRANT -D_GNU_SOURCE -fwrapv -fno-strict-aliasing -pipe -fstack-protector-strong -I/usr/local/include'
ccversion=''
gccversion='7.5.0'
gccosandvers=''
intsize=4
longsize=8
ptrsize=8
doublesize=8
byteorder=12345678
doublekind=3
d_longlong=define
longlongsize=8
d_longdbl=define
longdblsize=16
longdblkind=3
ivtype='long'
ivsize=8
nvtype='long double'
nvsize=16
Off_t='off_t'
lseeksize=8
alignbytes=16
prototype=define
Linker and Libraries:
ld='cc'
ldflags =' -fstack-protector-strong -L/usr/local/lib'
libpth=/usr/local/lib /usr/lib/x86_64-linux-gnu /usr/lib /lib/x86_64-linux-gnu /lib
libs=-lpthread -lnsl -ldl -lm -lcrypt -lutil -lc
perllibs=-lpthread -lnsl -ldl -lm -lcrypt -lutil -lc
libc=libc-2.27.so
so=so
useshrplib=false
libperl=libperl.a
gnulibc_version='2.27'
Dynamic Linking:
dlsrc=dl_dlopen.xs
dlext=so
d_dlsymun=undef
ccdlflags='-Wl,-E'
cccdlflags='-fPIC'
lddlflags='-shared -O2 -g -L/usr/local/lib -fstack-protector-strong'
Characteristics of this binary (from libperl):
Compile-time options:
HAS_TIMES
MULTIPLICITY
PERLIO_LAYERS
PERL_COPY_ON_WRITE
PERL_DONT_CREATE_GVSV
PERL_MALLOC_WRAP
PERL_OP_PARENT
PERL_PRESERVE_IVUV
PERL_USE_DEVEL
USE_64_BIT_ALL
USE_64_BIT_INT
USE_ITHREADS
USE_LARGE_FILES
USE_LOCALE
USE_LOCALE_COLLATE
USE_LOCALE_CTYPE
USE_LOCALE_NUMERIC
USE_LOCALE_TIME
USE_LONG_DOUBLE
USE_PERLIO
USE_PERL_ATOF
USE_REENTRANT_API
USE_THREAD_SAFE_LOCALE
Built under linux
Compiled at Feb 20 2022 18:17:14
%ENV:
PERL="/tmp/basesmoker-reloperl-10Iu/bin/perl"
PERL5LIB="/tmp/loop_over_bdir-21176-OnpZlS/DBIx-Migration-Directories-0.12-0/blib/arch:/tmp/loop_over_bdir-21176-OnpZlS/DBIx-Migration-Directories-0.12-0/blib/lib"
PERL5OPT=""
PERL5_CPANPLUS_IS_RUNNING="21185"
PERL5_CPAN_IS_RUNNING="21185"
PERL_CANARY_STABILITY_NOPROMPT="1"
PERL_MM_USE_DEFAULT="1"
PERL_USE_UNSAFE_INC="1"
@INC:
/tmp/loop_over_bdir-21176-OnpZlS/DBIx-Migration-Directories-0.12-0/blib/arch
/tmp/loop_over_bdir-21176-OnpZlS/DBIx-Migration-Directories-0.12-0/blib/lib
/home/sand/src/perl/repoperls/installed-perls/host/k93bionic/v5.35.9/ebf1/lib/site_perl/5.35.9/x86_64-linux-thread-multi-ld
/home/sand/src/perl/repoperls/installed-perls/host/k93bionic/v5.35.9/ebf1/lib/site_perl/5.35.9
/home/sand/src/perl/repoperls/installed-perls/host/k93bionic/v5.35.9/ebf1/lib/5.35.9/x86_64-linux-thread-multi-ld
/home/sand/src/perl/repoperls/installed-perls/host/k93bionic/v5.35.9/ebf1/lib/5.35.9
.