Report for Class-DBI-Sweet-0.11

Back
From: metabase:user:0d96120c-29e2-11e5-b049-ede3035d37de
Subject: PASS Class-DBI-Sweet-0.11 v5.14.4 Windows (Cygwin)
Date: 2015-08-07T11:57:43Z

This distribution has been tested as part of the CPAN Testers
project, supporting the Perl programming language.  See
http://wiki.cpantesters.org/ for more information or email
questions to cpan-testers-discuss@perl.org


--
Dear Fred Moyer,

This is a computer-generated report for Class-DBI-Sweet-0.11
on perl 5.14.4, created by CPAN-Reporter-1.2014.

Thank you for uploading your work to CPAN.  Congratulations!
All tests were successful.

Sections of this report:

    * Tester comments
    * Program output
    * Prerequisites
    * Environment and other context

------------------------------
TESTER COMMENTS
------------------------------

Additional comments from tester:

this report is from an automated smoke testing program
and was not reviewed by a human for accuracy

------------------------------
PROGRAM OUTPUT
------------------------------

Output from './Build test':

t/01use.t ................................ ok
t/02pod.t ................................ skipped: Test::Pod 1.14 required
t/03podcoverage.t ........................ skipped: Test::Pod::Coverage 1.04 required
t/04join.t ............................... ok
t/05count.t .............................. ok
t/06object_cache.t ....................... skipped: Cache::Cache required
t/07prefetch.t ........................... skipped: Cache::Cache required
t/08pager.t .............................. ok
t/09sequence.t ........................... ok
t/cdbi-t-ocache/01-columns.t ............. ok
t/cdbi-t-ocache/03-subclassing.t ......... skipped: needs Cache::Cache for testing
t/cdbi-t-ocache/05-Query.t ............... skipped: needs Cache::Cache for testing
t/cdbi-t-ocache/06-hasa.t ................ skipped: needs Cache::Cache for testing
t/cdbi-t-ocache/08-inheritcols.t ......... ok
t/cdbi-t-ocache/09-has_many.t ............ skipped: needs Cache::Cache for testing
t/cdbi-t-ocache/10-mysql.t ............... skipped: needs Cache::Cache for testing
t/cdbi-t-ocache/11-triggers.t ............ skipped: needs Cache::Cache for testing
t/cdbi-t-ocache/12-filter.t .............. skipped: needs Cache::Cache for testing
t/cdbi-t-ocache/13-constraint.t .......... skipped: needs Cache::Cache for testing
t/cdbi-t-ocache/14-might_have.t .......... skipped: needs Cache::Cache for testing
t/cdbi-t-ocache/16-reserved.t ............ skipped: needs Cache::Cache for testing
t/cdbi-t-ocache/17-data_type.t ........... skipped: needs Cache::Cache for testing
t/cdbi-t-ocache/18-has_a.t ............... skipped: needs Cache::Cache for testing
t/cdbi-t-ocache/19-set_sql.t ............. skipped: needs Cache::Cache for testing
t/cdbi-t-ocache/21-iterator.t ............ skipped: needs Cache::Cache for testing
t/cdbi-t-ocache/22-deflate_order.t ....... skipped: needs Cache::Cache for testing
t/cdbi-t-ocache/23-cascade.t ............. skipped: needs Cache::Cache for testing
t/cdbi-t-ocache/24-meta_info.t ........... ok
DBI connect('test','',...) failed: Can't connect to local MySQL server through socket '/var/run/mysql.sock' (2) at t/cdbi-t/testlib/MyBase.pm line 10.
t/cdbi-t-ocache/25-closures_in_meta.t .... skipped: Need MySQL for this test
t/cdbi-t-ocache/97-pod.t ................. skipped: Cache::MemoryCache needed to test POD.
t/cdbi-t-ocache/98-failure.t ............. skipped: needs Cache::Cache for testing
t/cdbi-t-ocache/99-misc.t ................ skipped: needs Cache::Cache for testing
t/cdbi-t-rescache/01-columns.t ........... ok
t/cdbi-t-rescache/03-subclassing.t ....... skipped: needs Cache::Cache for testing
t/cdbi-t-rescache/05-Query.t ............. skipped: needs Cache::Cache for testing
t/cdbi-t-rescache/06-hasa.t .............. skipped: needs Cache::Cache for testing
t/cdbi-t-rescache/08-inheritcols.t ....... ok
t/cdbi-t-rescache/09-has_many.t .......... skipped: needs Cache::Cache for testing
t/cdbi-t-rescache/10-mysql.t ............. skipped: needs Cache::Cache for testing
t/cdbi-t-rescache/11-triggers.t .......... skipped: needs Cache::Cache for testing
t/cdbi-t-rescache/12-filter.t ............ skipped: needs Cache::Cache for testing
t/cdbi-t-rescache/13-constraint.t ........ skipped: needs Cache::Cache for testing
t/cdbi-t-rescache/14-might_have.t ........ skipped: needs Cache::Cache for testing
t/cdbi-t-rescache/16-reserved.t .......... skipped: needs Cache::Cache for testing
t/cdbi-t-rescache/17-data_type.t ......... skipped: needs Cache::Cache for testing
t/cdbi-t-rescache/18-has_a.t ............. skipped: needs Cache::Cache for testing
t/cdbi-t-rescache/19-set_sql.t ........... skipped: needs Cache::Cache for testing
t/cdbi-t-rescache/21-iterator.t .......... skipped: needs Cache::Cache for testing
t/cdbi-t-rescache/22-deflate_order.t ..... skipped: needs Cache::Cache for testing
t/cdbi-t-rescache/23-cascade.t ........... skipped: needs Cache::Cache for testing
t/cdbi-t-rescache/24-meta_info.t ......... ok
t/cdbi-t-rescache/25-closures_in_meta.t .. skipped: needs Cache::Cache for testing
t/cdbi-t-rescache/97-pod.t ............... skipped: Cache::MemoryCache needed to test POD.
t/cdbi-t-rescache/98-failure.t ........... skipped: needs Cache::Cache for testing
t/cdbi-t-rescache/99-misc.t .............. skipped: needs Cache::Cache for testing
t/cdbi-t/01-columns.t .................... ok
t/cdbi-t/02-Film.t ....................... ok
t/cdbi-t/03-subclassing.t ................ ok
t/cdbi-t/04-lazy.t ....................... ok
t/cdbi-t/05-Query.t ...................... ok
t/cdbi-t/06-hasa.t ....................... ok
t/cdbi-t/08-inheritcols.t ................ ok
t/cdbi-t/09-has_many.t ................... ok
DBI connect('test','',...) failed: Can't connect to local MySQL server through socket '/var/run/mysql.sock' (2) at t/cdbi-t/testlib/MyBase.pm line 10.
t/cdbi-t/10-mysql.t ...................... skipped: Need MySQL for this test
t/cdbi-t/11-triggers.t ................... ok
t/cdbi-t/12-filter.t ..................... ok
t/cdbi-t/13-constraint.t ................. ok
t/cdbi-t/14-might_have.t ................. ok
t/cdbi-t/17-data_type.t .................. skipped: needs DBD::Pg for testing
t/cdbi-t/18-has_a.t ...................... ok
t/cdbi-t/19-set_sql.t .................... ok
t/cdbi-t/21-iterator.t ................... ok
t/cdbi-t/22-deflate_order.t .............. skipped: Need Time::Piece::MySQL for this test
t/cdbi-t/23-cascade.t .................... ok
t/cdbi-t/24-meta_info.t .................. ok
DBI connect('test','',...) failed: Can't connect to local MySQL server through socket '/var/run/mysql.sock' (2) at t/cdbi-t/testlib/MyBase.pm line 10.
t/cdbi-t/25-closures_in_meta.t ........... skipped: Need MySQL for this test
t/cdbi-t/97-pod.t ........................ skipped: Test::Pod 1.00 required for testing POD
t/cdbi-t/98-failure.t .................... ok
t/cdbi-t/99-misc.t ....................... ok
All tests successful.
Files=79, Tests=574, 76 wallclock secs ( 0.08 usr  1.45 sys +  5.82 cusr 23.21 csys = 30.57 CPU)
Result: PASS

------------------------------
PREREQUISITES
------------------------------

Prerequisite modules loaded:

requires:

    Module        Need    Have  
    ------------- ------- ------
    Class::DBI    v3.0.12 3.0.17
    Data::Page    0       2.02  
    DBD::SQLite   1.08    1.46  
    DBI           0       1.633 
    List::Util    0       1.42  
    SQL::Abstract 1.55    1.81  

configure_requires:

    Module        Need    Have  
    ------------- ------- ------
    Module::Build 0.38    0.4214


------------------------------
ENVIRONMENT AND OTHER CONTEXT
------------------------------

Environment variables:

    AUTOMATED_TESTING = 1
    COMSPEC = C:\Windows\system32\cmd.exe
    LANG = en_US.UTF-8
    NONINTERACTIVE_TESTING = 1
    NUMBER_OF_PROCESSORS = 2
    PATH = /home/jmaslak/perl5/perlbrew/bin:/usr/local/bin:/usr/bin:/cygdrive/c/Windows/system32:/cygdrive/c/Windows:/cygdrive/c/Windows/System32/Wbem:/cygdrive/c/Windows/System32/WindowsPowerShell/v1.0:/cygdrive/c/Strawberry/c/bin:/cygdrive/c/Strawberry/perl/site/bin:/cygdrive/c/Strawberry/perl/bin:/usr/lib/lapack:/usr/sbin:~/perltest/bin
    PERL5LIB = /home/jmaslak/.cpan/build/Class-DBI-v3.0.17-2A4gzL/blib/arch:/home/jmaslak/.cpan/build/Class-DBI-v3.0.17-2A4gzL/blib/lib:/home/jmaslak/.cpan/build/Ima-DBI-0.35-PN1BUv/blib/arch:/home/jmaslak/.cpan/build/Ima-DBI-0.35-PN1BUv/blib/lib:/home/jmaslak/.cpan/build/DBIx-ContextualFetch-1.03-eJz4Vp/blib/arch:/home/jmaslak/.cpan/build/DBIx-ContextualFetch-1.03-eJz4Vp/blib/lib:/home/jmaslak/.cpan/build/Class-Trigger-0.14-mpcF8C/blib/arch:/home/jmaslak/.cpan/build/Class-Trigger-0.14-mpcF8C/blib/lib:/home/jmaslak/.cpan/build/IO-stringy-2.111-IcIT0j/blib/arch:/home/jmaslak/.cpan/build/IO-stringy-2.111-IcIT0j/blib/lib:/home/jmaslak/.cpan/build/UNIVERSAL-moniker-0.08-_Rr_Bq/blib/arch:/home/jmaslak/.cpan/build/UNIVERSAL-moniker-0.08-_Rr_Bq/blib/lib:/home/jmaslak/.cpan/build/Data-Page-2.02-hMksJP/blib/arch:/home/jmaslak/.cpan/build/Data-Page-2.02-hMksJP/blib/lib:/home/jmaslak/.cpan/build/Class-Accessor-Chained-0.01-GgfPD9/blib/arch:/home/jmaslak/.cpan/build/Class-Accessor-Chained-0.01-GgfPD9/blib/lib:/home/jmaslak/.cpan/build/Class-Accessor-0.34-_iPP80/blib/arch:/home/jmaslak/.cpan/build/Class-Accessor-0.34-_iPP80/blib/lib:/home/jmaslak/.cpan/build/SQL-Abstract-1.81-Ly4mqi/blib/arch:/home/jmaslak/.cpan/build/SQL-Abstract-1.81-Ly4mqi/blib/lib:/home/jmaslak/.cpan/build/Moo-2.000002-vKAuhE/blib/arch:/home/jmaslak/.cpan/build/Moo-2.000002-vKAuhE/blib/lib:/home/jmaslak/.cpan/build/Class-Method-Modifiers-2.11-tNlT3K/blib/arch:/home/jmaslak/.cpan/build/Class-Method-Modifiers-2.11-tNlT3K/blib/lib:/home/jmaslak/.cpan/build/Role-Tiny-2.000001-ztoFjs/blib/arch:/home/jmaslak/.cpan/build/Role-Tiny-2.000001-ztoFjs/blib/lib:/home/jmaslak/.cpan/build/Hash-Merge-0.200-3l3ZM7/blib/arch:/home/jmaslak/.cpan/build/Hash-Merge-0.200-3l3ZM7/blib/lib:/home/jmaslak/.cpan/build/Clone-0.38-yAgJx1/blib/arch:/home/jmaslak/.cpan/build/Clone-0.38-yAgJx1/blib/lib
    PERL5OPT = 
    PERL5_CPANPLUS_IS_RUNNING = 4160
    PERL5_CPAN_IS_RUNNING = 4160
    PERL5_CPAN_IS_RUNNING_IN_RECURSION = 6952,4160
    PERLBREW_BASHRC_VERSION = 0.73
    PERLBREW_HOME = /home/jmaslak/.perlbrew
    PERLBREW_PATH = /home/jmaslak/perl5/perlbrew/bin
    PERLBREW_ROOT = /home/jmaslak/perl5/perlbrew
    PERLBREW_VERSION = 0.73
    PERL_CR_SMOKER_CURRENT = Catalyst-Model-CDBI-Sweet-0.06
    PERL_EXTUTILS_AUTOINSTALL = --defaultdeps
    PERL_MM_USE_DEFAULT = 1
    PROCESSOR_IDENTIFIER = Intel64 Family 6 Model 63 Stepping 2, GenuineIntel
    SHELL = /bin/bash
    TEMP = /tmp
    TERM = xterm-256color

Perl special variables (and OS-specific diagnostics, for MSWin32):

    $^X = /usr/bin/perl
    $UID/$EUID = 197609 / 197609
    $GID = 197121 197121 545
    $EGID = 197121 197121 545

Perl module toolchain versions installed:

    Module              Have     
    ------------------- ---------
    CPAN                1.9600_01
    CPAN::Meta          2.150005 
    Cwd                 3.36     
    ExtUtils::CBuilder  0.280223 
    ExtUtils::Command   1.17     
    ExtUtils::Install   1.56     
    ExtUtils::MakeMaker 7.04     
    ExtUtils::Manifest  1.65     
    ExtUtils::ParseXS   2.2210   
    File::Spec          3.33     
    JSON                2.90     
    JSON::PP            2.27203  
    Module::Build       0.4214   
    Module::Signature   n/a      
    Parse::CPAN::Meta   1.4417   
    Test::Harness       3.35     
    Test::More          1.001014 
    YAML                1.15     
    YAML::Syck          n/a      
    version             0.88     


--

Summary of my perl5 (revision 5 version 14 subversion 4) configuration:
   
  Platform:
    osname=cygwin, osvers=1.7.35(0.28653), archname=cygwin-thread-multi
    uname='cygwin_nt-6.3 cygwin 1.7.35(0.28653) 2015-02-16 13:03 x86_64 cygwin '
    config_args='-d -e -Dprefix=/usr -Dmksymlinks -Dusethreads -Darchname=x86_64-cygwin-threads -Dlibperl=cygperl5_14.dll -Dcc=gcc -Dld=g++ -Accflags=-ggdb -O2 -pipe -Wimplicit-function-declaration -fdebug-prefix-map=/mnt/share/maint/perl.x86_64/build=/usr/src/debug/perl-5.14.4-3 -fdebug-prefix-map=/mnt/share/maint/perl.x86_64/src/perl-5.14.4=/usr/src/debug/perl-5.14.4-3 -fwrapv'
    hint=recommended, useposix=true, d_sigaction=define
    useithreads=define, usemultiplicity=define
    useperlio=define, d_sfio=undef, uselargefiles=define, usesocks=undef
    use64bitint=define, use64bitall=define, uselongdouble=undef
    usemymalloc=n, bincompat5005=undef
  Compiler:
    cc='gcc', ccflags ='-DPERL_USE_SAFE_PUTENV -U__STRICT_ANSI__ -ggdb -O2 -pipe -Wimplicit-function-declaration -fdebug-prefix-map=/mnt/share/maint/perl.x86_64/build=/usr/src/debug/perl-5.14.4-3 -fdebug-prefix-map=/mnt/share/maint/perl.x86_64/src/perl-5.14.4=/usr/src/debug/perl-5.14.4-3 -fwrapv -fno-strict-aliasing -fstack-protector',
    optimize='-O3',
    cppflags='-DPERL_USE_SAFE_PUTENV -U__STRICT_ANSI__ -ggdb -O2 -pipe -Wimplicit-function-declaration -fdebug-prefix-map=/mnt/share/maint/perl.x86_64/build=/usr/src/debug/perl-5.14.4-3 -fdebug-prefix-map=/mnt/share/maint/perl.x86_64/src/perl-5.14.4=/usr/src/debug/perl-5.14.4-3 -fwrapv -fno-strict-aliasing -fstack-protector'
    ccversion='', gccversion='4.9.2', gccosandvers=''
    intsize=4, longsize=8, ptrsize=8, doublesize=8, byteorder=12345678
    d_longlong=define, longlongsize=8, d_longdbl=define, longdblsize=16
    ivtype='long', ivsize=8, nvtype='double', nvsize=8, Off_t='off_t', lseeksize=8
    alignbytes=8, prototype=define
  Linker and Libraries:
    ld='g++', ldflags =' -Wl,--enable-auto-import -Wl,--export-all-symbols -Wl,--enable-auto-image-base -fstack-protector -L/usr/local/lib'
    libpth=/usr/local/lib /usr/lib /lib
    libs=-lgdbm -ldb -ldl -lcrypt -lgdbm_compat
    perllibs=-ldl -lcrypt
    libc=/usr/lib/libc.a, so=dll, useshrplib=true, libperl=cygperl5_14.dll
    gnulibc_version=''
  Dynamic Linking:
    dlsrc=dl_dlopen.xs, dlext=dll, d_dlsymun=undef, ccdlflags=' '
    cccdlflags=' ', lddlflags=' --shared  -Wl,--enable-auto-import -Wl,--export-all-symbols -Wl,--enable-auto-image-base -L/usr/local/lib -fstack-protector'


Characteristics of this binary (from libperl): 
  Compile-time options: MULTIPLICITY PERL_DONT_CREATE_GVSV
                        PERL_IMPLICIT_CONTEXT PERL_PRESERVE_IVUV
                        PERL_USE_SAFE_PUTENV USE_64_BIT_ALL USE_64_BIT_INT
                        USE_ITHREADS USE_LARGE_FILES USE_PERLIO USE_PERL_ATOF
                        USE_REENTRANT_API
  Locally applied patches:
	rurban/0c612ce82        Fix building static extensions on cygwin, -UUSEIMPORTLIB
	perl.cygwin_autorebase  Rebase DLL after building (skip for cygport builds)
	v5.14.0-RC2-6-gfc6f691  skip testing cygwin utf8 readdir() with Win32 ANSI API
	v5.14.0-RC2-7-g3877b86  Fix test 50 on cygwin: \WINDOWS
	v5.14.0-RC2-10-gd22b5bd revert +x global.sym from 3691eaa79cc6a
	v5.15.0-579-g8375c93    Export store_cop_label for the perl compiler
	v5.15.3-232-g1bac5ec    sv.c: S_anonymise_cv_maybe UTF8 cleanup.
	v5.15.7-75-g803e389     CYG17 utf8 paths
	v5.15.7-302-g5bc802d    Revise perlcygwin.pod for cygwin-1.7
	v5.15.7-303-g286f819    add Cygwin::sync_winenv [perl #110190]
	v5.19.8-494-g6cc44f6    avoid a "FILE" name conflict with cygwin's wchar.h
	v5.19.8-496-g3383030    [perl #120936] op/taint.t handling of no ipcsysv on cygwin
	v5.19.8-509-g288d0d9    cygwin doesn't implement $^E (except as a read of $!)
	v5.21.4-548-g860874c    wrap the failing call_checker test in an eval and TODO it
  Built under cygwin
  Compiled at Feb 17 2015 21:41:24
  %ENV:
    PERL5LIB="/home/jmaslak/.cpan/build/Class-DBI-v3.0.17-2A4gzL/blib/arch:/home/jmaslak/.cpan/build/Class-DBI-v3.0.17-2A4gzL/blib/lib:/home/jmaslak/.cpan/build/Ima-DBI-0.35-PN1BUv/blib/arch:/home/jmaslak/.cpan/build/Ima-DBI-0.35-PN1BUv/blib/lib:/home/jmaslak/.cpan/build/DBIx-ContextualFetch-1.03-eJz4Vp/blib/arch:/home/jmaslak/.cpan/build/DBIx-ContextualFetch-1.03-eJz4Vp/blib/lib:/home/jmaslak/.cpan/build/Class-Trigger-0.14-mpcF8C/blib/arch:/home/jmaslak/.cpan/build/Class-Trigger-0.14-mpcF8C/blib/lib:/home/jmaslak/.cpan/build/IO-stringy-2.111-IcIT0j/blib/arch:/home/jmaslak/.cpan/build/IO-stringy-2.111-IcIT0j/blib/lib:/home/jmaslak/.cpan/build/UNIVERSAL-moniker-0.08-_Rr_Bq/blib/arch:/home/jmaslak/.cpan/build/UNIVERSAL-moniker-0.08-_Rr_Bq/blib/lib:/home/jmaslak/.cpan/build/Data-Page-2.02-hMksJP/blib/arch:/home/jmaslak/.cpan/build/Data-Page-2.02-hMksJP/blib/lib:/home/jmaslak/.cpan/build/Class-Accessor-Chained-0.01-GgfPD9/blib/arch:/home/jmaslak/.cpan/build/Class-Accessor-Chained-0.01-GgfPD9/blib/lib:/home/jmaslak/.cpan/build/Class-Accessor-0.34-_iPP80/blib/arch:/home/jmaslak/.cpan/build/Class-Accessor-0.34-_iPP80/blib/lib:/home/jmaslak/.cpan/build/SQL-Abstract-1.81-Ly4mqi/blib/arch:/home/jmaslak/.cpan/build/SQL-Abstract-1.81-Ly4mqi/blib/lib:/home/jmaslak/.cpan/build/Moo-2.000002-vKAuhE/blib/arch:/home/jmaslak/.cpan/build/Moo-2.000002-vKAuhE/blib/lib:/home/jmaslak/.cpan/build/Class-Method-Modifiers-2.11-tNlT3K/blib/arch:/home/jmaslak/.cpan/build/Class-Method-Modifiers-2.11-tNlT3K/blib/lib:/home/jmaslak/.cpan/build/Role-Tiny-2.000001-ztoFjs/blib/arch:/home/jmaslak/.cpan/build/Role-Tiny-2.000001-ztoFjs/blib/lib:/home/jmaslak/.cpan/build/Hash-Merge-0.200-3l3ZM7/blib/arch:/home/jmaslak/.cpan/build/Hash-Merge-0.200-3l3ZM7/blib/lib:/home/jmaslak/.cpan/build/Clone-0.38-yAgJx1/blib/arch:/home/jmaslak/.cpan/build/Clone-0.38-yAgJx1/blib/lib"
    PERL5OPT=""
    PERL5_CPANPLUS_IS_RUNNING="4160"
    PERL5_CPAN_IS_RUNNING="4160"
    PERL5_CPAN_IS_RUNNING_IN_RECURSION="6952,4160"
    PERLBREW_BASHRC_VERSION="0.73"
    PERLBREW_HOME="/home/jmaslak/.perlbrew"
    PERLBREW_PATH="/home/jmaslak/perl5/perlbrew/bin"
    PERLBREW_ROOT="/home/jmaslak/perl5/perlbrew"
    PERLBREW_VERSION="0.73"
    PERL_CR_SMOKER_CURRENT="Catalyst-Model-CDBI-Sweet-0.06"
    PERL_EXTUTILS_AUTOINSTALL="--defaultdeps"
    PERL_MM_USE_DEFAULT="1"
  @INC:
    /home/jmaslak/.cpan/build/Class-DBI-v3.0.17-2A4gzL/blib/arch
    /home/jmaslak/.cpan/build/Class-DBI-v3.0.17-2A4gzL/blib/lib
    /home/jmaslak/.cpan/build/Ima-DBI-0.35-PN1BUv/blib/arch
    /home/jmaslak/.cpan/build/Ima-DBI-0.35-PN1BUv/blib/lib
    /home/jmaslak/.cpan/build/DBIx-ContextualFetch-1.03-eJz4Vp/blib/arch
    /home/jmaslak/.cpan/build/DBIx-ContextualFetch-1.03-eJz4Vp/blib/lib
    /home/jmaslak/.cpan/build/Class-Trigger-0.14-mpcF8C/blib/arch
    /home/jmaslak/.cpan/build/Class-Trigger-0.14-mpcF8C/blib/lib
    /home/jmaslak/.cpan/build/IO-stringy-2.111-IcIT0j/blib/arch
    /home/jmaslak/.cpan/build/IO-stringy-2.111-IcIT0j/blib/lib
    /home/jmaslak/.cpan/build/UNIVERSAL-moniker-0.08-_Rr_Bq/blib/arch
    /home/jmaslak/.cpan/build/UNIVERSAL-moniker-0.08-_Rr_Bq/blib/lib
    /home/jmaslak/.cpan/build/Data-Page-2.02-hMksJP/blib/arch
    /home/jmaslak/.cpan/build/Data-Page-2.02-hMksJP/blib/lib
    /home/jmaslak/.cpan/build/Class-Accessor-Chained-0.01-GgfPD9/blib/arch
    /home/jmaslak/.cpan/build/Class-Accessor-Chained-0.01-GgfPD9/blib/lib
    /home/jmaslak/.cpan/build/Class-Accessor-0.34-_iPP80/blib/arch
    /home/jmaslak/.cpan/build/Class-Accessor-0.34-_iPP80/blib/lib
    /home/jmaslak/.cpan/build/SQL-Abstract-1.81-Ly4mqi/blib/arch
    /home/jmaslak/.cpan/build/SQL-Abstract-1.81-Ly4mqi/blib/lib
    /home/jmaslak/.cpan/build/Moo-2.000002-vKAuhE/blib/arch
    /home/jmaslak/.cpan/build/Moo-2.000002-vKAuhE/blib/lib
    /home/jmaslak/.cpan/build/Class-Method-Modifiers-2.11-tNlT3K/blib/arch
    /home/jmaslak/.cpan/build/Class-Method-Modifiers-2.11-tNlT3K/blib/lib
    /home/jmaslak/.cpan/build/Role-Tiny-2.000001-ztoFjs/blib/arch
    /home/jmaslak/.cpan/build/Role-Tiny-2.000001-ztoFjs/blib/lib
    /home/jmaslak/.cpan/build/Hash-Merge-0.200-3l3ZM7/blib/arch
    /home/jmaslak/.cpan/build/Hash-Merge-0.200-3l3ZM7/blib/lib
    /home/jmaslak/.cpan/build/Clone-0.38-yAgJx1/blib/arch
    /home/jmaslak/.cpan/build/Clone-0.38-yAgJx1/blib/lib
    /usr/lib/perl5/site_perl/5.14/x86_64-cygwin-threads
    /usr/lib/perl5/site_perl/5.14
    /usr/lib/perl5/vendor_perl/5.14/x86_64-cygwin-threads
    /usr/lib/perl5/vendor_perl/5.14
    /usr/lib/perl5/5.14/x86_64-cygwin-threads
    /usr/lib/perl5/5.14
    .