MooseX-Extended v0.35 Perl 5 v5.38.3 x86_64-linux

Status
Pass
From
Slaven Rezić
Dist
MooseX-Extended v0.35
Platform
Perl 5 v5.38.3 x86_64-linux
Date
2025-04-20 08:13:57
ID
6834bd18-1dbf-11f0-93c4-42286e8775ea
This distribution has been tested as part of the CPAN Testers
project, supporting the Perl programming language.  See
http://wiki.cpantesters.org/ for more information or email
questions to cpan-testers-discuss@perl.org


--
Dear Curtis Poe,

This is a computer-generated report for MooseX-Extended-0.35
on perl 5.38.3, created by CPAN-Reporter-1.2020.

Thank you for uploading your work to CPAN.  Congratulations!
All tests were successful.

Sections of this report:

    * Tester comments
    * Program output
    * Prerequisites
    * Environment and other context

------------------------------
TESTER COMMENTS
------------------------------

Additional comments from tester:

none provided

------------------------------
PROGRAM OUTPUT
------------------------------

Output from '/usr/bin/make test':

PERL_DL_NONLAZY=1 "/opt/perl-5.38.3/bin/perl" "-MExtUtils::Command::MM" "-MTest::Harness" "-e" "undef *Test::Harness::Switches; test_harness(0, 'blib/lib', 'blib/arch')" t/*.t
# Testing MooseX::Extended 0.35, Perl 5.038003, /opt/perl-5.38.3/bin/perl
t/00-load.t ............... ok
# 
# Versions for all modules listed in MYMETA.json (including optional ones):
# 
# === Configure Requires ===
# 
#     Module              Want Have
#     ------------------- ---- ----
#     ExtUtils::MakeMaker  any 7.72
# 
# === Build Requires ===
# 
#     Module              Want Have
#     ------------------- ---- ----
#     ExtUtils::MakeMaker  any 7.72
# 
# === Test Requires ===
# 
#     Module              Want     Have
#     ------------------- ---- --------
#     Capture::Tiny        any     0.50
#     DateTime             any     1.65
#     ExtUtils::MakeMaker  any     7.72
#     File::Spec           any     3.88
#     List::Util           any     1.69
#     Scalar::Util         any     1.69
#     Test::Builder        any 1.302209
#     Test::More           any 1.302209
#     Test::Most           any     0.38
#     base                 any     2.27
#     lib                  any     0.65
#     version              any   0.9929
# 
# === Test Recommends ===
# 
#     Module              Want     Have
#     --------------- -------- --------
#     CPAN::Meta      2.120900 2.150010
#     Data::Printer        any 1.002001
#     IO::Async::Loop      any    0.803
# 
# === Runtime Requires ===
# 
#     Module                            Want     Have
#     ----------------------------- -------- --------
#     B::Hooks::AtRuntime                  8        8
#     Carp                               any     1.54
#     Data::Printer                      any 1.002001
#     Exporter                           any     5.77
#     Import::Into                       any 1.002005
#     Module::Load                       any     0.36
#     Moose                              any   2.2207
#     Moose::Exception                   any   2.2207
#     Moose::Exception::Role::Class      any   2.2207
#     Moose::Exporter                    any   2.2207
#     Moose::Meta::Role                  any   2.2207
#     Moose::Role                        any   2.2207
#     Moose::Util                        any   2.2207
#     MooseX::Role::WarnOnConflict       any     0.01
#     MooseX::StrictConstructor          any     0.21
#     Ref::Util                          any    0.204
#     Storable                           any     3.32
#     Type::Library                      any 2.006000
#     Type::Params                       any 2.006000
#     Type::Tiny                    1.012004 2.006000
#     Type::Utils                        any 2.006000
#     Types::Common::Numeric             any 2.006000
#     Types::Common::String              any 2.006000
#     Types::Standard                    any 2.006000
#     constant                           any     1.33
#     feature                            any     1.82
#     mro                                any     1.28
#     namespace::autoclean               any     0.31
#     parent                             any    0.241
#     perl                          5.020000 5.038003
#     strict                             any     1.12
#     true                            v1.0.2   v1.0.2
#     warnings                           any     1.65
# 
# === Runtime Suggests ===
# 
#     Module                        Want     Have
#     ------------------------- -------- --------
#     Function::Parameters      2.001003 2.002005
#     Future                        0.48     0.51
#     Future::AsyncAwait            0.58     0.70
#     Syntax::Keyword::MultiSub     0.03  missing
#     Syntax::Keyword::Try         0.027  missing
# 
t/00-report-prereqs.t ..... ok
t/async.t ................. ok
t/basic.t ................. ok
t/clone.t ................. ok
t/configuration.t ......... ok
t/custom.t ................ ok
t/exceptions.t ............ ok
t/excludes_field_param.t .. ok
t/field_init_arg.t ........ ok
t/import-lists.t .......... skipped: Could not load Syntax::Keyword::Try: Can't locate Syntax/Keyword/Try.pm in @INC (you may need to install the Syntax::Keyword::Try module) (@INC entries checked: t/lib /home/cpansand/.cpan/build/2025042008/MooseX-Extended-0.35-1/blib/lib /home/cpansand/.cpan/build/2025042008/MooseX-Extended-0.35-1/blib/arch /home/cpansand/.cpan/build/2025042008/true-v1.0.2-1/blib/arch /home/cpansand/.cpan/build/2025042008/true-v1.0.2-1/blib/lib /home/cpansand/.cpan/build/2025042008/MooseX-Role-WarnOnConflict-0.01-1/blib/arch /home/cpansand/.cpan/build/2025042008/MooseX-Role-WarnOnConflict-0.01-1/blib/lib /home/cpansand/.cpan/build/2025042008/B-Hooks-AtRuntime-8-1/blib/arch /home/cpansand/.cpan/build/2025042008/B-Hooks-AtRuntime-8-1/blib/lib /opt/perl-5.38.3/lib/site_perl/5.38.3/x86_64-linux /opt/perl-5.38.3/lib/site_perl/5.38.3 /opt/perl-5.38.3/lib/5.38.3/x86_64-linux /opt/perl-5.38.3/lib/5.38.3 .) at /opt/perl-5.38.3/lib/5.38.3/Module/Load.pm line 78.
t/inheritance.t ........... ok
t/inline.t ................ ok
t/method-keyword.t ........ ok
t/moose_compatibility.t ... ok
t/multimethods.t .......... skipped: Could not load Syntax::Keyword::MultiSub: Can't locate Syntax/Keyword/MultiSub.pm in @INC (you may need to install the Syntax::Keyword::MultiSub module) (@INC entries checked: t/lib /home/cpansand/.cpan/build/2025042008/MooseX-Extended-0.35-1/blib/lib /home/cpansand/.cpan/build/2025042008/MooseX-Extended-0.35-1/blib/arch /home/cpansand/.cpan/build/2025042008/true-v1.0.2-1/blib/arch /home/cpansand/.cpan/build/2025042008/true-v1.0.2-1/blib/lib /home/cpansand/.cpan/build/2025042008/MooseX-Role-WarnOnConflict-0.01-1/blib/arch /home/cpansand/.cpan/build/2025042008/MooseX-Role-WarnOnConflict-0.01-1/blib/lib /home/cpansand/.cpan/build/2025042008/B-Hooks-AtRuntime-8-1/blib/arch /home/cpansand/.cpan/build/2025042008/B-Hooks-AtRuntime-8-1/blib/lib /opt/perl-5.38.3/lib/site_perl/5.38.3/x86_64-linux /opt/perl-5.38.3/lib/site_perl/5.38.3 /opt/perl-5.38.3/lib/5.38.3/x86_64-linux /opt/perl-5.38.3/lib/5.38.3 .) at /opt/perl-5.38.3/lib/5.38.3/Module/Load.pm line 78.
t/roles.t ................. ok
t/rwp.t ................... ok
t/stringy-eval.t .......... ok
t/try.t ................... skipped: Could not load Syntax::Keyword::Try: Can't locate Syntax/Keyword/Try.pm in @INC (you may need to install the Syntax::Keyword::Try module) (@INC entries checked: t/lib /home/cpansand/.cpan/build/2025042008/MooseX-Extended-0.35-1/blib/lib /home/cpansand/.cpan/build/2025042008/MooseX-Extended-0.35-1/blib/arch /home/cpansand/.cpan/build/2025042008/true-v1.0.2-1/blib/arch /home/cpansand/.cpan/build/2025042008/true-v1.0.2-1/blib/lib /home/cpansand/.cpan/build/2025042008/MooseX-Role-WarnOnConflict-0.01-1/blib/arch /home/cpansand/.cpan/build/2025042008/MooseX-Role-WarnOnConflict-0.01-1/blib/lib /home/cpansand/.cpan/build/2025042008/B-Hooks-AtRuntime-8-1/blib/arch /home/cpansand/.cpan/build/2025042008/B-Hooks-AtRuntime-8-1/blib/lib /opt/perl-5.38.3/lib/site_perl/5.38.3/x86_64-linux /opt/perl-5.38.3/lib/site_perl/5.38.3 /opt/perl-5.38.3/lib/5.38.3/x86_64-linux /opt/perl-5.38.3/lib/5.38.3 .) at /opt/perl-5.38.3/lib/5.38.3/Module/Load.pm line 78.
t/types.t ................. ok
t/warnings.t .............. ok
All tests successful.
Files=22, Tests=117,  7 wallclock secs ( 0.07 usr  0.05 sys +  5.60 cusr  0.98 csys =  6.70 CPU)
Result: PASS

------------------------------
PREREQUISITES
------------------------------

Prerequisite modules loaded:

requires:

    Module                        Need     Have    
    ----------------------------- -------- --------
    B::Hooks::AtRuntime           8        8       
    Carp                          0        1.54    
    constant                      0        1.33    
    Data::Printer                 0        1.002001
    Exporter                      0        5.77    
    feature                       0        1.82    
    Import::Into                  0        1.002005
    Module::Load                  0        0.36    
    Moose                         0        2.2207  
    Moose::Exception              0        2.2207  
    Moose::Exception::Role::Class 0        2.2207  
    Moose::Exporter               0        2.2207  
    Moose::Meta::Role             0        2.2207  
    Moose::Role                   0        2.2207  
    Moose::Util                   0        2.2207  
    MooseX::Role::WarnOnConflict  0        0.01    
    MooseX::StrictConstructor     0        0.21    
    mro                           0        1.28    
    namespace::autoclean          0        0.31    
    parent                        0        0.241   
    perl                          5.020000 5.038003
    Ref::Util                     0        0.204   
    Storable                      0        3.32    
    strict                        0        1.12    
    true                          v1.0.2   v1.0.2  
    Type::Library                 0        2.006000
    Type::Params                  0        2.006000
    Type::Tiny                    1.012004 2.006000
    Type::Utils                   0        2.006000
    Types::Common::Numeric        0        2.006000
    Types::Common::String         0        2.006000
    Types::Standard               0        2.006000
    warnings                      0        1.65    

build_requires:

    Module                        Need     Have    
    ----------------------------- -------- --------
    base                          0        2.27    
    Capture::Tiny                 0        0.50    
    DateTime                      0        1.65    
    ExtUtils::MakeMaker           0        7.72    
    File::Spec                    0        3.88    
    lib                           0        0.65    
    List::Util                    0        1.69    
    Scalar::Util                  0        1.69    
    Test::Builder                 0        1.302209
    Test::More                    0        1.302209
    Test::Most                    0        0.38    
    version                       0        0.9929  

configure_requires:

    Module                        Need     Have    
    ----------------------------- -------- --------
    ExtUtils::MakeMaker           0        7.72    


------------------------------
ENVIRONMENT AND OTHER CONTEXT
------------------------------

Environment variables:

    LANG = en_US.UTF-8
    PATH = /usr/local/bin:/usr/bin:/bin:/usr/local/sbin:/usr/sbin:/sbin:/home/cpansand/bin/linux-gnu:/home/cpansand/bin/sh:/home/cpansand/bin:/usr/games:/home/cpansand/devel:/home/eserte/src/srezic-misc/scripts
    PERL5LIB = /home/cpansand/.cpan/build/2025042008/true-v1.0.2-1/blib/arch:/home/cpansand/.cpan/build/2025042008/true-v1.0.2-1/blib/lib:/home/cpansand/.cpan/build/2025042008/MooseX-Role-WarnOnConflict-0.01-1/blib/arch:/home/cpansand/.cpan/build/2025042008/MooseX-Role-WarnOnConflict-0.01-1/blib/lib:/home/cpansand/.cpan/build/2025042008/B-Hooks-AtRuntime-8-1/blib/arch:/home/cpansand/.cpan/build/2025042008/B-Hooks-AtRuntime-8-1/blib/lib
    PERL5OPT = 
    PERL5_CPANPLUS_IS_RUNNING = 416477
    PERL5_CPAN_IS_RUNNING = 416477
    PERL5_CPAN_IS_RUNNING_IN_RECURSION = 415446,416477
    PERLDOC = -MPod::Perldoc::ToTextOverstrike
    PERL_BATCH = yes
    PERL_CANARY_STABILITY_NOPROMPT = 1
    PERL_CPAN_REPORTER_CONFIG = /var/tmp/cpansmoker-1023/2025042008/cpanreporter_000_config.ini
    PERL_EXTUTILS_AUTOINSTALL = --defaultdeps
    PERL_USE_UNSAFE_INC = 1
    SHELL = /usr/bin/zsh
    TERM = screen
    TMPDIR = /var/tmp/cpansmoker-1023/2025042008

Perl special variables (and OS-specific diagnostics, for MSWin32):

    $^X = /opt/perl-5.38.3/bin/perl
    $UID/$EUID = 1023 / 1023
    $GID = 1023 1023
    $EGID = 1023 1023

Perl module toolchain versions installed:

    Module              Have    
    ------------------- --------
    CPAN                2.36    
    CPAN::Meta          2.150010
    Cwd                 3.89    
    ExtUtils::CBuilder  0.280238
    ExtUtils::Command   7.72    
    ExtUtils::Install   2.22    
    ExtUtils::MakeMaker 7.72    
    ExtUtils::Manifest  1.75    
    ExtUtils::ParseXS   3.51    
    File::Spec          3.88    
    JSON                4.10    
    JSON::PP            4.16    
    Module::Build       0.4234  
    Module::Signature   n/a     
    Parse::CPAN::Meta   2.150010
    Test2               1.302209
    Test::Harness       3.44    
    Test::More          1.302209
    YAML                1.31    
    YAML::Syck          1.34    
    version             0.9929  


--

Summary of my perl5 (revision 5 version 38 subversion 3) configuration:
   
  Platform:
    osname=linux
    osvers=6.12.11-200.fc41.x86_64
    archname=x86_64-linux
    uname='linux cloud4.bbbike.org 6.12.11-200.fc41.x86_64 #1 smp preempt_dynamic fri jan 24 04:59:58 utc 2025 x86_64 gnulinux '
    config_args='-ds -e -Dprefix=/opt/perl-5.38.3 -Uinstallusrbinperl -Dcf_email=srezic@cpan.org'
    hint=recommended
    useposix=true
    d_sigaction=define
    useithreads=undef
    usemultiplicity=undef
    use64bitint=define
    use64bitall=define
    uselongdouble=undef
    usemymalloc=n
    default_inc_excludes_dot=define
  Compiler:
    cc='cc'
    ccflags ='-fwrapv -fno-strict-aliasing -pipe -fstack-protector-strong -I/usr/local/include -D_LARGEFILE_SOURCE -D_FILE_OFFSET_BITS=64 -D_FORTIFY_SOURCE=2'
    optimize='-O2'
    cppflags='-fwrapv -fno-strict-aliasing -pipe -fstack-protector-strong -I/usr/local/include'
    ccversion=''
    gccversion='14.2.1 20250110 (Red Hat 14.2.1-7)'
    gccosandvers=''
    intsize=4
    longsize=8
    ptrsize=8
    doublesize=8
    byteorder=12345678
    doublekind=3
    d_longlong=define
    longlongsize=8
    d_longdbl=define
    longdblsize=16
    longdblkind=3
    ivtype='long'
    ivsize=8
    nvtype='double'
    nvsize=8
    Off_t='off_t'
    lseeksize=8
    alignbytes=8
    prototype=define
  Linker and Libraries:
    ld='cc'
    ldflags =' -fstack-protector-strong -L/usr/local/lib'
    libpth=/usr/local/lib /usr/lib /usr/lib64 /usr/local/lib64
    libs=-lpthread -ldb -ldl -lm -lcrypt -lutil -lc
    perllibs=-lpthread -ldl -lm -lcrypt -lutil -lc
    libc=/lib/../lib64/libc.so.6
    so=so
    useshrplib=false
    libperl=libperl.a
    gnulibc_version='2.40'
  Dynamic Linking:
    dlsrc=dl_dlopen.xs
    dlext=so
    d_dlsymun=undef
    ccdlflags='-Wl,-E'
    cccdlflags='-fPIC'
    lddlflags='-shared -O2 -L/usr/local/lib -fstack-protector-strong'


Characteristics of this binary (from libperl): 
  Compile-time options:
    HAS_LONG_DOUBLE
    HAS_STRTOLD
    HAS_TIMES
    PERLIO_LAYERS
    PERL_COPY_ON_WRITE
    PERL_DONT_CREATE_GVSV
    PERL_HASH_FUNC_SIPHASH13
    PERL_HASH_USE_SBOX32
    PERL_MALLOC_WRAP
    PERL_OP_PARENT
    PERL_PRESERVE_IVUV
    PERL_USE_SAFE_PUTENV
    USE_64_BIT_ALL
    USE_64_BIT_INT
    USE_LARGE_FILES
    USE_LOCALE
    USE_LOCALE_COLLATE
    USE_LOCALE_CTYPE
    USE_LOCALE_NUMERIC
    USE_LOCALE_TIME
    USE_PERLIO
    USE_PERL_ATOF
  Built under linux
  Compiled at Feb  6 2025 19:42:12
  %ENV:
    PERL5LIB="/home/cpansand/.cpan/build/2025042008/true-v1.0.2-1/blib/arch:/home/cpansand/.cpan/build/2025042008/true-v1.0.2-1/blib/lib:/home/cpansand/.cpan/build/2025042008/MooseX-Role-WarnOnConflict-0.01-1/blib/arch:/home/cpansand/.cpan/build/2025042008/MooseX-Role-WarnOnConflict-0.01-1/blib/lib:/home/cpansand/.cpan/build/2025042008/B-Hooks-AtRuntime-8-1/blib/arch:/home/cpansand/.cpan/build/2025042008/B-Hooks-AtRuntime-8-1/blib/lib"
    PERL5OPT=""
    PERL5_CPANPLUS_IS_RUNNING="416477"
    PERL5_CPAN_IS_RUNNING="416477"
    PERL5_CPAN_IS_RUNNING_IN_RECURSION="415446,416477"
    PERLDOC="-MPod::Perldoc::ToTextOverstrike"
    PERL_BATCH="yes"
    PERL_CANARY_STABILITY_NOPROMPT="1"
    PERL_CPAN_REPORTER_CONFIG="/var/tmp/cpansmoker-1023/2025042008/cpanreporter_000_config.ini"
    PERL_EXTUTILS_AUTOINSTALL="--defaultdeps"
    PERL_USE_UNSAFE_INC="1"
  @INC:
    /home/cpansand/.cpan/build/2025042008/true-v1.0.2-1/blib/arch
    /home/cpansand/.cpan/build/2025042008/true-v1.0.2-1/blib/lib
    /home/cpansand/.cpan/build/2025042008/MooseX-Role-WarnOnConflict-0.01-1/blib/arch
    /home/cpansand/.cpan/build/2025042008/MooseX-Role-WarnOnConflict-0.01-1/blib/lib
    /home/cpansand/.cpan/build/2025042008/B-Hooks-AtRuntime-8-1/blib/arch
    /home/cpansand/.cpan/build/2025042008/B-Hooks-AtRuntime-8-1/blib/lib
    /opt/perl-5.38.3/lib/site_perl/5.38.3/x86_64-linux
    /opt/perl-5.38.3/lib/site_perl/5.38.3
    /opt/perl-5.38.3/lib/5.38.3/x86_64-linux
    /opt/perl-5.38.3/lib/5.38.3
    .