Report for Module-Packaged-Generator-1.111930

Back
From: metabase:user:320bfe00-2aae-11df-837a-5e0a49663a4f
Subject: PASS Module-Packaged-Generator-1.111930 v5.14.2 GNU/Linux
Date: 2012-09-14T18:17:13Z

This distribution has been tested as part of the CPAN Testers
project, supporting the Perl programming language.  See
http://wiki.cpantesters.org/ for more information or email
questions to cpan-testers-discuss@perl.org


--
Dear Jerome Quelin,

This is a computer-generated report for Module-Packaged-Generator-1.111930
on perl 5.14.2, created by CPAN-Reporter-1.2006.

Thank you for uploading your work to CPAN.  Congratulations!
All tests were successful.

Sections of this report:

    * Tester comments
    * Program output
    * Prerequisites
    * Environment and other context

------------------------------
TESTER COMMENTS
------------------------------

Additional comments from tester:

this report is from an automated smoke testing program
and was not reviewed by a human for accuracy

------------------------------
PROGRAM OUTPUT
------------------------------

Output from './Build test':

t/00-compile.t ................ ok
# 
# 
# perl: v5.14.2 (wanted 5.010) on linux from /mnt/k75/homesand/src/perl/repoperls/installed-perls/perl/v5.14.2/a2da/bin/perl
# 
# DBI                                           => 1.622      (want any version)
# Devel::Platform::Info::Linux                  => 0.10       (want any version)
# Exporter::Lite                                => 0.02       (want any version)
# File::Copy                                    => 2.21       (want any version)
# File::Find                                    => 1.19       (want any version)
# File::HomeDir::PathClass                      => 1.112060   (want any version)
# File::Spec::Functions                         => 3.33       (want any version)
# File::Temp                                    => 0.22       (want any version)
# FindBin                                       => 1.50       (want any version)
# Getopt::Long::Descriptive                     => 0.092      (want any version)
# LWP::Simple                                   => 6.00       (want any version)
# Log::Dispatchouli                             => 2.005      (want any version)
# Module::Build                                 => 0.4002     (want 0.3601) 
# Moose                                         => 2.0603     (want any version)
# Moose::Role                                   => 2.0603     (want any version)
# MooseX::ClassAttribute                        => 0.26       (want any version)
# MooseX::Has::Sugar                            => 0.05070421 (want any version)
# MooseX::SemiAffordanceAccessor                => 0.09       (want any version)
# MooseX::Singleton                             => 0.29       (want any version)
# Parse::CPAN::Packages::Fast                   => 0.06       (want any version)
# Term::ProgressBar::Quiet                      => 0.31       (want any version)
# Test::MockObject                              => 1.20120301 (want any version)
# Test::More                                    => 0.9803     (want 0.88)   
# 
# Thanks for using my code.  I hope it works for you.
# If not, please try and include this output in the bug report.
# That will help me reproduce the issue and solve you problem.
# 
t/000-report-versions-tiny.t .. ok
t/release-has-version.t ....... skipped: these tests are for release candidate testing
t/release-kwalitee.t .......... skipped: these tests are for release candidate testing
t/release-minimum-version.t ... skipped: these tests are for release candidate testing
t/release-pod-coverage.t ...... skipped: these tests are for release candidate testing
t/release-pod-syntax.t ........ skipped: these tests are for release candidate testing
All tests successful.
Files=7, Tests=14,  8 wallclock secs ( 0.03 usr  0.01 sys +  4.92 cusr  0.52 csys =  5.48 CPU)
Result: PASS

------------------------------
PREREQUISITES
------------------------------

Prerequisite modules loaded:

requires:

    Module                         Need   Have      
    ------------------------------ ------ ----------
    DBI                            0      1.622     
    Devel::Platform::Info::Linux   0      0.10      
    Exporter::Lite                 0      0.02      
    File::Copy                     0      2.21      
    File::HomeDir::PathClass       0      1.112060  
    File::Spec::Functions          0      3.33      
    File::Temp                     0      0.22      
    FindBin                        0      1.50      
    Getopt::Long::Descriptive      0      0.092     
    Log::Dispatchouli              0      2.005     
    LWP::Simple                    0      6.00      
    Moose                          0      2.0603    
    Moose::Role                    0      2.0603    
    MooseX::ClassAttribute         0      0.26      
    MooseX::Has::Sugar             0      0.05070421
    MooseX::SemiAffordanceAccessor 0      0.09      
    MooseX::Singleton              0      0.29      
    Parse::CPAN::Packages::Fast    0      0.06      
    perl                           5.010  5.014002  
    Term::ProgressBar::Quiet       0      0.31      
    Test::MockObject               0      1.20120301

build_requires:

    Module                         Need   Have      
    ------------------------------ ------ ----------
    File::Find                     0      1.19      
    Module::Build                  0.3601 0.4002    
    Test::More                     0.88   0.98_03   

configure_requires:

    Module                         Need   Have      
    ------------------------------ ------ ----------
    Module::Build                  0.3601 0.4002    


------------------------------
ENVIRONMENT AND OTHER CONTEXT
------------------------------

Environment variables:

    AUTOMATED_TESTING = 1
    LANG = en_US.UTF-8
    LANGUAGE = en_US:en
    PATH = /home/sand/bin:/usr/local/bin:/usr/bin:/bin:/usr/bin/X11:/usr/games:/usr/local/perl/bin:/usr/X11/bin:/sbin:/usr/sbin
    PERL5LIB = 
    PERL5OPT = 
    PERL5_CPANPLUS_IS_RUNNING = 12303
    PERL5_CPAN_IS_RUNNING = 12303
    PERL_MM_USE_DEFAULT = 1
    SHELL = /usr/bin/zsh
    TERM = screen

Perl special variables (and OS-specific diagnostics, for MSWin32):

    $^X = /mnt/k75/homesand/src/perl/repoperls/installed-perls/perl/v5.14.2/a2da/bin/perl
    $UID/$EUID = 1005 / 1005
    $GID = 1005 1005
    $EGID = 1005 1005

Perl module toolchain versions installed:

    Module              Have    
    ------------------- --------
    CPAN                1.9800  
    CPAN::Meta          2.120921
    Cwd                 3.36    
    ExtUtils::CBuilder  0.280205
    ExtUtils::Command   1.17    
    ExtUtils::Install   1.56    
    ExtUtils::MakeMaker 6.62    
    ExtUtils::Manifest  1.61    
    ExtUtils::ParseXS   3.15    
    File::Spec          3.33    
    JSON                2.53    
    JSON::PP            2.27200 
    Module::Build       0.4002  
    Module::Signature   0.68    
    Parse::CPAN::Meta   1.4404  
    Test::Harness       3.25    
    Test::More          0.98_03 
    YAML                0.84    
    YAML::Syck          1.21_01 
    version             0.9901  


--

Summary of my perl5 (revision 5 version 14 subversion 2) configuration:
  Commit id: dc281e6088d189558b79a5121119b7196c8b3db0
  Platform:
    osname=linux, osvers=3.2.0-3-amd64, archname=x86_64-linux-thread-multi-ld
    uname='linux k83 3.2.0-3-amd64 #1 smp mon jul 23 02:45:17 utc 2012 x86_64 gnulinux '
    config_args='-Dprefix=/home/src/perl/repoperls/installed-perls/perl/v5.14.2/a2da -Dmyhostname=k83 -Dinstallusrbinperl=n -Uversiononly -Dusedevel -des -Ui_db -Duseithreads -Duselongdouble -DDEBUGGING=-g'
    hint=recommended, useposix=true, d_sigaction=define
    useithreads=define, usemultiplicity=define
    useperlio=define, d_sfio=undef, uselargefiles=define, usesocks=undef
    use64bitint=define, use64bitall=define, uselongdouble=define
    usemymalloc=n, bincompat5005=undef
  Compiler:
    cc='cc', ccflags ='-D_REENTRANT -D_GNU_SOURCE -fno-strict-aliasing -pipe -fstack-protector -I/usr/local/include -D_LARGEFILE_SOURCE -D_FILE_OFFSET_BITS=64',
    optimize='-O2 -g',
    cppflags='-D_REENTRANT -D_GNU_SOURCE -fno-strict-aliasing -pipe -fstack-protector -I/usr/local/include'
    ccversion='', gccversion='4.7.1', gccosandvers=''
    intsize=4, longsize=8, ptrsize=8, doublesize=8, byteorder=12345678
    d_longlong=define, longlongsize=8, d_longdbl=define, longdblsize=16
    ivtype='long', ivsize=8, nvtype='long double', nvsize=16, Off_t='off_t', lseeksize=8
    alignbytes=16, prototype=define
  Linker and Libraries:
    ld='cc', ldflags =' -fstack-protector -L/usr/local/lib'
    libpth=/usr/local/lib /lib/x86_64-linux-gnu /lib/../lib /usr/lib/x86_64-linux-gnu /usr/lib/../lib /lib /usr/lib
    libs=-lnsl -ldb -ldl -lm -lcrypt -lutil -lpthread -lc
    perllibs=-lnsl -ldl -lm -lcrypt -lutil -lpthread -lc
    libc=, so=so, useshrplib=false, libperl=libperl.a
    gnulibc_version='2.13'
  Dynamic Linking:
    dlsrc=dl_dlopen.xs, dlext=so, d_dlsymun=undef, ccdlflags='-Wl,-E'
    cccdlflags='-fPIC', lddlflags='-shared -O2 -g -L/usr/local/lib -fstack-protector'


Characteristics of this binary (from libperl): 
  Compile-time options: MULTIPLICITY PERL_DONT_CREATE_GVSV
                        PERL_IMPLICIT_CONTEXT PERL_MALLOC_WRAP
                        PERL_PRESERVE_IVUV PERL_USE_DEVEL USE_64_BIT_ALL
                        USE_64_BIT_INT USE_ITHREADS USE_LARGE_FILES
                        USE_LONG_DOUBLE USE_PERLIO USE_PERL_ATOF
                        USE_REENTRANT_API
  Built under linux
  Compiled at Aug  5 2012 07:07:49
  %ENV:
    PERL5LIB=""
    PERL5OPT=""
    PERL5_CPANPLUS_IS_RUNNING="12303"
    PERL5_CPAN_IS_RUNNING="12303"
    PERL_MM_USE_DEFAULT="1"
  @INC:
    /home/src/perl/repoperls/installed-perls/perl/v5.14.2/a2da/lib/site_perl/5.14.2/x86_64-linux-thread-multi-ld
    /home/src/perl/repoperls/installed-perls/perl/v5.14.2/a2da/lib/site_perl/5.14.2
    /home/src/perl/repoperls/installed-perls/perl/v5.14.2/a2da/lib/5.14.2/x86_64-linux-thread-multi-ld
    /home/src/perl/repoperls/installed-perls/perl/v5.14.2/a2da/lib/5.14.2
    .