Report for PostScript-Report-0.13

Back
From: metabase:user:30ae4450-2aae-11df-837a-5e0a49663a4f
Subject: PASS PostScript-Report-0.13 v5.18.2 RC4 
Date: 2013-12-30T13:32:20Z

This distribution has been tested as part of the CPAN Testers
project, supporting the Perl programming language.  See
http://wiki.cpantesters.org/ for more information or email
questions to cpan-testers-discuss@perl.org


--
Dear Christopher J. Madsen,

This is a computer-generated report for PostScript-Report-0.13
on perl 5.18.2, created by CPAN-Reporter-1.2010_01.

Thank you for uploading your work to CPAN.  Congratulations!
All tests were successful.

Sections of this report:

    * Tester comments
    * Program output
    * Prerequisites
    * Environment and other context

------------------------------
TESTER COMMENTS
------------------------------

Additional comments from tester:

this report is from an automated smoke testing program
and was not reviewed by a human for accuracy

------------------------------
PROGRAM OUTPUT
------------------------------

Output from 'C:\strawberry182RC4\c\bin\dmake.exe test':

C:\strawberry182RC4\perl\bin\perl.exe "-MExtUtils::Command::MM" "-MTest::Harness" "-e" "undef *Test::Harness::Switches; test_harness(0, 'blib\lib', 'blib\arch')" t/*.t
# Listing %INC
#                                                        B 1.42_02
#                                     B::Hooks::EndOfScope 0.12
#                                 B::Hooks::EndOfScope::XS 0.12
#                                                     Carp 1.32
#                                               Carp::Clan 6.04
#                                              Carp::Heavy 1.32
#                                              Class::Load 0.20
#                                          Class::Load::XS 0.06
#                                               Class::MOP 2.1005
#                                    Class::MOP::Attribute 2.1005
#                                        Class::MOP::Class 2.1005
#                      Class::MOP::Class::Immutable::Trait 2.1005
#                                   Class::MOP::Deprecated 2.1005
#                                     Class::MOP::Instance 2.1005
#                                       Class::MOP::Method 2.1005
#                             Class::MOP::Method::Accessor 2.1005
#                          Class::MOP::Method::Constructor 2.1005
#                            Class::MOP::Method::Generated 2.1005
#                              Class::MOP::Method::Inlined 2.1005
#                                 Class::MOP::Method::Meta 2.1005
#                             Class::MOP::Method::Overload 2.1005
#                              Class::MOP::Method::Wrapped 2.1005
#                                    Class::MOP::MiniTrait 2.1005
#                                        Class::MOP::Mixin 2.1005
#                         Class::MOP::Mixin::AttributeCore 2.1005
#                         Class::MOP::Mixin::HasAttributes 2.1005
#                            Class::MOP::Mixin::HasMethods 2.1005
#                                       Class::MOP::Module 2.1005
#                                       Class::MOP::Object 2.1005
#                                      Class::MOP::Package 2.1005
#                                                   Config 5.018002
#                                            Data::OptList 0.109
#                                 Devel::GlobalDestruction 0.12
#                                               DynaLoader 1.18
#                                            Eval::Closure 0.11
#                                                 Exporter 5.68
#                                               File::Spec 3.40
#                                         File::Spec::Unix 3.40
#                                        File::Spec::Win32 3.40
#                                          List::MoreUtils 0.33
#                                               List::Util 1.35
#                                              MRO::Compat 0.12
#                                   Module::Implementation 0.07
#                                          Module::Runtime 0.013
#                                                    Moose 2.1005
#                                        Moose::Deprecated 2.1005
#                                    Moose::Error::Default 2.1005
#                                       Moose::Error::Util undef
#                                          Moose::Exporter 2.1005
#                                   Moose::Meta::Attribute 2.1005
#                           Moose::Meta::Attribute::Native 2.1005
#                                       Moose::Meta::Class 2.1005
#                     Moose::Meta::Class::Immutable::Trait 2.1005
#                                    Moose::Meta::Instance 2.1005
#                                      Moose::Meta::Method 2.1005
#                            Moose::Meta::Method::Accessor 2.1005
#                           Moose::Meta::Method::Augmented 2.1005
#                         Moose::Meta::Method::Constructor 2.1005
#                          Moose::Meta::Method::Delegation 2.1005
#                          Moose::Meta::Method::Destructor 2.1005
#                                Moose::Meta::Method::Meta 2.1005
#                          Moose::Meta::Method::Overridden 2.1005
#                        Moose::Meta::Mixin::AttributeCore 2.1005
#                               Moose::Meta::Object::Trait 2.1005
#                                        Moose::Meta::Role 2.1005
#                           Moose::Meta::Role::Application 2.1005
#            Moose::Meta::Role::Application::RoleSummation 2.1005
#                  Moose::Meta::Role::Application::ToClass 2.1005
#               Moose::Meta::Role::Application::ToInstance 2.1005
#                   Moose::Meta::Role::Application::ToRole 2.1005
#                             Moose::Meta::Role::Attribute 2.1005
#                             Moose::Meta::Role::Composite 2.1005
#                                Moose::Meta::Role::Method 2.1005
#                   Moose::Meta::Role::Method::Conflicting 2.1005
#                      Moose::Meta::Role::Method::Required 2.1005
#                                Moose::Meta::TypeCoercion 2.1005
#                         Moose::Meta::TypeCoercion::Union 2.1005
#                              Moose::Meta::TypeConstraint 2.1005
#                       Moose::Meta::TypeConstraint::Class 2.1005
#                    Moose::Meta::TypeConstraint::DuckType 2.1005
#                        Moose::Meta::TypeConstraint::Enum 2.1005
#             Moose::Meta::TypeConstraint::Parameterizable 2.1005
#               Moose::Meta::TypeConstraint::Parameterized 2.1005
#                    Moose::Meta::TypeConstraint::Registry 2.1005
#                        Moose::Meta::TypeConstraint::Role 2.1005
#                       Moose::Meta::TypeConstraint::Union 2.1005
#                                            Moose::Object 2.1005
#                                              Moose::Role 2.1005
#                                              Moose::Util 2.1005
#                                    Moose::Util::MetaRole 2.1005
#                             Moose::Util::TypeConstraints 2.1005
#                   Moose::Util::TypeConstraints::Builtins 2.1005
#                                    MooseX::AttributeTree 0.05
#                          MooseX::AttributeTree::Accessor 0.03
#                              MooseX::Role::Parameterized 1.02
# MooseX::Role::Parameterized::Meta::Role::Parameterizable 1.02
#   MooseX::Role::Parameterized::Meta::Role::Parameterized 1.02
#  MooseX::Role::Parameterized::Meta::Trait::Parameterized 1.02
#                  MooseX::Role::Parameterized::Parameters 1.02
#                                            MooseX::Types 0.41
#                                      MooseX::Types::Base 0.41
#                        MooseX::Types::CheckedUtilExports 0.41
#                                     MooseX::Types::Moose 0.41
#                             MooseX::Types::TypeDecorator 0.41
#                             MooseX::Types::UndefinedType 0.41
#                                      MooseX::Types::Util 0.41
#                              Package::DeprecationManager 0.13
#                                           Package::Stash 0.36
#                                       Package::Stash::XS 0.28
#                                             Params::Util 1.07
#                                         PostScript::File 2.20
#                                             Scalar::Util 1.35
#                                    String::RewritePrefix 0.007
#                                            Sub::Exporter 0.987
#                               Sub::Exporter::Progressive 0.001011
#                                             Sub::Install 0.927
#                                                Sub::Name 0.05
#                                                Try::Tiny 0.18
#                                          Variable::Magic 0.53
#                                                 XSLoader 0.16
#                                                     base 2.18
#                                                 constant 1.27
#                                                       if 0.0602
#                                                metaclass 2.1005
#                                                      mro 1.11
#                                     namespace::autoclean 0.15
#                                         namespace::clean 0.24
#                                                 overload 1.22
#                                              overloading 0.02
#                                                       re 0.23
#                                                   strict 1.07
#                                                     utf8 1.10
#                                                     vars 1.03
#                                                 warnings 1.18
#                                       warnings::register 1.02
t/00-all_prereqs.t .. ok
# Testing PostScript::Report 0.13
t/00-load.t ......... ok
t/10-structure.t .... ok
t/20-warnings.t ..... ok
t/30-output.t ....... ok
t/40-linkparser.t ... ok
All tests successful.
Files=6, Tests=89,  8 wallclock secs ( 0.04 usr +  0.08 sys =  0.12 CPU)
Result: PASS

------------------------------
PREREQUISITES
------------------------------

Prerequisite modules loaded:

requires:

    Module                Need  Have    
    --------------------- ----- --------
    Carp                  0     1.32    
    File::Spec            0     3.40    
    List::Util            0     1.35    
    Module::Runtime       0     0.013   
    Moose                 0.90  2.1005  
    Moose::Role           0     2.1005  
    MooseX::AttributeTree 0.02  0.05    
    MooseX::Types         0     0.41    
    MooseX::Types::Moose  0     0.41    
    namespace::autoclean  0     0.15    
    PostScript::File      2.20  2.20    
    Scalar::Util          0     1.35    
    String::RewritePrefix 0     0.007   

build_requires:

    Module                Need  Have    
    --------------------- ----- --------
    Encode                0     2.56    
    Test::More            0.88  1.001002

configure_requires:

    Module                Need  Have    
    --------------------- ----- --------
    ExtUtils::MakeMaker   6.30  6.84    
    Moose                 0     2.1005  
    MooseX::Types         0     0.41    
    perl                  5.008 5.018002
    version               0.77  0.9904  


------------------------------
ENVIRONMENT AND OTHER CONTEXT
------------------------------

Environment variables:

    AUTOMATED_TESTING = 1
    COMSPEC = C:\WINDOWS\system32\cmd.exe
    NUMBER_OF_PROCESSORS = 1
    PATH = C:\Program Files\Far Manager\;C:\WINDOWS\system32;C:\WINDOWS;C:\WINDOWS\System32\Wbem;C:\strawberry182RC4\c\bin;C:\strawberry182RC4\perl\site\bin;C:\strawberry182RC4\perl\bin
    PERL5LIB = C:\strawberry182RC4\cpan\build\MooseX-AttributeTree-0.05-rtanew/blib/arch;C:\strawberry182RC4\cpan\build\MooseX-AttributeTree-0.05-rtanew/blib/lib;C:\strawberry182RC4\cpan\build\PostScript-File-2.20-3iwdog/blib/arch;C:\strawberry182RC4\cpan\build\PostScript-File-2.20-3iwdog/blib/lib
    PERL5OPT = 
    PERL5_CPANPLUS_IS_RUNNING = 612
    PERL5_CPAN_IS_RUNNING = 612
    PERL5_CPAN_IS_RUNNING_IN_RECURSION = 1148,612
    PERL_CR_SMOKER_CURRENT = PostScript-Report-0.13
    PERL_EXTUTILS_AUTOINSTALL = --defaultdeps
    PERL_MM_USE_DEFAULT = 1
    PROCESSOR_IDENTIFIER = x86 Family 16 Model 5 Stepping 3, AuthenticAMD
    TEMP = C:\DOCUME~1\c\LOCALS~1\Temp
    TERM = dumb

Perl special variables (and OS-specific diagnostics, for MSWin32):

    $^X = C:\strawberry182RC4\perl\bin\perl.exe
    $UID/$EUID = 0 / 0
    $GID = 0
    $EGID = 0
    Win32::GetOSName = WinXP/.Net
    Win32::GetOSVersion = Service Pack 3, 5, 1, 2600, 2, 3, 0, 256, 1
    Win32::FsType = NTFS
    Win32::IsAdminUser = 1

Perl module toolchain versions installed:

    Module              Have    
    ------------------- --------
    CPAN                2.00    
    CPAN::Meta          2.133380
    Cwd                 3.40    
    ExtUtils::CBuilder  0.280212
    ExtUtils::Command   1.18    
    ExtUtils::Install   1.59    
    ExtUtils::MakeMaker 6.84    
    ExtUtils::Manifest  1.63    
    ExtUtils::ParseXS   3.22    
    File::Spec          3.40    
    JSON                2.90    
    JSON::PP            2.27203 
    Module::Build       0.4203  
    Module::Signature   n/a     
    Parse::CPAN::Meta   1.4409  
    Test::Harness       3.30    
    Test::More          1.001002
    YAML                0.88    
    YAML::Syck          1.27    
    version             0.9904  


--

Summary of my perl5 (revision 5 version 18 subversion 2) configuration:
   
  Platform:
    osname=MSWin32, osvers=4.0, archname=MSWin32-x86-multi-thread
    uname='Win32 strawberry-perl-no64 5.18.2.1 #1 Thu Dec 26 18:03:25 2013 i386'
    config_args='undef'
    hint=recommended, useposix=true, d_sigaction=undef
    useithreads=define, usemultiplicity=define
    useperlio=define, d_sfio=undef, uselargefiles=define, usesocks=undef
    use64bitint=undef, use64bitall=undef, uselongdouble=undef
    usemymalloc=n, bincompat5005=undef
  Compiler:
    cc='gcc', ccflags =' -s -O2 -DWIN32  -DPERL_TEXTMODE_SCRIPTS -DPERL_IMPLICIT_CONTEXT -DPERL_IMPLICIT_SYS -DUSE_PERLIO -fno-strict-aliasing -mms-bitfields',
    optimize='-s -O2',
    cppflags='-DWIN32'
    ccversion='', gccversion='4.7.3', gccosandvers=''
    intsize=4, longsize=4, ptrsize=4, doublesize=8, byteorder=1234
    d_longlong=define, longlongsize=8, d_longdbl=define, longdblsize=12
    ivtype='long', ivsize=4, nvtype='double', nvsize=8, Off_t='long long', lseeksize=8
    alignbytes=8, prototype=define
  Linker and Libraries:
    ld='g++', ldflags ='-s -L"C:\strawberry182RC4\perl\lib\CORE" -L"C:\strawberry182RC4\c\lib"'
    libpth=C:\strawberry182RC4\c\lib C:\strawberry182RC4\c\i686-w64-mingw32\lib
    libs=-lmoldname -lkernel32 -luser32 -lgdi32 -lwinspool -lcomdlg32 -ladvapi32 -lshell32 -lole32 -loleaut32 -lnetapi32 -luuid -lws2_32 -lmpr -lwinmm -lversion -lodbc32 -lodbccp32 -lcomctl32
    perllibs=-lmoldname -lkernel32 -luser32 -lgdi32 -lwinspool -lcomdlg32 -ladvapi32 -lshell32 -lole32 -loleaut32 -lnetapi32 -luuid -lws2_32 -lmpr -lwinmm -lversion -lodbc32 -lodbccp32 -lcomctl32
    libc=, so=dll, useshrplib=true, libperl=libperl518.a
    gnulibc_version=''
  Dynamic Linking:
    dlsrc=dl_win32.xs, dlext=dll, d_dlsymun=undef, ccdlflags=' '
    cccdlflags=' ', lddlflags='-mdll -s -L"C:\strawberry182RC4\perl\lib\CORE" -L"C:\strawberry182RC4\c\lib"'


Characteristics of this binary (from libperl): 
  Compile-time options: HAS_TIMES HAVE_INTERP_INTERN MULTIPLICITY
                        PERLIO_LAYERS PERL_DONT_CREATE_GVSV
                        PERL_HASH_FUNC_ONE_AT_A_TIME_HARD
                        PERL_IMPLICIT_CONTEXT PERL_IMPLICIT_SYS
                        PERL_MALLOC_WRAP PERL_PRESERVE_IVUV PERL_SAWAMPERSAND
                        USE_ITHREADS USE_LARGE_FILES USE_LOCALE
                        USE_LOCALE_COLLATE USE_LOCALE_CTYPE
                        USE_LOCALE_NUMERIC USE_PERLIO USE_PERL_ATOF
  Locally applied patches:
	RC4
  Built under MSWin32
  Compiled at Dec 26 2013 18:09:02
  %ENV:
    PERL5LIB="C:\strawberry182RC4\cpan\build\MooseX-AttributeTree-0.05-rtanew/blib/arch;C:\strawberry182RC4\cpan\build\MooseX-AttributeTree-0.05-rtanew/blib/lib;C:\strawberry182RC4\cpan\build\PostScript-File-2.20-3iwdog/blib/arch;C:\strawberry182RC4\cpan\build\PostScript-File-2.20-3iwdog/blib/lib"
    PERL5_CPANPLUS_IS_RUNNING="612"
    PERL5_CPAN_IS_RUNNING="612"
    PERL5_CPAN_IS_RUNNING_IN_RECURSION="1148,612"
    PERL_CR_SMOKER_CURRENT="PostScript-Report-0.13"
    PERL_EXTUTILS_AUTOINSTALL="--defaultdeps"
    PERL_MM_USE_DEFAULT="1"
  @INC:
    C:\strawberry182RC4\cpan\build\MooseX-AttributeTree-0.05-rtanew/blib/arch
    C:\strawberry182RC4\cpan\build\MooseX-AttributeTree-0.05-rtanew/blib/lib
    C:\strawberry182RC4\cpan\build\PostScript-File-2.20-3iwdog/blib/arch
    C:\strawberry182RC4\cpan\build\PostScript-File-2.20-3iwdog/blib/lib
    C:/strawberry182RC4/perl/site/lib
    C:/strawberry182RC4/perl/vendor/lib
    C:/strawberry182RC4/perl/lib
    .