HTML-Formatter v2.16 Perl 5 v5.8.8 x86_64-linux-thread-multi

Status
Pass
From
Nigel Horne
Dist
HTML-Formatter v2.16
Platform
Perl 5 v5.8.8 x86_64-linux-thread-multi
Date
2017-10-18 05:44:27
ID
67d5aff4-b3c7-11e7-9be1-bbe64cf6c7cd
This distribution has been tested as part of the CPAN Testers
project, supporting the Perl programming language.  See
http://wiki.cpantesters.org/ for more information or email
questions to cpan-testers-discuss@perl.org


--
Dear Nigel Metheringham,

This is a computer-generated report for HTML-Formatter-2.16
on perl 5.8.8, created by CPAN-Reporter-1.2018.

Thank you for uploading your work to CPAN.  Congratulations!
All tests were successful.

Sections of this report:

    * Tester comments
    * Program output
    * Prerequisites
    * Environment and other context

------------------------------
TESTER COMMENTS
------------------------------

Additional comments from tester:

this report is from an automated smoke testing program
and was not reviewed by a human for accuracy

------------------------------
PROGRAM OUTPUT
------------------------------

Output from '/usr/bin/make test':

PERL_DL_NONLAZY=1 "/home/njh/perl5/perlbrew/perls/perl-5.8.8/bin/perl" "-MExtUtils::Command::MM" "-MTest::Harness" "-e" "undef *Test::Harness::Switches; test_harness(0, 'blib/lib', 'blib/arch')" t/*.t
t/02_rtf.t ................... ok
t/01_ps.t .................... ok
t/04_md.t .................... ok
t/author-critic.t ............ skipped: these tests are for testing by the author
t/author-eol.t ............... skipped: these tests are for testing by the author
t/author-no-tabs.t ........... skipped: these tests are for testing by the author
t/author-pod-spell.t ......... skipped: these tests are for testing by the author
t/author-pod-syntax.t ........ skipped: these tests are for testing by the author
t/03_text.t .................. ok
t/author-portability.t ....... skipped: these tests are for testing by the author
t/author-synopsis.t .......... skipped: these tests are for testing by the author
t/release-dist-manifest.t .... skipped: these tests are for release candidate testing
t/release-distmeta.t ......... skipped: these tests are for release candidate testing
t/release-has-version.t ...... skipped: these tests are for release candidate testing
t/release-minimum-version.t .. skipped: these tests are for release candidate testing
t/release-unused-vars.t ...... skipped: these tests are for release candidate testing
# 
# Versions for all modules listed in MYMETA.json (including optional ones):
# 
# === Configure Requires ===
# 
#     Module              Want Have
#     ------------------- ---- ----
#     ExtUtils::MakeMaker  any 7.24
# 
# === Build Requires ===
# 
#     Module              Want Have
#     ------------------- ---- ----
#     ExtUtils::MakeMaker  any 7.24
# 
# === Test Requires ===
# 
#     Module              Want     Have
#     ------------------- ---- --------
#     ExtUtils::MakeMaker  any     7.24
#     File::Slurper        any    0.010
#     File::Spec           any     3.40
#     FindBin              any     1.47
#     IO::Handle           any     1.28
#     IPC::Open3           any     1.02
#     Test::More          0.96 1.302086
#     Test::Warnings       any    0.026
#     blib                1.01     1.03
#     bytes                any     1.02
#     lib                  any   0.5565
# 
# === Test Recommends ===
# 
#     Module         Want     Have
#     ---------- -------- --------
#     CPAN::Meta 2.120900 2.150005
# 
# === Runtime Requires ===
# 
#     Module                              Want  Have
#     ----------------------------------- ---- -----
#     Carp                                 any  1.26
#     Data::Dumper                         any 2.154
#     Encode                               any  2.92
#     Font::Metrics::Courier               any undef
#     Font::Metrics::CourierBold           any undef
#     Font::Metrics::CourierBoldOblique    any undef
#     Font::Metrics::CourierOblique        any undef
#     Font::Metrics::Helvetica             any undef
#     Font::Metrics::HelveticaBold         any undef
#     Font::Metrics::HelveticaBoldOblique  any undef
#     Font::Metrics::HelveticaOblique      any undef
#     Font::Metrics::TimesBold             any undef
#     Font::Metrics::TimesBoldItalic       any undef
#     Font::Metrics::TimesItalic           any undef
#     Font::Metrics::TimesRoman            any undef
#     HTML::Element                       3.15  5.07
#     HTML::TreeBuilder                    any  5.07
#     IO::File                             any  1.14
#     base                                 any  2.07
#     integer                              any  1.00
#     parent                               any 0.225
#     strict                               any  1.03
#     utf8                                 any  1.06
#     warnings                             any  1.05
# 
t/00-compile.t ............... ok
t/00-report-prereqs.t ........ ok
t/rt111783.t ................. ok
t/rt69426.t .................. ok
All tests successful.
Files=20, Tests=94,  0 wallclock secs ( 0.04 usr  0.02 sys +  0.70 cusr  0.11 csys =  0.87 CPU)
Result: PASS

------------------------------
PREREQUISITES
------------------------------

Prerequisite modules loaded:

requires:

    Module                              Need  Have    
    ----------------------------------- ----- --------
    base                                0     2.07    
    Carp                                0     1.26    
    Data::Dumper                        0     2.154   
    Encode                              0     2.92    
    Font::Metrics::Courier              0     0       
    Font::Metrics::CourierBold          0     0       
    Font::Metrics::CourierBoldOblique   0     0       
    Font::Metrics::CourierOblique       0     0       
    Font::Metrics::Helvetica            0     0       
    Font::Metrics::HelveticaBold        0     0       
    Font::Metrics::HelveticaBoldOblique 0     0       
    Font::Metrics::HelveticaOblique     0     0       
    Font::Metrics::TimesBold            0     0       
    Font::Metrics::TimesBoldItalic      0     0       
    Font::Metrics::TimesItalic          0     0       
    Font::Metrics::TimesRoman           0     0       
    HTML::Element                       3.15  5.07    
    HTML::TreeBuilder                   0     5.07    
    integer                             0     1.00    
    IO::File                            0     1.14    
    parent                              0     0.225   
    perl                                5.008 5.008008
    strict                              0     1.03    
    utf8                                0     1.06    
    warnings                            0     1.05    

build_requires:

    Module                              Need  Have    
    ----------------------------------- ----- --------
    blib                                1.01  1.03    
    bytes                               0     1.02    
    ExtUtils::MakeMaker                 0     7.24    
    File::Slurper                       0     0.010   
    File::Spec                          0     3.40    
    FindBin                             0     1.47    
    IO::Handle                          0     1.28    
    IPC::Open3                          0     1.02    
    lib                                 0     0.5565  
    Test::More                          0.96  1.302086
    Test::Warnings                      0     0.026   

configure_requires:

    Module                              Need  Have    
    ----------------------------------- ----- --------
    ExtUtils::MakeMaker                 0     7.24    


------------------------------
ENVIRONMENT AND OTHER CONTEXT
------------------------------

Environment variables:

    AUTOMATED_TESTING = 1
    HARNESS_OPTIONS = j4
    LANG = en_GB.UTF-8
    LANGUAGE = en_GB:en
    PATH = /home/njh/perl5/perlbrew/bin:/home/njh/perl5/perlbrew/perls/perl-5.8.8/bin:/home/njh/perl5/perlbrew/bin:/usr/bin:/bin
    PERL5LIB = /home/njh/.cpan/build/HTML-Tree-5.07-6/blib/arch:/home/njh/.cpan/build/HTML-Tree-5.07-6/blib/lib:/home/njh/.cpan/build/HTML-Parser-3.72-0/blib/arch:/home/njh/.cpan/build/HTML-Parser-3.72-0/blib/lib:/home/njh/.cpan/build/Font-AFM-1.20-6/blib/arch:/home/njh/.cpan/build/Font-AFM-1.20-6/blib/lib:/home/njh/.cpan/build/File-Slurper-0.010-6/blib/arch:/home/njh/.cpan/build/File-Slurper-0.010-6/blib/lib:/home/njh/.cpan/build/HTML-Form-6.03-0/blib/arch:/home/njh/.cpan/build/HTML-Form-6.03-0/blib/lib
    PERL5OPT = 
    PERL5_CPANPLUS_IS_RUNNING = 13972
    PERL5_CPAN_IS_RUNNING = 13972
    PERLBREW_BASHRC_VERSION = 0.80
    PERLBREW_HOME = /home/njh/.perlbrew
    PERLBREW_LIB = 
    PERLBREW_MANPATH = /home/njh/perl5/perlbrew/perls/perl-5.8.8/man
    PERLBREW_PATH = /home/njh/perl5/perlbrew/bin:/home/njh/perl5/perlbrew/perls/perl-5.8.8/bin
    PERLBREW_PERL = perl-5.8.8
    PERLBREW_ROOT = /home/njh/perl5/perlbrew
    PERLBREW_VERSION = 0.80
    PERL_LOCAL_LIB_ROOT = 
    SHELL = /bin/sh

Perl special variables (and OS-specific diagnostics, for MSWin32):

    $^X = /home/njh/perl5/perlbrew/perls/perl-5.8.8/bin/perl
    $UID/$EUID = 1000 / 1000
    $GID = 1000 1000 112 108 46 44 30 29 25 24 4
    $EGID = 1000 1000 112 108 46 44 30 29 25 24 4

Perl module toolchain versions installed:

    Module              Have    
    ------------------- --------
    CPAN                2.16    
    CPAN::Meta          2.150005
    Cwd                 3.40    
    ExtUtils::CBuilder  0.280220
    ExtUtils::Command   7.24    
    ExtUtils::Install   1.54    
    ExtUtils::MakeMaker 7.24    
    ExtUtils::Manifest  1.70    
    ExtUtils::ParseXS   3.30    
    File::Spec          3.40    
    JSON                2.93    
    JSON::PP            2.27400 
    Module::Build       0.4214  
    Module::Signature   0.70    
    Parse::CPAN::Meta   1.4422  
    Test::Harness       3.36    
    Test::More          1.302086
    YAML                1.23    
    YAML::Syck          1.30    
    version             0.88    


--

Summary of my perl5 (revision 5 version 8 subversion 8) configuration:
  Platform:
    osname=linux, osvers=3.2.0-4-amd64, archname=x86_64-linux-thread-multi
    uname='linux nigelhorne.force9.co.uk 3.2.0-4-amd64 #1 smp debian 3.2.32-1 x86_64 gnulinux '
    config_args='-de -Dprefix=/home/njh/perl5/perlbrew/perls/perl-5.8.8 -Duseithreads -Dusemultiplicity -Accflags=-O2 -W -Wformat=2 -Wswitch -Wshadow -Wwrite-strings -Wuninitialized -Wall -pipe -mtune=native -march=native -fomit-frame-pointer -mfpmath=sse -pedantic -D_FORTIFY_SOURCE=2 -Wpointer-arith -Wstrict-prototypes -fstack-protector -Wstack-protector -Wextra -Wbad-function-cast -Wcast-align -Wcast-qual -Wdisabled-optimization -Wendif-labels -Wfloat-equal -Wformat-nonliteral -Winline -Wmissing-declarations -Wmissing-prototypes -Wnested-externs -Wpointer-arith -Wundef -Wformat-security -Aeval:scriptdir=/home/njh/perl5/perlbrew/perls/perl-5.8.8/bin'
    hint=recommended, useposix=true, d_sigaction=define
    usethreads=define use5005threads=undef useithreads=define usemultiplicity=define
    useperlio=define d_sfio=undef uselargefiles=define usesocks=undef
    use64bitint=define use64bitall=define uselongdouble=undef
    usemymalloc=n, bincompat5005=undef
  Compiler:
    cc='cc', ccflags ='-D_REENTRANT -D_GNU_SOURCE -O2 -W -Wformat=2 -Wswitch -Wshadow -Wwrite-strings -Wuninitialized -Wall -pipe -mtune=native -march=native -fomit-frame-pointer -mfpmath=sse -pedantic -D_FORTIFY_SOURCE=2 -Wpointer-arith -Wstrict-prototypes -fstack-protector -Wstack-protector -Wextra -Wbad-function-cast -Wcast-align -Wcast-qual -Wdisabled-optimization -Wendif-labels -Wfloat-equal -Wformat-nonliteral -Winline -Wmissing-declarations -Wmissing-prototypes -Wnested-externs -Wpointer-arith -Wundef -Wformat-security -fno-strict-aliasing -Wdeclaration-after-statement -I/usr/local/include -D_LARGEFILE_SOURCE -D_FILE_OFFSET_BITS=64',
    optimize='-O2',
    cppflags='-D_REENTRANT -D_GNU_SOURCE -O2 -W -Wformat=2 -Wswitch -Wshadow -Wwrite-strings -Wuninitialized -Wall -pipe -mtune=native -march=native -fomit-frame-pointer -mfpmath=sse -pedantic -D_FORTIFY_SOURCE=2 -Wpointer-arith -Wstrict-prototypes -fstack-protector -Wstack-protector -Wextra -Wbad-function-cast -Wcast-align -Wcast-qual -Wdisabled-optimization -Wendif-labels -Wfloat-equal -Wformat-nonliteral -Winline -Wmissing-declarations -Wmissing-prototypes -Wnested-externs -Wpointer-arith -Wundef -Wformat-security -fno-strict-aliasing -Wdeclaration-after-statement -I/usr/local/include'
    ccversion='', gccversion='4.7.2', gccosandvers=''
    intsize=4, longsize=8, ptrsize=8, doublesize=8, byteorder=12345678
    d_longlong=define, longlongsize=8, d_longdbl=define, longdblsize=16
    ivtype='long', ivsize=8, nvtype='double', nvsize=8, Off_t='off_t', lseeksize=8
    alignbytes=8, prototype=define
  Linker and Libraries:
    ld='cc', ldflags =' -L/usr/local/lib'
    libpth=/usr/local/lib /lib/x86_64-linux-gnu /lib/../lib /usr/lib/x86_64-linux-gnu /usr/lib/../lib /lib /usr/lib
    libs=-lnsl -lgdbm -ldb -ldl -lm -lcrypt -lutil -lpthread -lc -lgdbm_compat
    perllibs=-lnsl -ldl -lm -lcrypt -lutil -lpthread -lc -lgdbm_compat
    libc=, so=so, useshrplib=false, libperl=libperl.a
    gnulibc_version='2.13'
  Dynamic Linking:
    dlsrc=dl_dlopen.xs, dlext=so, d_dlsymun=undef, ccdlflags='-Wl,-E'
    cccdlflags='-fpic', lddlflags='-shared -L/usr/local/lib'


Characteristics of this binary (from libperl): 
  Compile-time options: MULTIPLICITY PERL_IMPLICIT_CONTEXT
                        PERL_MALLOC_WRAP USE_64_BIT_ALL USE_64_BIT_INT
                        USE_ITHREADS USE_LARGE_FILES USE_PERLIO
                        USE_REENTRANT_API
  Built under linux
  Compiled at Mar  5 2013 01:22:32
  %ENV:
    PERL5LIB="/home/njh/.cpan/build/HTML-Tree-5.07-6/blib/arch:/home/njh/.cpan/build/HTML-Tree-5.07-6/blib/lib:/home/njh/.cpan/build/HTML-Parser-3.72-0/blib/arch:/home/njh/.cpan/build/HTML-Parser-3.72-0/blib/lib:/home/njh/.cpan/build/Font-AFM-1.20-6/blib/arch:/home/njh/.cpan/build/Font-AFM-1.20-6/blib/lib:/home/njh/.cpan/build/File-Slurper-0.010-6/blib/arch:/home/njh/.cpan/build/File-Slurper-0.010-6/blib/lib:/home/njh/.cpan/build/HTML-Form-6.03-0/blib/arch:/home/njh/.cpan/build/HTML-Form-6.03-0/blib/lib"
    PERL5OPT=""
    PERL5_CPANPLUS_IS_RUNNING="13972"
    PERL5_CPAN_IS_RUNNING="13972"
    PERLBREW_BASHRC_VERSION="0.80"
    PERLBREW_HOME="/home/njh/.perlbrew"
    PERLBREW_LIB=""
    PERLBREW_MANPATH="/home/njh/perl5/perlbrew/perls/perl-5.8.8/man"
    PERLBREW_PATH="/home/njh/perl5/perlbrew/bin:/home/njh/perl5/perlbrew/perls/perl-5.8.8/bin"
    PERLBREW_PERL="perl-5.8.8"
    PERLBREW_ROOT="/home/njh/perl5/perlbrew"
    PERLBREW_VERSION="0.80"
    PERL_LOCAL_LIB_ROOT=""
  @INC:
    /home/njh/.cpan/build/HTML-Tree-5.07-6/blib/arch
    /home/njh/.cpan/build/HTML-Tree-5.07-6/blib/lib
    /home/njh/.cpan/build/HTML-Parser-3.72-0/blib/arch
    /home/njh/.cpan/build/HTML-Parser-3.72-0/blib/lib
    /home/njh/.cpan/build/Font-AFM-1.20-6/blib/arch
    /home/njh/.cpan/build/Font-AFM-1.20-6/blib/lib
    /home/njh/.cpan/build/File-Slurper-0.010-6/blib/arch
    /home/njh/.cpan/build/File-Slurper-0.010-6/blib/lib
    /home/njh/.cpan/build/HTML-Form-6.03-0/blib/arch
    /home/njh/.cpan/build/HTML-Form-6.03-0/blib/lib
    /home/njh/perl5/perlbrew/perls/perl-5.8.8/lib/5.8.8/x86_64-linux-thread-multi
    /home/njh/perl5/perlbrew/perls/perl-5.8.8/lib/5.8.8
    /home/njh/perl5/perlbrew/perls/perl-5.8.8/lib/site_perl/5.8.8/x86_64-linux-thread-multi
    /home/njh/perl5/perlbrew/perls/perl-5.8.8/lib/site_perl/5.8.8
    /home/njh/perl5/perlbrew/perls/perl-5.8.8/lib/site_perl
    .