HTTP-Async v0.33 Perl 5 v5.30.0 darwin-thread-multi-2level

Status
Pass
From
Serguei Trouchelle (STRO)
Dist
HTTP-Async v0.33
Platform
Perl 5 v5.30.0 darwin-thread-multi-2level
Date
2019-11-05 19:56:49
ID
6780f60c-0006-11ea-9ddc-d11e5181e25b
This distribution has been tested as part of the CPAN Testers
project, supporting the Perl programming language.  See
http://wiki.cpantesters.org/ for more information or email
questions to cpan-testers-discuss@perl.org


--
Dear Alex Balhatchet,

This is a computer-generated report for HTTP-Async-0.33
on perl 5.30.0, created by CPAN-Reporter-1.2018.

Thank you for uploading your work to CPAN.  Congratulations!
All tests were successful.

Sections of this report:

    * Tester comments
    * Program output
    * Prerequisites
    * Environment and other context

------------------------------
TESTER COMMENTS
------------------------------

Additional comments from tester:

none provided

------------------------------
PROGRAM OUTPUT
------------------------------

Output from '/usr/bin/make test':

PERL_DL_NONLAZY=1 "/usr/local/Cellar/perl/5.30.0/bin/perl" "-MExtUtils::Command::MM" "-MTest::Harness" "-e" "undef *Test::Harness::Switches; test_harness(0, 'blib/lib', 'blib/arch')" t/*.t
t/bad-connections.t ....... ok
t/bad-headers.t ........... ok
t/bad-hosts.t ............. ok
t/cookies.t ............... ok
t/dead-connection.t ....... ok
t/headers.t ............... ok
t/invalid-options.t ....... ok
t/key_aliases.t ........... ok
t/local-addr.t ............ skipped: test requires Sys::HostIP to be installed
t/make-url-absolute.t ..... ok
t/not-modified.t .......... ok
t/peer-addr.t ............. ok
t/pod-coverage.t .......... ok
t/pod.t ................... ok
t/polite.t ................ ok
t/poll-interval.t ......... ok
t/proxy-with-https.t ...... skipped: enable these tests by setting REAL_SERVERS
t/proxy.t ................. ok
t/real-servers.t .......... skipped: enable these tests by setting REAL_SERVERS
t/redirects.t ............. ok
t/release-cpan-changes.t .. skipped: install Test::CPAN::Changes to run this test
t/remove.t ................ ok
t/setup.t ................. ok
t/strip-host-from-uri.t ... ok
t/template.t .............. skipped: just a template to base other tests on
t/timeout.t ............... ok
All tests successful.
Files=26, Tests=193, 46 wallclock secs ( 0.08 usr  0.06 sys +  4.45 cusr  1.06 csys =  5.65 CPU)
Result: PASS

------------------------------
PREREQUISITES
------------------------------

Prerequisite modules loaded:

requires:

    Module                     Need  Have    
    -------------------------- ----- --------
    Carp                       0     1.50    
    Data::Dumper               0     2.174   
    HTTP::Request              0     6.18    
    HTTP::Response             0     6.18    
    HTTP::Server::Simple::CGI  0     0       
    HTTP::Status               0     6.18    
    IO::Select                 0     1.40    
    LWP::UserAgent             0     6.41    
    Net::EmptyPort             0     0       
    Net::HTTP                  0     6.19    
    Net::HTTP::NB              0     6.19    
    Net::HTTPS::NB             0.13  0.15    
    perl                       5.006 5.030000
    Test::Fatal                0     0.014   
    Test::HTTP::Server::Simple 0     0.11    
    Test::More                 0     1.302168
    Time::HiRes                0     1.9760  
    URI                        0     1.76    
    URI::Escape                0     3.31    

build_requires:

    Module                     Need  Have    
    -------------------------- ----- --------
    ExtUtils::MakeMaker        0     7.38    

configure_requires:

    Module                     Need  Have    
    -------------------------- ----- --------
    ExtUtils::MakeMaker        0     7.38    


------------------------------
ENVIRONMENT AND OTHER CONTEXT
------------------------------

Environment variables:

    LANG = en_US.UTF-8
    LC_TERMINAL = iTerm2
    LC_TERMINAL_VERSION = 3.3.7beta2
    NONINTERACTIVE_TESTING = 1
    PATH = /Users/strushel/perl5/bin:/opt/kroleg/mc/bin:/usr/local/bin:/usr/bin:/bin:/usr/sbin:/sbin
    PERL5LIB = /Users/strushel/perl5/lib/perl5
    PERL5OPT = 
    PERL5_CPANPLUS_IS_RUNNING = 12397
    PERL5_CPAN_IS_RUNNING = 12397
    PERL_LOCAL_LIB_ROOT = /Users/strushel/perl5
    PERL_MB_OPT = --install_base "/Users/strushel/perl5"
    PERL_MM_OPT = INSTALL_BASE=/Users/strushel/perl5
    PERL_MM_USE_DEFAULT = 1
    PERL_USE_UNSAFE_INC = 1
    SHELL = /bin/bash
    TERM = xterm-256color
    TMPDIR = /var/folders/wh/qkk41l3s46113dn869x5vhgr0000gp/T/

Perl special variables (and OS-specific diagnostics, for MSWin32):

    $^X = /usr/local/Cellar/perl/5.30.0/bin/perl
    $UID/$EUID = 502 / 502
    $GID = 20 20 12 61 79 80 81 98 702 701 33 100 204 250 395 398 399
    $EGID = 20 20 12 61 79 80 81 98 702 701 33 100 204 250 395 398 399

Perl module toolchain versions installed:

    Module              Have    
    ------------------- --------
    CPAN                2.22    
    CPAN::Meta          2.143240
    Cwd                 3.78    
    ExtUtils::CBuilder  0.280231
    ExtUtils::Command   7.38    
    ExtUtils::Install   2.06    
    ExtUtils::MakeMaker 7.38    
    ExtUtils::Manifest  1.70    
    ExtUtils::ParseXS   3.40    
    File::Spec          3.78    
    JSON                4.02    
    JSON::PP            4.04    
    Module::Build       0.4229  
    Module::Signature   n/a     
    Parse::CPAN::Meta   1.4414  
    Test::Harness       3.42    
    Test::More          1.302168
    YAML                1.29    
    YAML::Syck          n/a     
    version             0.9924  


--

Summary of my perl5 (revision 5 version 30 subversion 0) configuration:
   
  Platform:
    osname=darwin
    osvers=18.6.0
    archname=darwin-thread-multi-2level
    uname='darwin mojave-2.local 18.6.0 darwin kernel version 18.6.0: thu apr 25 23:16:27 pdt 2019; root:xnu-4903.261.4~2release_x86_64 x86_64 '
    config_args='-des -Dprefix=/usr/local/Cellar/perl/5.30.0 -Dprivlib=/usr/local/Cellar/perl/5.30.0/lib/perl5/5.30.0 -Dsitelib=/usr/local/Cellar/perl/5.30.0/lib/perl5/site_perl/5.30.0 -Dotherlibdirs=/usr/local/lib/perl5/site_perl/5.30.0 -Dperlpath=/usr/local/opt/perl/bin/perl -Dstartperl=#!/usr/local/opt/perl/bin/perl -Dman1dir=/usr/local/Cellar/perl/5.30.0/share/man/man1 -Dman3dir=/usr/local/Cellar/perl/5.30.0/share/man/man3 -Duseshrplib -Duselargefiles -Dusethreads'
    hint=recommended
    useposix=true
    d_sigaction=define
    useithreads=define
    usemultiplicity=define
    use64bitint=define
    use64bitall=define
    uselongdouble=undef
    usemymalloc=n
    default_inc_excludes_dot=define
    bincompat5005=undef
  Compiler:
    cc='cc'
    ccflags ='-fno-common -DPERL_DARWIN -mmacosx-version-min=10.14 -fno-strict-aliasing -pipe -fstack-protector-strong -I/usr/local/include -DPERL_USE_SAFE_PUTENV'
    optimize='-O3'
    cppflags='-fno-common -DPERL_DARWIN -mmacosx-version-min=10.14 -fno-strict-aliasing -pipe -fstack-protector-strong -I/usr/local/include'
    ccversion=''
    gccversion='4.2.1 Compatible Apple LLVM 10.0.1 (clang-1001.0.46.4)'
    gccosandvers=''
    intsize=4
    longsize=8
    ptrsize=8
    doublesize=8
    byteorder=12345678
    doublekind=3
    d_longlong=define
    longlongsize=8
    d_longdbl=define
    longdblsize=16
    longdblkind=3
    ivtype='long'
    ivsize=8
    nvtype='double'
    nvsize=8
    Off_t='off_t'
    lseeksize=8
    alignbytes=8
    prototype=define
  Linker and Libraries:
    ld='cc'
    ldflags =' -mmacosx-version-min=10.14 -fstack-protector-strong -L/usr/local/lib'
    libpth=/usr/local/lib /Applications/Xcode.app/Contents/Developer/Platforms/MacOSX.platform/Developer/SDKs/MacOSX10.14.sdk/usr/include/libxml2 /Applications/Xcode.app/Contents/Developer/Toolchains/XcodeDefault.xctoolchain/usr/lib/clang/10.0.1/lib /Applications/Xcode.app/Contents/Developer/Toolchains/XcodeDefault.xctoolchain/usr/lib /Applications/Xcode.app/Contents/Developer/Platforms/MacOSX.platform/Developer/SDKs/MacOSX10.14.sdk/usr/lib /usr/lib
    libs=-lpthread -ldbm -ldl -lm -lutil -lc
    perllibs=-lpthread -ldl -lm -lutil -lc
    libc=
    so=dylib
    useshrplib=true
    libperl=libperl.dylib
    gnulibc_version=''
  Dynamic Linking:
    dlsrc=dl_dlopen.xs
    dlext=bundle
    d_dlsymun=undef
    ccdlflags=' '
    cccdlflags=' '
    lddlflags=' -mmacosx-version-min=10.14 -bundle -undefined dynamic_lookup -L/usr/local/lib -fstack-protector-strong'


Characteristics of this binary (from libperl): 
  Compile-time options:
    HAS_TIMES
    MULTIPLICITY
    PERLIO_LAYERS
    PERL_COPY_ON_WRITE
    PERL_DONT_CREATE_GVSV
    PERL_IMPLICIT_CONTEXT
    PERL_MALLOC_WRAP
    PERL_OP_PARENT
    PERL_PRESERVE_IVUV
    PERL_USE_SAFE_PUTENV
    USE_64_BIT_ALL
    USE_64_BIT_INT
    USE_ITHREADS
    USE_LARGE_FILES
    USE_LOCALE
    USE_LOCALE_COLLATE
    USE_LOCALE_CTYPE
    USE_LOCALE_NUMERIC
    USE_LOCALE_TIME
    USE_PERLIO
    USE_PERL_ATOF
    USE_REENTRANT_API
    USE_THREAD_SAFE_LOCALE
  Built under darwin
  Compiled at May 30 2019 18:29:19
  %ENV:
    PERL5LIB="/Users/strushel/perl5/lib/perl5"
    PERL5OPT=""
    PERL5_CPANPLUS_IS_RUNNING="12397"
    PERL5_CPAN_IS_RUNNING="12397"
    PERL_LOCAL_LIB_ROOT="/Users/strushel/perl5"
    PERL_MB_OPT="--install_base "/Users/strushel/perl5""
    PERL_MM_OPT="INSTALL_BASE=/Users/strushel/perl5"
    PERL_MM_USE_DEFAULT="1"
    PERL_USE_UNSAFE_INC="1"
  @INC:
    /Users/strushel/perl5/lib/perl5/5.30.0/darwin-thread-multi-2level
    /Users/strushel/perl5/lib/perl5/5.30.0
    /Users/strushel/perl5/lib/perl5/darwin-thread-multi-2level
    /Users/strushel/perl5/lib/perl5
    /usr/local/Cellar/perl/5.30.0/lib/perl5/site_perl/5.30.0/darwin-thread-multi-2level
    /usr/local/Cellar/perl/5.30.0/lib/perl5/site_perl/5.30.0
    /usr/local/Cellar/perl/5.30.0/lib/perl5/5.30.0/darwin-thread-multi-2level
    /usr/local/Cellar/perl/5.30.0/lib/perl5/5.30.0
    /usr/local/lib/perl5/site_perl/5.30.0/darwin-thread-multi-2level
    /usr/local/lib/perl5/site_perl/5.30.0
    .