Net-Sieve-Script v0.09 Perl 5 v5.24.0 x86_64-linux

Status
Pass
From
Slaven Rezić (SREZIC)
Dist
Net-Sieve-Script v0.09
Platform
Perl 5 v5.24.0 x86_64-linux
Date
2017-08-21 13:26:56
ID
674ef94e-8674-11e7-a94f-b2a2a1b8ccbc
This distribution has been tested as part of the CPAN Testers
project, supporting the Perl programming language.  See
http://wiki.cpantesters.org/ for more information or email
questions to cpan-testers-discuss@perl.org


--
Dear Yves Agostini,

This is a computer-generated report for Net-Sieve-Script-0.09
on perl 5.24.0, created by CPAN-Reporter-1.2018.

Thank you for uploading your work to CPAN.  Congratulations!
All tests were successful.

Sections of this report:

    * Tester comments
    * Program output
    * Prerequisites
    * Environment and other context

------------------------------
TESTER COMMENTS
------------------------------

Additional comments from tester:

none provided

------------------------------
PROGRAM OUTPUT
------------------------------

Output from 'make test':

PERL_DL_NONLAZY=1 "/opt/perl-5.24.0/bin/perl5.24.0" "-MExtUtils::Command::MM" "-MTest::Harness" "-e" "undef *Test::Harness::Switches; test_harness(0, 'inc', 'blib/lib', 'blib/arch')" t/*.t
t/001_load.t ............. ok
t/001_load_action.t ...... ok
Use of uninitialized value $1 in lc at lib/Net/Sieve/Script/Condition.pm line 47.
Use of uninitialized value $address in lc at lib/Net/Sieve/Script/Condition.pm line 152.
Use of uninitialized value $1 in lc at lib/Net/Sieve/Script/Condition.pm line 47.
Use of uninitialized value $address in lc at lib/Net/Sieve/Script/Condition.pm line 152.
Use of uninitialized value $comparator in lc at lib/Net/Sieve/Script/Condition.pm line 154.
Use of uninitialized value $1 in lc at lib/Net/Sieve/Script/Condition.pm line 47.
Use of uninitialized value $address in lc at lib/Net/Sieve/Script/Condition.pm line 152.
Use of uninitialized value $1 in lc at lib/Net/Sieve/Script/Condition.pm line 47.
Use of uninitialized value $address in lc at lib/Net/Sieve/Script/Condition.pm line 152.
Use of uninitialized value $comparator in lc at lib/Net/Sieve/Script/Condition.pm line 154.
Use of uninitialized value $comparator in lc at lib/Net/Sieve/Script/Condition.pm line 154.
Use of uninitialized value $1 in lc at lib/Net/Sieve/Script/Condition.pm line 47.
Use of uninitialized value $1 in lc at lib/Net/Sieve/Script/Condition.pm line 47.
Use of uninitialized value $comparator in lc at lib/Net/Sieve/Script/Condition.pm line 154.
Use of uninitialized value $comparator in lc at lib/Net/Sieve/Script/Condition.pm line 154.
Use of uninitialized value $match in lc at lib/Net/Sieve/Script/Condition.pm line 146.
Use of uninitialized value $address in lc at lib/Net/Sieve/Script/Condition.pm line 152.
Use of uninitialized value $match in lc at lib/Net/Sieve/Script/Condition.pm line 153.
Use of uninitialized value $comparator in lc at lib/Net/Sieve/Script/Condition.pm line 154.
Use of uninitialized value $1 in lc at lib/Net/Sieve/Script/Condition.pm line 47.
Use of uninitialized value $1 in lc at lib/Net/Sieve/Script/Condition.pm line 47.
Use of uninitialized value $address in lc at lib/Net/Sieve/Script/Condition.pm line 152.
Use of uninitialized value $comparator in lc at lib/Net/Sieve/Script/Condition.pm line 154.
Use of uninitialized value $comparator in lc at lib/Net/Sieve/Script/Condition.pm line 154.
Use of uninitialized value $match in lc at lib/Net/Sieve/Script/Condition.pm line 146.
Use of uninitialized value $address in lc at lib/Net/Sieve/Script/Condition.pm line 152.
Use of uninitialized value $match in lc at lib/Net/Sieve/Script/Condition.pm line 153.
Use of uninitialized value $comparator in lc at lib/Net/Sieve/Script/Condition.pm line 154.
Use of uninitialized value $1 in lc at lib/Net/Sieve/Script/Condition.pm line 47.
Use of uninitialized value $address in lc at lib/Net/Sieve/Script/Condition.pm line 152.
Use of uninitialized value $comparator in lc at lib/Net/Sieve/Script/Condition.pm line 154.
Use of uninitialized value $address in lc at lib/Net/Sieve/Script/Condition.pm line 152.
Use of uninitialized value $comparator in lc at lib/Net/Sieve/Script/Condition.pm line 154.
Use of uninitialized value $1 in lc at lib/Net/Sieve/Script/Condition.pm line 47.
Use of uninitialized value $address in lc at lib/Net/Sieve/Script/Condition.pm line 152.
Use of uninitialized value $comparator in lc at lib/Net/Sieve/Script/Condition.pm line 154.
Use of uninitialized value $1 in lc at lib/Net/Sieve/Script/Condition.pm line 47.
Use of uninitialized value $address in lc at lib/Net/Sieve/Script/Condition.pm line 152.
Use of uninitialized value $1 in lc at lib/Net/Sieve/Script/Condition.pm line 47.
Use of uninitialized value $address in lc at lib/Net/Sieve/Script/Condition.pm line 152.
Use of uninitialized value $comparator in lc at lib/Net/Sieve/Script/Condition.pm line 154.
Use of uninitialized value $1 in lc at lib/Net/Sieve/Script/Condition.pm line 47.
Use of uninitialized value $1 in lc at lib/Net/Sieve/Script/Condition.pm line 47.
Use of uninitialized value $address in lc at lib/Net/Sieve/Script/Condition.pm line 152.
Use of uninitialized value $comparator in lc at lib/Net/Sieve/Script/Condition.pm line 154.
Use of uninitialized value $1 in lc at lib/Net/Sieve/Script/Condition.pm line 47.
Use of uninitialized value $address in lc at lib/Net/Sieve/Script/Condition.pm line 152.
Use of uninitialized value $comparator in lc at lib/Net/Sieve/Script/Condition.pm line 154.
Use of uninitialized value $1 in lc at lib/Net/Sieve/Script/Condition.pm line 47.
Use of uninitialized value $address in lc at lib/Net/Sieve/Script/Condition.pm line 152.
Use of uninitialized value $comparator in lc at lib/Net/Sieve/Script/Condition.pm line 154.
Use of uninitialized value $comparator in lc at lib/Net/Sieve/Script/Condition.pm line 154.
Use of uninitialized value $1 in lc at lib/Net/Sieve/Script/Condition.pm line 47.
Use of uninitialized value $match in lc at lib/Net/Sieve/Script/Condition.pm line 146.
Use of uninitialized value $address in lc at lib/Net/Sieve/Script/Condition.pm line 152.
Use of uninitialized value $match in lc at lib/Net/Sieve/Script/Condition.pm line 153.
Use of uninitialized value $comparator in lc at lib/Net/Sieve/Script/Condition.pm line 154.
Use of uninitialized value $match in lc at lib/Net/Sieve/Script/Condition.pm line 146.
Use of uninitialized value $address in lc at lib/Net/Sieve/Script/Condition.pm line 152.
Use of uninitialized value $match in lc at lib/Net/Sieve/Script/Condition.pm line 153.
Use of uninitialized value $comparator in lc at lib/Net/Sieve/Script/Condition.pm line 154.
Use of uninitialized value $1 in lc at lib/Net/Sieve/Script/Condition.pm line 47.
Use of uninitialized value $1 in lc at lib/Net/Sieve/Script/Condition.pm line 47.
Use of uninitialized value $address in lc at lib/Net/Sieve/Script/Condition.pm line 152.
Use of uninitialized value $comparator in lc at lib/Net/Sieve/Script/Condition.pm line 154.
Use of uninitialized value $1 in lc at lib/Net/Sieve/Script/Condition.pm line 47.
Use of uninitialized value $address in lc at lib/Net/Sieve/Script/Condition.pm line 152.
Use of uninitialized value $comparator in lc at lib/Net/Sieve/Script/Condition.pm line 154.
Use of uninitialized value $1 in lc at lib/Net/Sieve/Script/Condition.pm line 47.
Use of uninitialized value $address in lc at lib/Net/Sieve/Script/Condition.pm line 152.
Use of uninitialized value $comparator in lc at lib/Net/Sieve/Script/Condition.pm line 154.
Use of uninitialized value $1 in lc at lib/Net/Sieve/Script/Condition.pm line 47.
Use of uninitialized value $match in lc at lib/Net/Sieve/Script/Condition.pm line 146.
Use of uninitialized value $address in lc at lib/Net/Sieve/Script/Condition.pm line 152.
Use of uninitialized value $match in lc at lib/Net/Sieve/Script/Condition.pm line 153.
Use of uninitialized value $comparator in lc at lib/Net/Sieve/Script/Condition.pm line 154.
Use of uninitialized value $comparator in lc at lib/Net/Sieve/Script/Condition.pm line 154.
Use of uninitialized value $match in lc at lib/Net/Sieve/Script/Condition.pm line 146.
Use of uninitialized value $address in lc at lib/Net/Sieve/Script/Condition.pm line 152.
Use of uninitialized value $match in lc at lib/Net/Sieve/Script/Condition.pm line 153.
Use of uninitialized value $comparator in lc at lib/Net/Sieve/Script/Condition.pm line 154.
Use of uninitialized value $1 in lc at lib/Net/Sieve/Script/Condition.pm line 47.
Use of uninitialized value $1 in lc at lib/Net/Sieve/Script/Condition.pm line 47.
Use of uninitialized value $address in lc at lib/Net/Sieve/Script/Condition.pm line 152.
Use of uninitialized value $comparator in lc at lib/Net/Sieve/Script/Condition.pm line 154.
Use of uninitialized value $1 in lc at lib/Net/Sieve/Script/Condition.pm line 47.
Use of uninitialized value $address in lc at lib/Net/Sieve/Script/Condition.pm line 152.
Use of uninitialized value $comparator in lc at lib/Net/Sieve/Script/Condition.pm line 154.
Use of uninitialized value $1 in lc at lib/Net/Sieve/Script/Condition.pm line 47.
Use of uninitialized value $address in lc at lib/Net/Sieve/Script/Condition.pm line 152.
Use of uninitialized value $comparator in lc at lib/Net/Sieve/Script/Condition.pm line 154.
Use of uninitialized value $comparator in lc at lib/Net/Sieve/Script/Condition.pm line 154.
Use of uninitialized value $1 in lc at lib/Net/Sieve/Script/Condition.pm line 47.
Use of uninitialized value $match in lc at lib/Net/Sieve/Script/Condition.pm line 146.
Use of uninitialized value $address in lc at lib/Net/Sieve/Script/Condition.pm line 152.
Use of uninitialized value $match in lc at lib/Net/Sieve/Script/Condition.pm line 153.
Use of uninitialized value $comparator in lc at lib/Net/Sieve/Script/Condition.pm line 154.
Use of uninitialized value $1 in lc at lib/Net/Sieve/Script/Condition.pm line 47.
Use of uninitialized value $match in lc at lib/Net/Sieve/Script/Condition.pm line 146.
Use of uninitialized value $address in lc at lib/Net/Sieve/Script/Condition.pm line 152.
Use of uninitialized value $match in lc at lib/Net/Sieve/Script/Condition.pm line 153.
Use of uninitialized value $comparator in lc at lib/Net/Sieve/Script/Condition.pm line 154.
Use of uninitialized value $match in lc at lib/Net/Sieve/Script/Condition.pm line 146.
Use of uninitialized value $address in lc at lib/Net/Sieve/Script/Condition.pm line 152.
Use of uninitialized value $match in lc at lib/Net/Sieve/Script/Condition.pm line 153.
Use of uninitialized value $comparator in lc at lib/Net/Sieve/Script/Condition.pm line 154.
Use of uninitialized value $1 in lc at lib/Net/Sieve/Script/Condition.pm line 47.
Use of uninitialized value $address in lc at lib/Net/Sieve/Script/Condition.pm line 152.
Use of uninitialized value $comparator in lc at lib/Net/Sieve/Script/Condition.pm line 154.
Use of uninitialized value $1 in lc at lib/Net/Sieve/Script/Condition.pm line 47.
Use of uninitialized value $address in lc at lib/Net/Sieve/Script/Condition.pm line 152.
Use of uninitialized value $comparator in lc at lib/Net/Sieve/Script/Condition.pm line 154.
Use of uninitialized value $1 in lc at lib/Net/Sieve/Script/Condition.pm line 47.
Use of uninitialized value $address in lc at lib/Net/Sieve/Script/Condition.pm line 152.
Use of uninitialized value $comparator in lc at lib/Net/Sieve/Script/Condition.pm line 154.
Use of uninitialized value $1 in lc at lib/Net/Sieve/Script/Condition.pm line 47.
Use of uninitialized value $address in lc at lib/Net/Sieve/Script/Condition.pm line 152.
Use of uninitialized value $comparator in lc at lib/Net/Sieve/Script/Condition.pm line 154.
Use of uninitialized value $1 in lc at lib/Net/Sieve/Script/Condition.pm line 47.
Use of uninitialized value $address in lc at lib/Net/Sieve/Script/Condition.pm line 152.
Use of uninitialized value $comparator in lc at lib/Net/Sieve/Script/Condition.pm line 154.
Use of uninitialized value $1 in lc at lib/Net/Sieve/Script/Condition.pm line 47.
Use of uninitialized value $match in lc at lib/Net/Sieve/Script/Condition.pm line 146.
Use of uninitialized value $address in lc at lib/Net/Sieve/Script/Condition.pm line 152.
Use of uninitialized value $match in lc at lib/Net/Sieve/Script/Condition.pm line 153.
Use of uninitialized value $comparator in lc at lib/Net/Sieve/Script/Condition.pm line 154.
Use of uninitialized value $1 in lc at lib/Net/Sieve/Script/Condition.pm line 47.
Use of uninitialized value $match in lc at lib/Net/Sieve/Script/Condition.pm line 146.
Use of uninitialized value $address in lc at lib/Net/Sieve/Script/Condition.pm line 152.
Use of uninitialized value $match in lc at lib/Net/Sieve/Script/Condition.pm line 153.
Use of uninitialized value $comparator in lc at lib/Net/Sieve/Script/Condition.pm line 154.
Use of uninitialized value $match in lc at lib/Net/Sieve/Script/Condition.pm line 146.
Use of uninitialized value $address in lc at lib/Net/Sieve/Script/Condition.pm line 152.
Use of uninitialized value $match in lc at lib/Net/Sieve/Script/Condition.pm line 153.
Use of uninitialized value $comparator in lc at lib/Net/Sieve/Script/Condition.pm line 154.
t/001_load_condition.t ... ok
Use of uninitialized value $1 in lc at lib/Net/Sieve/Script/Condition.pm line 47.
Use of uninitialized value $comparator in lc at lib/Net/Sieve/Script/Condition.pm line 154.
Use of uninitialized value $1 in lc at lib/Net/Sieve/Script/Condition.pm line 47.
Use of uninitialized value $address in lc at lib/Net/Sieve/Script/Condition.pm line 152.
Use of uninitialized value $comparator in lc at lib/Net/Sieve/Script/Condition.pm line 154.
Use of uninitialized value $match in lc at lib/Net/Sieve/Script/Condition.pm line 146.
Use of uninitialized value $address in lc at lib/Net/Sieve/Script/Condition.pm line 152.
Use of uninitialized value $match in lc at lib/Net/Sieve/Script/Condition.pm line 153.
Use of uninitialized value $comparator in lc at lib/Net/Sieve/Script/Condition.pm line 154.
t/001_load_rule.t ........ ok
Use of uninitialized value $1 in lc at lib/Net/Sieve/Script/Condition.pm line 47.
Use of uninitialized value $address in lc at lib/Net/Sieve/Script/Condition.pm line 152.
Use of uninitialized value $comparator in lc at lib/Net/Sieve/Script/Condition.pm line 154.
Use of uninitialized value $1 in lc at lib/Net/Sieve/Script/Condition.pm line 47.
Use of uninitialized value $address in lc at lib/Net/Sieve/Script/Condition.pm line 152.
Use of uninitialized value $comparator in lc at lib/Net/Sieve/Script/Condition.pm line 154.
Use of uninitialized value $1 in lc at lib/Net/Sieve/Script/Condition.pm line 47.
Use of uninitialized value $address in lc at lib/Net/Sieve/Script/Condition.pm line 152.
Use of uninitialized value $comparator in lc at lib/Net/Sieve/Script/Condition.pm line 154.
Use of uninitialized value $1 in lc at lib/Net/Sieve/Script/Condition.pm line 47.
Use of uninitialized value $comparator in lc at lib/Net/Sieve/Script/Condition.pm line 154.
Use of uninitialized value $1 in lc at lib/Net/Sieve/Script/Condition.pm line 47.
Use of uninitialized value $comparator in lc at lib/Net/Sieve/Script/Condition.pm line 154.
Use of uninitialized value $1 in lc at lib/Net/Sieve/Script/Condition.pm line 47.
Use of uninitialized value $address in lc at lib/Net/Sieve/Script/Condition.pm line 152.
Use of uninitialized value $comparator in lc at lib/Net/Sieve/Script/Condition.pm line 154.
Use of uninitialized value $match in lc at lib/Net/Sieve/Script/Condition.pm line 146.
Use of uninitialized value $address in lc at lib/Net/Sieve/Script/Condition.pm line 152.
Use of uninitialized value $match in lc at lib/Net/Sieve/Script/Condition.pm line 153.
Use of uninitialized value $comparator in lc at lib/Net/Sieve/Script/Condition.pm line 154.
Use of uninitialized value $1 in lc at lib/Net/Sieve/Script/Condition.pm line 47.
Use of uninitialized value $address in lc at lib/Net/Sieve/Script/Condition.pm line 152.
Use of uninitialized value $comparator in lc at lib/Net/Sieve/Script/Condition.pm line 154.
Use of uninitialized value $1 in lc at lib/Net/Sieve/Script/Condition.pm line 47.
Use of uninitialized value $address in lc at lib/Net/Sieve/Script/Condition.pm line 152.
Use of uninitialized value $1 in lc at lib/Net/Sieve/Script/Condition.pm line 47.
Use of uninitialized value $1 in lc at lib/Net/Sieve/Script/Condition.pm line 47.
Use of uninitialized value $address in lc at lib/Net/Sieve/Script/Condition.pm line 152.
Use of uninitialized value $1 in lc at lib/Net/Sieve/Script/Condition.pm line 47.
Use of uninitialized value $address in lc at lib/Net/Sieve/Script/Condition.pm line 152.
Use of uninitialized value $match in lc at lib/Net/Sieve/Script/Condition.pm line 146.
Use of uninitialized value $address in lc at lib/Net/Sieve/Script/Condition.pm line 152.
Use of uninitialized value $match in lc at lib/Net/Sieve/Script/Condition.pm line 153.
Use of uninitialized value $comparator in lc at lib/Net/Sieve/Script/Condition.pm line 154.
Use of uninitialized value $1 in lc at lib/Net/Sieve/Script/Condition.pm line 47.
Use of uninitialized value $address in lc at lib/Net/Sieve/Script/Condition.pm line 152.
Use of uninitialized value $comparator in lc at lib/Net/Sieve/Script/Condition.pm line 154.
Use of uninitialized value $match in lc at lib/Net/Sieve/Script/Condition.pm line 146.
Use of uninitialized value $address in lc at lib/Net/Sieve/Script/Condition.pm line 152.
Use of uninitialized value $match in lc at lib/Net/Sieve/Script/Condition.pm line 153.
Use of uninitialized value $comparator in lc at lib/Net/Sieve/Script/Condition.pm line 154.
t/001_load_script.t ...... ok
Use of uninitialized value $1 in lc at lib/Net/Sieve/Script/Condition.pm line 47.
Use of uninitialized value $address in lc at lib/Net/Sieve/Script/Condition.pm line 152.
Use of uninitialized value $comparator in lc at lib/Net/Sieve/Script/Condition.pm line 154.
t/001_load_vacation.t .... ok
Use of uninitialized value $param{"ctrl"} in lc at lib/Net/Sieve/Script/Rule.pm line 77.
Use of uninitialized value $1 in lc at lib/Net/Sieve/Script/Condition.pm line 47.
Use of uninitialized value $address in lc at lib/Net/Sieve/Script/Condition.pm line 152.
Use of uninitialized value $comparator in lc at lib/Net/Sieve/Script/Condition.pm line 154.
t/002_write_action.t ..... ok
Use of uninitialized value $param{"ctrl"} in lc at lib/Net/Sieve/Script/Rule.pm line 77.
Use of uninitialized value $1 in lc at lib/Net/Sieve/Script/Condition.pm line 47.
Use of uninitialized value $address in lc at lib/Net/Sieve/Script/Condition.pm line 152.
Use of uninitialized value $comparator in lc at lib/Net/Sieve/Script/Condition.pm line 154.
Use of uninitialized value $1 in lc at lib/Net/Sieve/Script/Condition.pm line 47.
Use of uninitialized value $address in lc at lib/Net/Sieve/Script/Condition.pm line 152.
Use of uninitialized value $comparator in lc at lib/Net/Sieve/Script/Condition.pm line 154.
Use of uninitialized value $1 in lc at lib/Net/Sieve/Script/Condition.pm line 47.
Use of uninitialized value $match in lc at lib/Net/Sieve/Script/Condition.pm line 146.
Use of uninitialized value $address in lc at lib/Net/Sieve/Script/Condition.pm line 152.
Use of uninitialized value $match in lc at lib/Net/Sieve/Script/Condition.pm line 153.
Use of uninitialized value $comparator in lc at lib/Net/Sieve/Script/Condition.pm line 154.
Use of uninitialized value $1 in lc at lib/Net/Sieve/Script/Condition.pm line 47.
Use of uninitialized value $address in lc at lib/Net/Sieve/Script/Condition.pm line 152.
Use of uninitialized value $comparator in lc at lib/Net/Sieve/Script/Condition.pm line 154.
Use of uninitialized value $1 in lc at lib/Net/Sieve/Script/Condition.pm line 47.
Use of uninitialized value $1 in lc at lib/Net/Sieve/Script/Condition.pm line 47.
Use of uninitialized value $address in lc at lib/Net/Sieve/Script/Condition.pm line 152.
Use of uninitialized value $comparator in lc at lib/Net/Sieve/Script/Condition.pm line 154.
Use of uninitialized value $1 in lc at lib/Net/Sieve/Script/Condition.pm line 47.
Use of uninitialized value $address in lc at lib/Net/Sieve/Script/Condition.pm line 152.
Use of uninitialized value $comparator in lc at lib/Net/Sieve/Script/Condition.pm line 154.
Use of uninitialized value $match in lc at lib/Net/Sieve/Script/Condition.pm line 146.
Use of uninitialized value $address in lc at lib/Net/Sieve/Script/Condition.pm line 152.
Use of uninitialized value $match in lc at lib/Net/Sieve/Script/Condition.pm line 153.
Use of uninitialized value $comparator in lc at lib/Net/Sieve/Script/Condition.pm line 154.
Use of uninitialized value $1 in lc at lib/Net/Sieve/Script/Condition.pm line 47.
Use of uninitialized value $match in lc at lib/Net/Sieve/Script/Condition.pm line 146.
Use of uninitialized value $address in lc at lib/Net/Sieve/Script/Condition.pm line 152.
Use of uninitialized value $match in lc at lib/Net/Sieve/Script/Condition.pm line 153.
Use of uninitialized value $comparator in lc at lib/Net/Sieve/Script/Condition.pm line 154.
Use of uninitialized value $1 in lc at lib/Net/Sieve/Script/Condition.pm line 47.
Use of uninitialized value $match in lc at lib/Net/Sieve/Script/Condition.pm line 146.
Use of uninitialized value $address in lc at lib/Net/Sieve/Script/Condition.pm line 152.
Use of uninitialized value $match in lc at lib/Net/Sieve/Script/Condition.pm line 153.
Use of uninitialized value $comparator in lc at lib/Net/Sieve/Script/Condition.pm line 154.
Use of uninitialized value $1 in lc at lib/Net/Sieve/Script/Condition.pm line 47.
Use of uninitialized value $match in lc at lib/Net/Sieve/Script/Condition.pm line 146.
Use of uninitialized value $address in lc at lib/Net/Sieve/Script/Condition.pm line 152.
Use of uninitialized value $match in lc at lib/Net/Sieve/Script/Condition.pm line 153.
Use of uninitialized value $comparator in lc at lib/Net/Sieve/Script/Condition.pm line 154.
Use of uninitialized value $1 in lc at lib/Net/Sieve/Script/Condition.pm line 47.
Use of uninitialized value $address in lc at lib/Net/Sieve/Script/Condition.pm line 152.
Use of uninitialized value $comparator in lc at lib/Net/Sieve/Script/Condition.pm line 154.
Use of uninitialized value $1 in lc at lib/Net/Sieve/Script/Condition.pm line 47.
Use of uninitialized value $address in lc at lib/Net/Sieve/Script/Condition.pm line 152.
Use of uninitialized value $comparator in lc at lib/Net/Sieve/Script/Condition.pm line 154.
Use of uninitialized value $1 in lc at lib/Net/Sieve/Script/Condition.pm line 47.
Use of uninitialized value $match in lc at lib/Net/Sieve/Script/Condition.pm line 146.
Use of uninitialized value $address in lc at lib/Net/Sieve/Script/Condition.pm line 152.
Use of uninitialized value $match in lc at lib/Net/Sieve/Script/Condition.pm line 153.
Use of uninitialized value $comparator in lc at lib/Net/Sieve/Script/Condition.pm line 154.
Use of uninitialized value $1 in lc at lib/Net/Sieve/Script/Condition.pm line 47.
Use of uninitialized value $address in lc at lib/Net/Sieve/Script/Condition.pm line 152.
Use of uninitialized value $comparator in lc at lib/Net/Sieve/Script/Condition.pm line 154.
t/002_write_condition.t .. ok
Use of uninitialized value $param{"ctrl"} in lc at lib/Net/Sieve/Script/Rule.pm line 77.
Use of uninitialized value $1 in lc at lib/Net/Sieve/Script/Condition.pm line 47.
Use of uninitialized value $address in lc at lib/Net/Sieve/Script/Condition.pm line 152.
Use of uninitialized value $comparator in lc at lib/Net/Sieve/Script/Condition.pm line 154.
Use of uninitialized value $param{"ctrl"} in lc at lib/Net/Sieve/Script/Rule.pm line 77.
Use of uninitialized value $1 in lc at lib/Net/Sieve/Script/Condition.pm line 47.
Use of uninitialized value $address in lc at lib/Net/Sieve/Script/Condition.pm line 152.
Use of uninitialized value $comparator in lc at lib/Net/Sieve/Script/Condition.pm line 154.
Use of uninitialized value $param{"ctrl"} in lc at lib/Net/Sieve/Script/Rule.pm line 77.
Use of uninitialized value $1 in lc at lib/Net/Sieve/Script/Condition.pm line 47.
Use of uninitialized value $address in lc at lib/Net/Sieve/Script/Condition.pm line 152.
Use of uninitialized value $comparator in lc at lib/Net/Sieve/Script/Condition.pm line 154.
Use of uninitialized value $1 in lc at lib/Net/Sieve/Script/Condition.pm line 47.
Use of uninitialized value $address in lc at lib/Net/Sieve/Script/Condition.pm line 152.
Use of uninitialized value $comparator in lc at lib/Net/Sieve/Script/Condition.pm line 154.
Use of uninitialized value $1 in lc at lib/Net/Sieve/Script/Condition.pm line 47.
Use of uninitialized value $address in lc at lib/Net/Sieve/Script/Condition.pm line 152.
Use of uninitialized value $comparator in lc at lib/Net/Sieve/Script/Condition.pm line 154.
Use of uninitialized value $1 in lc at lib/Net/Sieve/Script/Condition.pm line 47.
Use of uninitialized value $address in lc at lib/Net/Sieve/Script/Condition.pm line 152.
Use of uninitialized value $comparator in lc at lib/Net/Sieve/Script/Condition.pm line 154.
Use of uninitialized value $1 in lc at lib/Net/Sieve/Script/Condition.pm line 47.
Use of uninitialized value $address in lc at lib/Net/Sieve/Script/Condition.pm line 152.
Use of uninitialized value $comparator in lc at lib/Net/Sieve/Script/Condition.pm line 154.
Use of uninitialized value $1 in lc at lib/Net/Sieve/Script/Condition.pm line 47.
Use of uninitialized value $address in lc at lib/Net/Sieve/Script/Condition.pm line 152.
Use of uninitialized value $comparator in lc at lib/Net/Sieve/Script/Condition.pm line 154.
Use of uninitialized value $param{"ctrl"} in lc at lib/Net/Sieve/Script/Rule.pm line 77.
Use of uninitialized value $1 in lc at lib/Net/Sieve/Script/Condition.pm line 47.
Use of uninitialized value $match in lc at lib/Net/Sieve/Script/Condition.pm line 146.
Use of uninitialized value $address in lc at lib/Net/Sieve/Script/Condition.pm line 152.
Use of uninitialized value $match in lc at lib/Net/Sieve/Script/Condition.pm line 153.
Use of uninitialized value $comparator in lc at lib/Net/Sieve/Script/Condition.pm line 154.
Use of uninitialized value $param{"ctrl"} in lc at lib/Net/Sieve/Script/Rule.pm line 77.
Use of uninitialized value $param{"ctrl"} in lc at lib/Net/Sieve/Script/Rule.pm line 77.
Use of uninitialized value $1 in lc at lib/Net/Sieve/Script/Condition.pm line 47.
Use of uninitialized value $address in lc at lib/Net/Sieve/Script/Condition.pm line 152.
Use of uninitialized value $comparator in lc at lib/Net/Sieve/Script/Condition.pm line 154.
Use of uninitialized value $param{"ctrl"} in lc at lib/Net/Sieve/Script/Rule.pm line 77.
Use of uninitialized value $1 in lc at lib/Net/Sieve/Script/Condition.pm line 47.
Use of uninitialized value $address in lc at lib/Net/Sieve/Script/Condition.pm line 152.
Use of uninitialized value $comparator in lc at lib/Net/Sieve/Script/Condition.pm line 154.
Use of uninitialized value $param{"ctrl"} in lc at lib/Net/Sieve/Script/Rule.pm line 77.
Use of uninitialized value $1 in lc at lib/Net/Sieve/Script/Condition.pm line 47.
Use of uninitialized value $address in lc at lib/Net/Sieve/Script/Condition.pm line 152.
Use of uninitialized value $comparator in lc at lib/Net/Sieve/Script/Condition.pm line 154.
Use of uninitialized value $param{"ctrl"} in lc at lib/Net/Sieve/Script/Rule.pm line 77.
Use of uninitialized value $1 in lc at lib/Net/Sieve/Script/Condition.pm line 47.
Use of uninitialized value $address in lc at lib/Net/Sieve/Script/Condition.pm line 152.
Use of uninitialized value $comparator in lc at lib/Net/Sieve/Script/Condition.pm line 154.
Use of uninitialized value $param{"ctrl"} in lc at lib/Net/Sieve/Script/Rule.pm line 77.
Use of uninitialized value $match in lc at lib/Net/Sieve/Script/Condition.pm line 146.
Use of uninitialized value $address in lc at lib/Net/Sieve/Script/Condition.pm line 152.
Use of uninitialized value $match in lc at lib/Net/Sieve/Script/Condition.pm line 153.
Use of uninitialized value $comparator in lc at lib/Net/Sieve/Script/Condition.pm line 154.
t/002_write_script.t ..... ok
t/pod.t .................. ok
t/pod_coverage.t ......... ok
All tests successful.
Files=11, Tests=134,  0 wallclock secs ( 0.03 usr  0.04 sys +  0.38 cusr  0.07 csys =  0.52 CPU)
Result: PASS

------------------------------
PREREQUISITES
------------------------------

Prerequisite modules loaded:

requires:

    Module                Need  Have    
    --------------------- ----- --------
    Class::Accessor::Fast 0.3   0.34    
    perl                  5.006 5.024000
    Pod::Coverage         0     0.23    
    Test::More            0     1.302086

build_requires:

    Module                Need  Have    
    --------------------- ----- --------
    ExtUtils::MakeMaker   6.59  7.30    
    Pod::Coverage         0     0.23    
    Test::More            0     1.302086

configure_requires:

    Module                Need  Have    
    --------------------- ----- --------
    ExtUtils::MakeMaker   6.59  7.30    


------------------------------
ENVIRONMENT AND OTHER CONTEXT
------------------------------

Environment variables:

    LANG = en_US.UTF-8
    PATH = /usr/local/bin:/usr/bin:/bin:/usr/local/sbin:/usr/sbin:/sbin:/home/cpansand/bin/linux-gnu:/home/cpansand/bin/sh:/home/cpansand/bin:/usr/games:/home/cpansand/devel:/home/eserte/src/srezic-misc/scripts
    PERL5LIB = 
    PERL5OPT = 
    PERL5_CPANPLUS_IS_RUNNING = 3110
    PERL5_CPAN_IS_RUNNING = 3110
    PERL5_CPAN_IS_RUNNING_IN_RECURSION = 2762,3110
    PERLDOC = -MPod::Perldoc::ToTextOverstrike
    PERL_BATCH = yes
    PERL_CANARY_STABILITY_NOPROMPT = 1
    PERL_CPAN_REPORTER_CONFIG = /var/tmp/cpansmoker-1023/2017082112/cpanreporter_000_config.ini
    PERL_EXTUTILS_AUTOINSTALL = --defaultdeps
    SHELL = /bin/zsh
    TERM = screen
    TMPDIR = /var/tmp/cpansmoker-1023/2017082112

Perl special variables (and OS-specific diagnostics, for MSWin32):

    $^X = /opt/perl-5.24.0/bin/perl5.24.0
    $UID/$EUID = 1023 / 1023
    $GID = 1023 1023
    $EGID = 1023 1023

Perl module toolchain versions installed:

    Module              Have    
    ------------------- --------
    CPAN                2.11    
    CPAN::Meta          2.150005
    Cwd                 3.63    
    ExtUtils::CBuilder  0.280225
    ExtUtils::Command   7.30    
    ExtUtils::Install   2.06    
    ExtUtils::MakeMaker 7.30    
    ExtUtils::Manifest  1.70    
    ExtUtils::ParseXS   3.31    
    File::Spec          3.63    
    JSON                2.94    
    JSON::PP            2.94    
    Module::Build       0.4224  
    Module::Signature   0.81    
    Parse::CPAN::Meta   1.4417  
    Test::Harness       3.36    
    Test::More          1.302086
    YAML                1.23    
    YAML::Syck          1.30    
    version             0.9916  


--

Summary of my perl5 (revision 5 version 24 subversion 0) configuration:
   
  Platform:
    osname=linux, osvers=2.6.32-696.3.1.el6.x86_64, archname=x86_64-linux
    uname='linux centos6 2.6.32-696.3.1.el6.x86_64 #1 smp tue may 30 19:52:55 utc 2017 x86_64 x86_64 x86_64 gnulinux '
    config_args='-ds -e -Dprefix=/opt/perl-5.24.0 -Dcf_email=srezic@cpan.org'
    hint=recommended, useposix=true, d_sigaction=define
    useithreads=undef, usemultiplicity=undef
    use64bitint=define, use64bitall=define, uselongdouble=undef
    usemymalloc=n, bincompat5005=undef
  Compiler:
    cc='cc', ccflags ='-fwrapv -fno-strict-aliasing -pipe -fstack-protector -I/usr/local/include -D_LARGEFILE_SOURCE -D_FILE_OFFSET_BITS=64 -D_FORTIFY_SOURCE=2',
    optimize='-O2',
    cppflags='-fwrapv -fno-strict-aliasing -pipe -fstack-protector -I/usr/local/include'
    ccversion='', gccversion='4.4.7 20120313 (Red Hat 4.4.7-18)', gccosandvers=''
    intsize=4, longsize=8, ptrsize=8, doublesize=8, byteorder=12345678, doublekind=3
    d_longlong=define, longlongsize=8, d_longdbl=define, longdblsize=16, longdblkind=3
    ivtype='long', ivsize=8, nvtype='double', nvsize=8, Off_t='off_t', lseeksize=8
    alignbytes=8, prototype=define
  Linker and Libraries:
    ld='cc', ldflags =' -fstack-protector -L/usr/local/lib'
    libpth=/usr/local/lib /usr/lib /lib/../lib64 /usr/lib/../lib64 /lib /lib64 /usr/lib64 /usr/local/lib64
    libs=-lpthread -lnsl -lgdbm -ldb -ldl -lm -lcrypt -lutil -lc
    perllibs=-lpthread -lnsl -ldl -lm -lcrypt -lutil -lc
    libc=libc-2.12.so, so=so, useshrplib=false, libperl=libperl.a
    gnulibc_version='2.12'
  Dynamic Linking:
    dlsrc=dl_dlopen.xs, dlext=so, d_dlsymun=undef, ccdlflags='-Wl,-E'
    cccdlflags='-fPIC', lddlflags='-shared -O2 -L/usr/local/lib -fstack-protector'


Characteristics of this binary (from libperl): 
  Compile-time options: HAS_TIMES PERLIO_LAYERS PERL_COPY_ON_WRITE
                        PERL_DONT_CREATE_GVSV
                        PERL_HASH_FUNC_ONE_AT_A_TIME_HARD PERL_MALLOC_WRAP
                        PERL_PRESERVE_IVUV USE_64_BIT_ALL USE_64_BIT_INT
                        USE_LARGE_FILES USE_LOCALE USE_LOCALE_COLLATE
                        USE_LOCALE_CTYPE USE_LOCALE_NUMERIC USE_LOCALE_TIME
                        USE_PERLIO USE_PERL_ATOF
  Built under linux
  Compiled at Jun 20 2017 21:17:18
  %ENV:
    PERL5LIB=""
    PERL5OPT=""
    PERL5_CPANPLUS_IS_RUNNING="3110"
    PERL5_CPAN_IS_RUNNING="3110"
    PERL5_CPAN_IS_RUNNING_IN_RECURSION="2762,3110"
    PERLDOC="-MPod::Perldoc::ToTextOverstrike"
    PERL_BATCH="yes"
    PERL_CANARY_STABILITY_NOPROMPT="1"
    PERL_CPAN_REPORTER_CONFIG="/var/tmp/cpansmoker-1023/2017082112/cpanreporter_000_config.ini"
    PERL_EXTUTILS_AUTOINSTALL="--defaultdeps"
  @INC:
    /opt/perl-5.24.0/lib/site_perl/5.24.0/x86_64-linux
    /opt/perl-5.24.0/lib/site_perl/5.24.0
    /opt/perl-5.24.0/lib/5.24.0/x86_64-linux
    /opt/perl-5.24.0/lib/5.24.0
    .