Module-Install-AutoLicense v0.10 Perl 5 v5.35.11 darwin-2level

Status
Pass
From
Karen Etheridge
Dist
Module-Install-AutoLicense v0.10
Platform
Perl 5 v5.35.11 darwin-2level
Date
2022-04-30 20:09:12
ID
672396ac-c8c1-11ec-ae07-d2daa9f3bbf7
This distribution has been tested as part of the CPAN Testers
project, supporting the Perl programming language.  See
http://wiki.cpantesters.org/ for more information or email
questions to cpan-testers-discuss@perl.org


--
Dear BINGOS,

This is a computer-generated report for Module-Install-AutoLicense-0.10
on perl 5.35.11, created by App::cpanminus::reporter 0.17 (1.7046).

Thank you for uploading your work to CPAN.  Congratulations!
All tests were successful.

Sections of this report:

    * Tester comments
    * Program output
    * Prerequisites
    * Environment and other context

------------------------------
TESTER COMMENTS
------------------------------

Additional comments from tester:

none provided

------------------------------
PROGRAM OUTPUT
------------------------------

Output from '':

Building and testing Module-Install-AutoLicense-0.10
PERL_DL_NONLAZY=1 "/Volumes/amaretto/Users/ether/perl5/perlbrew/perls/35.11/bin/perl5.35.11" "-MExtUtils::Command::MM" "-MTest::Harness" "-e" "undef *Test::Harness::Switches; test_harness(0, 'inc', 'blib/lib', 'blib/arch')" t/*.t
# Testing Module::Install::AutoLicense 0.10, Perl 5.035011, /Volumes/amaretto/Users/ether/perl5/perlbrew/perls/35.11/bin/perl5.35.11
t/00_compile.t ....... ok
t/99_pod_coverage.t .. ok
t/99_pod.t ........... ok
# include /Volumes/amaretto/Users/ether/.cpanm/work/1651348721.91898/Module-Install-AutoLicense-0.10/dist/8bApkRvq5V/inc/Module/Install.pm
# include inc/Module/Install/Metadata.pm
# include inc/Module/Install/Base.pm
# include inc/Module/Install/AutoLicense.pm
# include inc/Module/Install/Makefile.pm
# include inc/Module/Install/WriteAll.pm
# include inc/Module/Install/Win32.pm
# include inc/Module/Install/Can.pm
# include inc/Module/Install/Fetch.pm
# Generating a Unix-style Makefile
# Writing Makefile for Foo::Bar
# Writing MYMETA.yml and MYMETA.json
# Writing META.yml
# include /Volumes/amaretto/Users/ether/.cpanm/work/1651348721.91898/Module-Install-AutoLicense-0.10/dist/1K34S6v4w6/inc/Module/Install.pm
# include inc/Module/Install/Metadata.pm
# include inc/Module/Install/Base.pm
# include inc/Module/Install/AutoLicense.pm
# include inc/Module/Install/Makefile.pm
# include inc/Module/Install/WriteAll.pm
# include inc/Module/Install/Win32.pm
# include inc/Module/Install/Can.pm
# include inc/Module/Install/Fetch.pm
# Generating a Unix-style Makefile
# Writing Makefile for Foo::Bar
# Writing MYMETA.yml and MYMETA.json
# Writing META.yml
# include /Volumes/amaretto/Users/ether/.cpanm/work/1651348721.91898/Module-Install-AutoLicense-0.10/dist/hER3CE4Z0b/inc/Module/Install.pm
# include inc/Module/Install/Metadata.pm
# include inc/Module/Install/Base.pm
# include inc/Module/Install/AutoLicense.pm
# include inc/Module/Install/Makefile.pm
# include inc/Module/Install/WriteAll.pm
# include inc/Module/Install/Win32.pm
# include inc/Module/Install/Can.pm
# include inc/Module/Install/Fetch.pm
# Generating a Unix-style Makefile
# Writing Makefile for Foo::Bar
# Writing MYMETA.yml and MYMETA.json
# Writing META.yml
# "/Volumes/amaretto/Users/ether/perl5/perlbrew/perls/35.11/bin/perl5.35.11" "-Iinc" "-MExtUtils::Manifest=mkmanifest" -e mkmanifest
# Added to MANIFEST: inc/Module/Install.pm
# Added to MANIFEST: inc/Module/Install/AutoLicense.pm
# Added to MANIFEST: inc/Module/Install/Base.pm
# Added to MANIFEST: inc/Module/Install/Can.pm
# Added to MANIFEST: inc/Module/Install/Fetch.pm
# Added to MANIFEST: inc/Module/Install/Makefile.pm
# Added to MANIFEST: inc/Module/Install/Metadata.pm
# Added to MANIFEST: inc/Module/Install/Win32.pm
# Added to MANIFEST: inc/Module/Install/WriteAll.pm
# Added to MANIFEST: LICENSE
# Added to MANIFEST: Makefile.PL
# Added to MANIFEST: MANIFEST
# Added to MANIFEST: META.yml
# rm -rf Foo-Bar-0.01
# "/Volumes/amaretto/Users/ether/perl5/perlbrew/perls/35.11/bin/perl5.35.11" "-Iinc" "-MExtUtils::Manifest=manicopy,maniread" \
# 		-e "manicopy(maniread(),'Foo-Bar-0.01', 'best');"
# mkdir Foo-Bar-0.01
# mkdir Foo-Bar-0.01/inc
# mkdir Foo-Bar-0.01/inc/Module
# mkdir Foo-Bar-0.01/inc/Module/Install
# rm -f \
# 	  Bar.bso Bar.def \
# 	  Bar.exp Bar.x \
# 	   blib/arch/auto/Foo/Bar/extralibs.all \
# 	  blib/arch/auto/Foo/Bar/extralibs.ld Makefile.aperl \
# 	  *.a *.o \
# 	  *perl.core MYMETA.json \
# 	  MYMETA.yml blibdirs.ts \
# 	  core core.*perl.*.? \
# 	  core.[0-9] core.[0-9][0-9] \
# 	  core.[0-9][0-9][0-9] core.[0-9][0-9][0-9][0-9] \
# 	  core.[0-9][0-9][0-9][0-9][0-9] libBar.def \
# 	  mon.out perl \
# 	  perl perl.exe \
# 	  perlmain.c pm_to_blib \
# 	  pm_to_blib.ts so_locations \
# 	  tmon.out 
# rm -rf \
# 	  blib 
# mv Makefile Makefile.old > /dev/null 2>&1
# rm -f \
# 	  Makefile Makefile.old 
# rm -rf \
# 	  Foo-Bar-0.01 MYMETA.yml 
# rm -f Foo-Bar-0.01.tar.gz
# rm -f MANIFEST.bak _build
# "/Volumes/amaretto/Users/ether/perl5/perlbrew/perls/35.11/bin/perl5.35.11" "-Iinc" "-Ilib" "-MModule::Install::Admin" -e "remove_meta()"
# rm -rf inc
# "/Volumes/amaretto/Users/ether/perl5/perlbrew/perls/35.11/bin/perl5.35.11" "-Iinc" "-MExtUtils::Manifest=fullcheck" -e fullcheck
# Problem opening MANIFEST: No such file or directory at /Volumes/amaretto/Users/ether/perl5/perlbrew/perls/35.11/lib/5.35.11/ExtUtils/Manifest.pm line 349.
# Problem opening MANIFEST: No such file or directory at /Volumes/amaretto/Users/ether/perl5/perlbrew/perls/35.11/lib/5.35.11/ExtUtils/Manifest.pm line 349.
# Not in MANIFEST: LICENSE
# Not in MANIFEST: Makefile.PL
# rm -f LICENSE
t/01_dist.t .......... ok
# rm -f \
# 	  Bar.bso Bar.def \
# 	  Bar.exp Bar.x \
# 	   blib/arch/auto/Foo/Bar/extralibs.all \
# 	  blib/arch/auto/Foo/Bar/extralibs.ld Makefile.aperl \
# 	  *.a *.o \
# 	  *perl.core MYMETA.json \
# 	  MYMETA.yml blibdirs.ts \
# 	  core core.*perl.*.? \
# 	  core.[0-9] core.[0-9][0-9] \
# 	  core.[0-9][0-9][0-9] core.[0-9][0-9][0-9][0-9] \
# 	  core.[0-9][0-9][0-9][0-9][0-9] libBar.def \
# 	  mon.out perl \
# 	  perl perl.exe \
# 	  perlmain.c pm_to_blib \
# 	  pm_to_blib.ts so_locations \
# 	  tmon.out 
# rm -rf \
# 	  blib 
# mv Makefile Makefile.old > /dev/null 2>&1
# rm -f \
# 	  Makefile Makefile.old 
# rm -rf \
# 	  Foo-Bar-0.01 MYMETA.yml 
# rm -f Foo-Bar-0.01.tar.gz
# rm -f MANIFEST.bak _build
# "/Volumes/amaretto/Users/ether/perl5/perlbrew/perls/35.11/bin/perl5.35.11" "-Iinc" "-Ilib" "-MModule::Install::Admin" -e "remove_meta()"
# rm -rf inc
# "/Volumes/amaretto/Users/ether/perl5/perlbrew/perls/35.11/bin/perl5.35.11" "-Iinc" "-MExtUtils::Manifest=fullcheck" -e fullcheck
# Problem opening MANIFEST: No such file or directory at /Volumes/amaretto/Users/ether/perl5/perlbrew/perls/35.11/lib/5.35.11/ExtUtils/Manifest.pm line 349.
# Problem opening MANIFEST: No such file or directory at /Volumes/amaretto/Users/ether/perl5/perlbrew/perls/35.11/lib/5.35.11/ExtUtils/Manifest.pm line 349.
# Not in MANIFEST: LICENSE
# Not in MANIFEST: Makefile.PL
# rm -f LICENSE
t/03_authors.t ....... ok
# Checking if your kit is complete...
# Looks good
# Generating a Unix-style Makefile
# Writing Makefile for Foo::Bar
# Writing MYMETA.yml and MYMETA.json
# rm -f \
# 	  Bar.bso Bar.def \
# 	  Bar.exp Bar.x \
# 	   blib/arch/auto/Foo/Bar/extralibs.all \
# 	  blib/arch/auto/Foo/Bar/extralibs.ld Makefile.aperl \
# 	  *.a *.o \
# 	  *perl.core MYMETA.json \
# 	  MYMETA.yml blibdirs.ts \
# 	  core core.*perl.*.? \
# 	  core.[0-9] core.[0-9][0-9] \
# 	  core.[0-9][0-9][0-9] core.[0-9][0-9][0-9][0-9] \
# 	  core.[0-9][0-9][0-9][0-9][0-9] libBar.def \
# 	  mon.out perl \
# 	  perl perl.exe \
# 	  perlmain.c pm_to_blib \
# 	  pm_to_blib.ts so_locations \
# 	  tmon.out 
# rm -rf \
# 	  blib 
# mv Makefile Makefile.old > /dev/null 2>&1
# rm -f \
# 	  Makefile Makefile.old 
# rm -rf \
# 	  Foo-Bar-0.01 MYMETA.yml 
# "/Volumes/amaretto/Users/ether/perl5/perlbrew/perls/35.11/bin/perl5.35.11" "-Iinc" "-MExtUtils::Manifest=fullcheck" -e fullcheck
cannot remove path when cwd is /Volumes/amaretto/Users/ether/.cpanm/work/1651348721.91898/Module-Install-AutoLicense-0.10/dist/1K34S6v4w6/Foo-Bar-0.01 for /Volumes/amaretto/Users/ether/.cpanm/work/1651348721.91898/Module-Install-AutoLicense-0.10/dist/1K34S6v4w6:  at /Volumes/amaretto/Users/ether/perl5/perlbrew/perls/35.11/lib/5.35.11/File/Temp.pm line 921.
t/02_distdir.t ....... ok
All tests successful.
Files=6, Tests=17,  1 wallclock secs ( 0.03 usr  0.01 sys +  2.12 cusr  0.75 csys =  2.91 CPU)
Result: PASS

------------------------------
PREREQUISITES
------------------------------

Prerequisite modules loaded:

    No requirements found

------------------------------
ENVIRONMENT AND OTHER CONTEXT
------------------------------

Environment variables:

    HARNESS_OPTIONS = j6:c
    LANG = en_CA.UTF-8
    NO_NETWORK_TESTING = 1
    PATH = /Volumes/amaretto/Users/ether/.perlbrew/libs/35.11@std/bin:/Volumes/amaretto/Users/ether/perl5/perlbrew/bin:/Volumes/amaretto/Users/ether/perl5/perlbrew/perls/35.11/bin:/Volumes/amaretto/Users/ether/bin:/Volumes/amaretto/Users/ether/git/misc/install/jaeger/bin:/Volumes/amaretto/Users/ether/git/misc/install/generic/bin:/opt/local/bin:/opt/local/sbin:/Volumes/amaretto/Users/ether/git/git-hub/lib:/usr/local/bin:/usr/bin:/bin:/usr/sbin:/sbin:/Library/Apple/usr/bin:/opt/local/share/git-core/contrib/workdir
    PERL5LIB = /Volumes/amaretto/Users/ether/.perlbrew/libs/35.11@std/lib/perl5
    PERLBREW_HOME = /Volumes/amaretto/Users/ether/.perlbrew
    PERLBREW_LIB = std
    PERLBREW_MANPATH = /Volumes/amaretto/Users/ether/.perlbrew/libs/35.11@std/man:/Volumes/amaretto/Users/ether/perl5/perlbrew/perls/35.11/man
    PERLBREW_PATH = /Volumes/amaretto/Users/ether/.perlbrew/libs/35.11@std/bin:/Volumes/amaretto/Users/ether/perl5/perlbrew/bin:/Volumes/amaretto/Users/ether/perl5/perlbrew/perls/35.11/bin
    PERLBREW_PERL = 35.11
    PERLBREW_ROOT = /Volumes/amaretto/Users/ether/perl5/perlbrew
    PERLBREW_SHELLRC_VERSION = 0.94
    PERLBREW_VERSION = 0.94
    PERLDOC = -oman
    PERLDOC_PAGER = less -sicMr
    PERL_AUTOINSTALL_PREFER_CPAN = 1
    PERL_INSTALL_QUIET = 1
    PERL_LOCAL_LIB_ROOT = /Volumes/amaretto/Users/ether/.perlbrew/libs/35.11@std
    PERL_MB_OPT = --install_base /Volumes/amaretto/Users/ether/.perlbrew/libs/35.11@std
    PERL_MM_OPT = INSTALL_BASE=/Volumes/amaretto/Users/ether/.perlbrew/libs/35.11@std
    PERL_TEST_HARNESS_ASAP = 1
    PERL_USE_UNSAFE_INC = 0
    SHELL = /bin/bash
    TERM = xterm-color

Perl special variables (and OS-specific diagnostics, for MSWin32):

    EGID = 20 20 12 61 79 80 81 98 701 33 100 204 250 395 398 399 400
    EUID = 502
    EXECUTABLE_NAME = /Volumes/amaretto/Users/ether/perl5/perlbrew/perls/35.11/bin/perl5.35.11
    GID = 20 20 12 61 79 80 81 98 701 33 100 204 250 395 398 399 400
    UID = 502

Perl module toolchain versions installed:

    Module              Have    
    ------------------- --------
    CPAN                2.33    
    CPAN::Meta          2.150010
    Cwd                 3.84    
    ExtUtils::CBuilder  0.280236
    ExtUtils::Command   7.64    
    ExtUtils::Install   2.20    
    ExtUtils::MakeMaker 7.64    
    ExtUtils::Manifest  1.73    
    ExtUtils::ParseXS   3.45    
    File::Spec          3.84    
    JSON                4.05    
    JSON::PP            4.08    
    Module::Build       0.4231  
    Module::Signature   n/a     
    Parse::CPAN::Meta   2.150010
    Test::Harness       3.44    
    Test::More          1.302190
    YAML                1.30    
    YAML::Syck          1.34    
    version             0.9929  


--

Summary of my perl5 (revision 5 version 35 subversion 11) configuration:
   
  Platform:
    osname=darwin
    osvers=19.6.0
    archname=darwin-2level
    uname='darwin jaeger 19.6.0 darwin kernel version 19.6.0: thu jan 13 01:26:33 pst 2022; root:xnu-6153.141.51~3release_x86_64 x86_64 '
    config_args='-de -Dprefix=/Volumes/amaretto/Users/ether/perl5/perlbrew/perls/35.11 -Dman1dir=none -Dman3dir=none -Dusedevel -Aeval:scriptdir=/Volumes/amaretto/Users/ether/perl5/perlbrew/perls/35.11/bin'
    hint=recommended
    useposix=true
    d_sigaction=define
    useithreads=undef
    usemultiplicity=undef
    use64bitint=define
    use64bitall=define
    uselongdouble=undef
    usemymalloc=n
    default_inc_excludes_dot=define
  Compiler:
    cc='cc'
    ccflags ='-fno-common -DPERL_DARWIN -mmacosx-version-min=10.15 -fno-strict-aliasing -pipe -fstack-protector-strong -I/opt/local/include -DPERL_USE_SAFE_PUTENV'
    optimize='-O3'
    cppflags='-fno-common -DPERL_DARWIN -mmacosx-version-min=10.15 -fno-strict-aliasing -pipe -fstack-protector-strong -I/opt/local/include'
    ccversion=''
    gccversion='Apple LLVM 12.0.0 (clang-1200.0.32.29)'
    gccosandvers=''
    intsize=4
    longsize=8
    ptrsize=8
    doublesize=8
    byteorder=12345678
    doublekind=3
    d_longlong=define
    longlongsize=8
    d_longdbl=define
    longdblsize=16
    longdblkind=3
    ivtype='long'
    ivsize=8
    nvtype='double'
    nvsize=8
    Off_t='off_t'
    lseeksize=8
    alignbytes=8
    prototype=define
  Linker and Libraries:
    ld='cc'
    ldflags =' -mmacosx-version-min=10.15 -fstack-protector-strong -L/opt/local/lib'
    libpth=/Applications/Xcode.app/Contents/Developer/Toolchains/XcodeDefault.xctoolchain/usr/lib/clang/12.0.0/lib /Library/Developer/CommandLineTools/SDKs/MacOSX.sdk/usr/lib /Applications/Xcode.app/Contents/Developer/Toolchains/XcodeDefault.xctoolchain/usr/lib /opt/local/lib /usr/lib
    libs=-lpthread -lgdbm -ldbm -ldl -lm -lutil -lc
    perllibs=-lpthread -ldl -lm -lutil -lc
    libc=
    so=dylib
    useshrplib=false
    libperl=libperl.a
    gnulibc_version=''
  Dynamic Linking:
    dlsrc=dl_dlopen.xs
    dlext=bundle
    d_dlsymun=undef
    ccdlflags=' '
    cccdlflags=' '
    lddlflags=' -mmacosx-version-min=10.15 -bundle -undefined dynamic_lookup -L/opt/local/lib -fstack-protector-strong'


Characteristics of this binary (from libperl): 
  Compile-time options:
    HAS_TIMES
    PERLIO_LAYERS
    PERL_COPY_ON_WRITE
    PERL_DONT_CREATE_GVSV
    PERL_MALLOC_WRAP
    PERL_OP_PARENT
    PERL_PRESERVE_IVUV
    PERL_USE_DEVEL
    PERL_USE_SAFE_PUTENV
    USE_64_BIT_ALL
    USE_64_BIT_INT
    USE_LARGE_FILES
    USE_LOCALE
    USE_LOCALE_COLLATE
    USE_LOCALE_CTYPE
    USE_LOCALE_NUMERIC
    USE_LOCALE_TIME
    USE_PERLIO
    USE_PERL_ATOF
  Built under darwin
  Compiled at Apr 23 2022 11:39:31
  %ENV:
    PERL5LIB="/Volumes/amaretto/Users/ether/.perlbrew/libs/35.11@std/lib/perl5"
    PERLBREW_HOME="/Volumes/amaretto/Users/ether/.perlbrew"
    PERLBREW_LIB="std"
    PERLBREW_MANPATH="/Volumes/amaretto/Users/ether/.perlbrew/libs/35.11@std/man:/Volumes/amaretto/Users/ether/perl5/perlbrew/perls/35.11/man"
    PERLBREW_PATH="/Volumes/amaretto/Users/ether/.perlbrew/libs/35.11@std/bin:/Volumes/amaretto/Users/ether/perl5/perlbrew/bin:/Volumes/amaretto/Users/ether/perl5/perlbrew/perls/35.11/bin"
    PERLBREW_PERL="35.11"
    PERLBREW_ROOT="/Volumes/amaretto/Users/ether/perl5/perlbrew"
    PERLBREW_SHELLRC_VERSION="0.94"
    PERLBREW_VERSION="0.94"
    PERLDOC="-oman"
    PERLDOC_PAGER="less -sicMr"
    PERL_AUTOINSTALL_PREFER_CPAN="1"
    PERL_INSTALL_QUIET="1"
    PERL_LOCAL_LIB_ROOT="/Volumes/amaretto/Users/ether/.perlbrew/libs/35.11@std"
    PERL_MB_OPT="--install_base /Volumes/amaretto/Users/ether/.perlbrew/libs/35.11@std"
    PERL_MM_OPT="INSTALL_BASE=/Volumes/amaretto/Users/ether/.perlbrew/libs/35.11@std"
    PERL_TEST_HARNESS_ASAP="1"
    PERL_USE_UNSAFE_INC="0"
  @INC:
    /Volumes/amaretto/Users/ether/.perlbrew/libs/35.11@std/lib/perl5/darwin-2level
    /Volumes/amaretto/Users/ether/.perlbrew/libs/35.11@std/lib/perl5
    /Volumes/amaretto/Users/ether/perl5/perlbrew/perls/35.11/lib/site_perl/5.35.11/darwin-2level
    /Volumes/amaretto/Users/ether/perl5/perlbrew/perls/35.11/lib/site_perl/5.35.11
    /Volumes/amaretto/Users/ether/perl5/perlbrew/perls/35.11/lib/5.35.11/darwin-2level
    /Volumes/amaretto/Users/ether/perl5/perlbrew/perls/35.11/lib/5.35.11