Back
From: metabase:user:de3f6d0c-9148-11e2-b3ef-101390f652a1
Subject: PASS Crypt-SSLeay-0.72 v5.10.1 GNU/Linux
Date: 2014-11-14T22:48:51Z
This distribution has been tested as part of the CPAN Testers
project, supporting the Perl programming language. See
http://wiki.cpantesters.org/ for more information or email
questions to cpan-testers-discuss@perl.org
--
Dear A. Sinan Unur,
This is a computer-generated report for Crypt-SSLeay-0.72
on perl 5.10.1, created by CPAN-Reporter-1.2011.
Thank you for uploading your work to CPAN. Congratulations!
All tests were successful.
Sections of this report:
* Tester comments
* Program output
* Prerequisites
* Environment and other context
------------------------------
TESTER COMMENTS
------------------------------
Additional comments from tester:
none provided
------------------------------
PROGRAM OUTPUT
------------------------------
Output from '/usr/bin/make test':
Running Mkbootstrap for Crypt::SSLeay ()
chmod 644 "SSLeay.bs"
PERL_DL_NONLAZY=1 "/opt/perlbrew/perls/perl-5.10.1-thread-multi/bin/perl" "-MExtUtils::Command::MM" "-MTest::Harness" "-e" "undef *Test::Harness::Switches; test_harness(0, 'blib/lib', 'blib/arch')" t/*.t
t/00-basic.t ..... ok
t/01-connect.t ... ok
# Reading configuration from 'test.config' on linux
# network_tests : 0
t/02-live.t ...... skipped: Network tests disabled
t/03-version.t ... ok
t/boilerplate.t .. ok
t/manifest.t ..... skipped: Author tests not required for installation
All tests successful.
Files=6, Tests=43, 1 wallclock secs ( 0.05 usr 0.00 sys + 0.42 cusr 0.01 csys = 0.48 CPU)
Result: PASS
------------------------------
PREREQUISITES
------------------------------
Prerequisite modules loaded:
requires:
Module Need Have
-------------------- -------- --------
LWP::Protocol::https 6.02 6.06
MIME::Base64 0 3.14
perl 5.006 5.010001
build_requires:
Module Need Have
-------------------- -------- --------
ExtUtils::MakeMaker 0 7.02
Test::More 0.19 1.001009
Try::Tiny 0.19 0.22
configure_requires:
Module Need Have
-------------------- -------- --------
ExtUtils::CBuilder 0.280205 0.280220
Getopt::Long 0 2.42
Path::Class 0.26 0.35
Try::Tiny 0.19 0.22
------------------------------
ENVIRONMENT AND OTHER CONTEXT
------------------------------
Environment variables:
LANG = en_US.UTF-8
LC_COLLATE = sv_SE.UTF-8
LC_MEASUREMENT = POSIX
LC_MESSAGES = POSIX
LC_MONETARY = POSIX
LC_NUMERIC = POSIX
PATH = /opt/perlbrew/bin:/opt/perlbrew/perls/perl-5.10.1-thread-multi/bin:/opt/perlbrew/bin:/opt/perlbrew/perls/perl-5.20.1/bin:/usr/local/bin:/usr/bin:/bin:/opt/bin:/usr/x86_64-pc-linux-gnu/gcc-bin/4.8.3:/usr/x86_64-pc-linux-gnu/armv6j-hardfloat-linux-gnueabi/gcc-bin/4.8.3:/usr/lib64/subversion/bin
PERL5LIB =
PERL5OPT =
PERL5_CPANPLUS_IS_RUNNING = 9415
PERL5_CPAN_IS_RUNNING = 9415
PERLBREW_BASHRC_VERSION = 0.72
PERLBREW_HOME = /home/pk/.perlbrew
PERLBREW_LIB =
PERLBREW_MANPATH = /opt/perlbrew/perls/perl-5.10.1-thread-multi/man
PERLBREW_PATH = /opt/perlbrew/bin:/opt/perlbrew/perls/perl-5.10.1-thread-multi/bin
PERLBREW_PERL = perl-5.10.1-thread-multi
PERLBREW_ROOT = /opt/perlbrew
PERLBREW_VERSION = 0.72
PERL_LOCAL_LIB_ROOT =
SHELL = /bin/bash
TERM = xterm
Perl special variables (and OS-specific diagnostics, for MSWin32):
$^X = /opt/perlbrew/perls/perl-5.10.1-thread-multi/bin/perl
$UID/$EUID = 1000 / 1000
$GID = 100 4 11 18 19 20 26 100 250 444 445 1015
$EGID = 100 4 11 18 19 20 26 100 250 444 445 1015
Perl module toolchain versions installed:
Module Have
------------------- --------
CPAN 2.05
CPAN::Meta 2.142690
Cwd 3.47
ExtUtils::CBuilder 0.280220
ExtUtils::Command 1.18
ExtUtils::Install 2.04
ExtUtils::MakeMaker 7.02
ExtUtils::Manifest 1.68
ExtUtils::ParseXS 3.24
File::Spec 3.47
JSON 2.61
JSON::PP 2.27300
Module::Build 0.4210
Module::Signature n/a
Parse::CPAN::Meta 1.4414
Test::Harness 3.34
Test::More 1.001009
YAML 1.13
YAML::Syck n/a
version 0.9909
--
Summary of my perl5 (revision 5 version 10 subversion 1) configuration:
Platform:
osname=linux, osvers=3.16.5-gentoo, archname=x86_64-linux-thread-multi
uname='linux elektra 3.16.5-gentoo #2 smp sat oct 25 17:56:17 cest 2014 x86_64 amd athlon(tm) dual core processor 4850e authenticamd gnulinux '
config_args='-de -Dprefix=/opt/perlbrew/perls/perl-5.10.1-thread-multi -Doptimize=-O3 -march=native -Duseshrplib -Dusemultiplicity -Dusethreads -Aeval:scriptdir=/opt/perlbrew/perls/perl-5.10.1-thread-multi/bin'
hint=recommended, useposix=true, d_sigaction=define
useithreads=define, usemultiplicity=define
useperlio=define, d_sfio=undef, uselargefiles=define, usesocks=undef
use64bitint=define, use64bitall=define, uselongdouble=undef
usemymalloc=n, bincompat5005=undef
Compiler:
cc='cc', ccflags ='-D_REENTRANT -D_GNU_SOURCE -fno-strict-aliasing -pipe -fstack-protector -I/usr/local/include -D_LARGEFILE_SOURCE -D_FILE_OFFSET_BITS=64',
optimize='-O3 -march=native',
cppflags='-D_REENTRANT -D_GNU_SOURCE -fno-strict-aliasing -pipe -fstack-protector -I/usr/local/include'
ccversion='', gccversion='4.8.3', gccosandvers=''
intsize=4, longsize=8, ptrsize=8, doublesize=8, byteorder=12345678
d_longlong=define, longlongsize=8, d_longdbl=define, longdblsize=16
ivtype='long', ivsize=8, nvtype='double', nvsize=8, Off_t='off_t', lseeksize=8
alignbytes=8, prototype=define
Linker and Libraries:
ld='cc', ldflags =' -fstack-protector -L/usr/local/lib'
libpth=/usr/local/lib /lib/../lib64 /usr/lib/../lib64 /lib /usr/lib /lib64 /usr/lib64 /usr/local/lib64
libs=-lnsl -lgdbm -ldb -ldl -lm -lcrypt -lutil -lpthread -lc -lgdbm_compat
perllibs=-lnsl -ldl -lm -lcrypt -lutil -lpthread -lc
libc=libc-2.19.so, so=so, useshrplib=true, libperl=libperl.so
gnulibc_version='2.19'
Dynamic Linking:
dlsrc=dl_dlopen.xs, dlext=so, d_dlsymun=undef, ccdlflags='-Wl,-E -Wl,-rpath,/opt/perlbrew/perls/perl-5.10.1-thread-multi/lib/5.10.1/x86_64-linux-thread-multi/CORE'
cccdlflags='-fPIC', lddlflags='-shared -O3 -march=native -L/usr/local/lib -fstack-protector'
Characteristics of this binary (from libperl):
Compile-time options: MULTIPLICITY PERL_DONT_CREATE_GVSV
PERL_IMPLICIT_CONTEXT PERL_MALLOC_WRAP USE_64_BIT_ALL
USE_64_BIT_INT USE_ITHREADS USE_LARGE_FILES
USE_PERLIO USE_REENTRANT_API
Built under linux
Compiled at Nov 3 2014 15:35:08
%ENV:
PERL5LIB=""
PERL5OPT=""
PERL5_CPANPLUS_IS_RUNNING="9415"
PERL5_CPAN_IS_RUNNING="9415"
PERLBREW_BASHRC_VERSION="0.72"
PERLBREW_HOME="/home/pk/.perlbrew"
PERLBREW_LIB=""
PERLBREW_MANPATH="/opt/perlbrew/perls/perl-5.10.1-thread-multi/man"
PERLBREW_PATH="/opt/perlbrew/bin:/opt/perlbrew/perls/perl-5.10.1-thread-multi/bin"
PERLBREW_PERL="perl-5.10.1-thread-multi"
PERLBREW_ROOT="/opt/perlbrew"
PERLBREW_VERSION="0.72"
PERL_LOCAL_LIB_ROOT=""
@INC:
/opt/perlbrew/perls/perl-5.10.1-thread-multi/lib/5.10.1/x86_64-linux-thread-multi
/opt/perlbrew/perls/perl-5.10.1-thread-multi/lib/5.10.1
/opt/perlbrew/perls/perl-5.10.1-thread-multi/lib/site_perl/5.10.1/x86_64-linux-thread-multi
/opt/perlbrew/perls/perl-5.10.1-thread-multi/lib/site_perl/5.10.1
.