W3C-SOAP v0.14 Perl 5 v5.22.2 x86_64-linux

Status
Pass
From
Slaven Rezić (SREZIC)
Dist
W3C-SOAP v0.14
Platform
Perl 5 v5.22.2 x86_64-linux
Date
2017-11-10 08:16:07
ID
66df762c-c5ef-11e7-bf96-a6ad5fbeedd3
This distribution has been tested as part of the CPAN Testers
project, supporting the Perl programming language.  See
http://wiki.cpantesters.org/ for more information or email
questions to cpan-testers-discuss@perl.org


--
Dear Ivan Wills,

This is a computer-generated report for W3C-SOAP-0.14
on perl 5.22.2, created by CPAN-Reporter-1.2018.

Thank you for uploading your work to CPAN.  Congratulations!
All tests were successful.

Sections of this report:

    * Tester comments
    * Program output
    * Prerequisites
    * Environment and other context

------------------------------
TESTER COMMENTS
------------------------------

Additional comments from tester:

none provided

------------------------------
PROGRAM OUTPUT
------------------------------

Output from './Build test':

# Testing W3C::SOAP::XSD::VERSION, Perl 5.022002, /opt/perl-5.22.2/bin/perl
t/00-load.t ..................... ok
t/boilerplate.t ................. ok
t/critic.t ...................... skipped: Author test.  Set TEST_AUTHOR environment variable to a true value to run.
# 
t/elementFormDefault.t .......... ok
# 
t/elementFormDefault_dynamic.t .. ok
t/kwalitee.t .................... skipped: Author test.  Set TEST_AUTHOR environment variable to a true value to run.
t/pod-coverage.t ................ skipped: Author test.  Set TEST_AUTHOR environment variable to a true value to run.
t/pod.t ......................... ok
t/sec-username.t ................ ok
t/spelling.t .................... skipped: Author test.  Set TEST_AUTHOR environment variable to a true value to run.
t/utils.t ....................... ok
t/wsdl_header.t ................. ok
t/wsdl_parser.t ................. ok
t/wsdl_parser_dynamic.t ......... ok
t/wsdl_unusual_names.t .......... ok
All tests successful.
Files=15, Tests=216,  7 wallclock secs ( 0.07 usr  0.09 sys +  5.83 cusr  0.69 csys =  6.68 CPU)
Result: PASS

------------------------------
PREREQUISITES
------------------------------

Prerequisite modules loaded:

requires:

    Module                         Need  Have    
    ------------------------------ ----- --------
    DateTime                       0     1.44    
    DateTime::Format::Strptime     0     1.74    
    File::ShareDir                 1     1.104   
    File::Temp                     0.22  0.2304  
    List::MoreUtils                0     0.426   
    List::Util                     0     1.49    
    LWP::UserAgent                 0     6.29    
    Module::Build                  0.3   0.4224  
    Moose                          1     2.2006  
    Moose::Meta::Method            1     2.2006  
    Moose::Role                    1     2.2006  
    Moose::Util::TypeConstraints   1     2.2006  
    MooseX::Exception::Base        0     0.0.6   
    MooseX::Types                  0     0.50    
    MooseX::Types::XMLSchema       0.03  0.06    
    namespace::autoclean           0     0.28    
    Path::Tiny                     0     0.104   
    perl                           5.006 5.022002
    Scalar::Util                   0     1.49    
    Template                       2.2   2.27    
    Time::HiRes                    0     1.9746  
    Try::Tiny                      0     0.28    
    URI                            0     1.71    
    WWW::Mechanize                 1.6   1.86    
    XML::LibXML                    1.7   2.0132  

build_requires:

    Module                         Need  Have    
    ------------------------------ ----- --------
    parent                         0.225 0.232   
    Test::More                     0.88  1.302106
    Test::Warnings                 0     0.026   
    Test::XML                      0     0.08    

configure_requires:

    Module                         Need  Have    
    ------------------------------ ----- --------
    Module::Build                  0.38  0.4224  

opt_requires:

    Module                         Need  Have    
    ------------------------------ ----- --------
    AnyEvent                       0     7.14    
    AnyEvent::HTTP::LWP::UserAgent 0     0.10    
    MooseX::Aliases                0     0.11    
    Pod::Coverage                  0     0.23    
    Test::Kwalitee                 0     1.27    
    Test::Perl::Critic             0     1.03    
    Test::Spelling                 0     0.20    


------------------------------
ENVIRONMENT AND OTHER CONTEXT
------------------------------

Environment variables:

    LANG = C
    PATH = /usr/local/bin:/usr/bin:/bin:/usr/local/sbin:/usr/sbin:/sbin:/home/cpansand/bin/linux-gnu:/home/cpansand/bin/sh:/home/cpansand/bin:/usr/games:/home/cpansand/devel:/home/eserte/src/srezic-misc/scripts
    PERL5LIB = /home/cpansand/.cpan/build/2017111006/AnyEvent-HTTP-LWP-UserAgent-0.10-12/blib/arch:/home/cpansand/.cpan/build/2017111006/AnyEvent-HTTP-LWP-UserAgent-0.10-12/blib/lib:/home/cpansand/.cpan/build/2017111006/MooseX-Types-XMLSchema-0.06-11/blib/arch:/home/cpansand/.cpan/build/2017111006/MooseX-Types-XMLSchema-0.06-11/blib/lib:/home/cpansand/.cpan/build/2017111006/MooseX-Exception-Base-0.0.6-11/blib/arch:/home/cpansand/.cpan/build/2017111006/MooseX-Exception-Base-0.0.6-11/blib/lib:/home/cpansand/.cpan/build/2017111006/XML-LibXML-2.0132-0/blib/arch:/home/cpansand/.cpan/build/2017111006/XML-LibXML-2.0132-0/blib/lib
    PERL5OPT = 
    PERL5_CPANPLUS_IS_RUNNING = 16244
    PERL5_CPAN_IS_RUNNING = 16244
    PERL5_CPAN_IS_RUNNING_IN_RECURSION = 16229,16244
    PERLDOC = -MPod::Perldoc::ToTextOverstrike
    PERL_BATCH = yes
    PERL_CANARY_STABILITY_NOPROMPT = 1
    PERL_CPAN_REPORTER_CONFIG = /var/tmp/cpansmoker-1023/2017111006/cpanreporter_000_config.ini
    PERL_EXTUTILS_AUTOINSTALL = --defaultdeps
    SHELL = /usr/bin/zsh
    TERM = screen
    TMPDIR = /var/tmp/cpansmoker-1023/2017111006

Perl special variables (and OS-specific diagnostics, for MSWin32):

    $^X = /opt/perl-5.22.2/bin/perl
    $UID/$EUID = 1023 / 1023
    $GID = 1023 1023
    $EGID = 1023 1023

Perl module toolchain versions installed:

    Module              Have    
    ------------------- --------
    CPAN                2.16    
    CPAN::Meta          2.150010
    Cwd                 3.62    
    ExtUtils::CBuilder  0.280226
    ExtUtils::Command   7.30    
    ExtUtils::Install   2.06    
    ExtUtils::MakeMaker 7.30    
    ExtUtils::Manifest  1.70    
    ExtUtils::ParseXS   3.35    
    File::Spec          3.62    
    JSON                2.94    
    JSON::PP            2.94    
    Module::Build       0.4224  
    Module::Signature   0.81    
    Parse::CPAN::Meta   2.150010
    Test::Harness       3.39    
    Test::More          1.302106
    YAML                1.24    
    YAML::Syck          1.30    
    version             0.9918  


--

Summary of my perl5 (revision 5 version 22 subversion 2) configuration:
   
  Platform:
    osname=linux, osvers=4.9.0-3-amd64, archname=x86_64-linux
    uname='linux debian9 4.9.0-3-amd64 #1 smp debian 4.9.30-2+deb9u1 (2017-06-18) x86_64 gnulinux '
    config_args='-ds -e -Dprefix=/opt/perl-5.22.2 -Dcf_email=srezic@cpan.org'
    hint=recommended, useposix=true, d_sigaction=define
    useithreads=undef, usemultiplicity=undef
    use64bitint=define, use64bitall=define, uselongdouble=undef
    usemymalloc=n, bincompat5005=undef
  Compiler:
    cc='cc', ccflags ='-fwrapv -fno-strict-aliasing -pipe -fstack-protector-strong -I/usr/local/include -D_LARGEFILE_SOURCE -D_FILE_OFFSET_BITS=64',
    optimize='-O2',
    cppflags='-fwrapv -fno-strict-aliasing -pipe -fstack-protector-strong -I/usr/local/include'
    ccversion='', gccversion='6.3.0 20170516', gccosandvers=''
    intsize=4, longsize=8, ptrsize=8, doublesize=8, byteorder=12345678, doublekind=3
    d_longlong=define, longlongsize=8, d_longdbl=define, longdblsize=16, longdblkind=3
    ivtype='long', ivsize=8, nvtype='double', nvsize=8, Off_t='off_t', lseeksize=8
    alignbytes=8, prototype=define
  Linker and Libraries:
    ld='cc', ldflags =' -fstack-protector-strong -L/usr/local/lib'
    libpth=/usr/local/lib /usr/lib/gcc/x86_64-linux-gnu/6/include-fixed /usr/include/x86_64-linux-gnu /usr/lib /lib/x86_64-linux-gnu /lib/../lib /usr/lib/x86_64-linux-gnu /usr/lib/../lib /lib
    libs=-lpthread -lnsl -lgdbm -ldb -ldl -lm -lcrypt -lutil -lc -lgdbm_compat
    perllibs=-lpthread -lnsl -ldl -lm -lcrypt -lutil -lc
    libc=libc-2.24.so, so=so, useshrplib=false, libperl=libperl.a
    gnulibc_version='2.24'
  Dynamic Linking:
    dlsrc=dl_dlopen.xs, dlext=so, d_dlsymun=undef, ccdlflags='-Wl,-E'
    cccdlflags='-fPIC', lddlflags='-shared -O2 -L/usr/local/lib -fstack-protector-strong'


Characteristics of this binary (from libperl): 
  Compile-time options: HAS_TIMES PERLIO_LAYERS PERL_DONT_CREATE_GVSV
                        PERL_HASH_FUNC_ONE_AT_A_TIME_HARD PERL_MALLOC_WRAP
                        PERL_NEW_COPY_ON_WRITE PERL_PRESERVE_IVUV
                        USE_64_BIT_ALL USE_64_BIT_INT USE_LARGE_FILES
                        USE_LOCALE USE_LOCALE_COLLATE USE_LOCALE_CTYPE
                        USE_LOCALE_NUMERIC USE_LOCALE_TIME USE_PERLIO
                        USE_PERL_ATOF
  Built under linux
  Compiled at Jun 22 2017 19:24:38
  %ENV:
    PERL5LIB="/home/cpansand/.cpan/build/2017111006/AnyEvent-HTTP-LWP-UserAgent-0.10-12/blib/arch:/home/cpansand/.cpan/build/2017111006/AnyEvent-HTTP-LWP-UserAgent-0.10-12/blib/lib:/home/cpansand/.cpan/build/2017111006/MooseX-Types-XMLSchema-0.06-11/blib/arch:/home/cpansand/.cpan/build/2017111006/MooseX-Types-XMLSchema-0.06-11/blib/lib:/home/cpansand/.cpan/build/2017111006/MooseX-Exception-Base-0.0.6-11/blib/arch:/home/cpansand/.cpan/build/2017111006/MooseX-Exception-Base-0.0.6-11/blib/lib:/home/cpansand/.cpan/build/2017111006/XML-LibXML-2.0132-0/blib/arch:/home/cpansand/.cpan/build/2017111006/XML-LibXML-2.0132-0/blib/lib"
    PERL5OPT=""
    PERL5_CPANPLUS_IS_RUNNING="16244"
    PERL5_CPAN_IS_RUNNING="16244"
    PERL5_CPAN_IS_RUNNING_IN_RECURSION="16229,16244"
    PERLDOC="-MPod::Perldoc::ToTextOverstrike"
    PERL_BATCH="yes"
    PERL_CANARY_STABILITY_NOPROMPT="1"
    PERL_CPAN_REPORTER_CONFIG="/var/tmp/cpansmoker-1023/2017111006/cpanreporter_000_config.ini"
    PERL_EXTUTILS_AUTOINSTALL="--defaultdeps"
  @INC:
    /home/cpansand/.cpan/build/2017111006/AnyEvent-HTTP-LWP-UserAgent-0.10-12/blib/arch
    /home/cpansand/.cpan/build/2017111006/AnyEvent-HTTP-LWP-UserAgent-0.10-12/blib/lib
    /home/cpansand/.cpan/build/2017111006/MooseX-Types-XMLSchema-0.06-11/blib/arch
    /home/cpansand/.cpan/build/2017111006/MooseX-Types-XMLSchema-0.06-11/blib/lib
    /home/cpansand/.cpan/build/2017111006/MooseX-Exception-Base-0.0.6-11/blib/arch
    /home/cpansand/.cpan/build/2017111006/MooseX-Exception-Base-0.0.6-11/blib/lib
    /home/cpansand/.cpan/build/2017111006/XML-LibXML-2.0132-0/blib/arch
    /home/cpansand/.cpan/build/2017111006/XML-LibXML-2.0132-0/blib/lib
    /opt/perl-5.22.2/lib/site_perl/5.22.2/x86_64-linux
    /opt/perl-5.22.2/lib/site_perl/5.22.2
    /opt/perl-5.22.2/lib/5.22.2/x86_64-linux
    /opt/perl-5.22.2/lib/5.22.2
    .