String-Sections v0.3.2 Perl 5 v5.39.10 OpenBSD.amd64-openbsd-thread-multi
- Status
- Pass
- From
- Carlos Guevara
- Dist
-
String-Sections v0.3.2
- Platform
- Perl 5 v5.39.10 OpenBSD.amd64-openbsd-thread-multi
- Date
- 2024-04-15 05:45:44
- ID
- 66d1567c-faeb-11ee-a6c0-9c28a03ea9b0
This distribution has been tested as part of the CPAN Testers
project, supporting the Perl programming language. See
http://wiki.cpantesters.org/ for more information or email
questions to cpan-testers-discuss@perl.org
--
Dear Kent Fredric (PAUSE Custodial Account),
This is a computer-generated report for String-Sections-0.3.2
on perl 5.39.10, created by CPAN-Reporter-1.2019.
Thank you for uploading your work to CPAN. Congratulations!
All tests were successful.
Sections of this report:
* Tester comments
* Program output
* Prerequisites
* Environment and other context
------------------------------
TESTER COMMENTS
------------------------------
Additional comments from tester:
this report is from an automated smoke testing program
and was not reviewed by a human for accuracy
------------------------------
PROGRAM OUTPUT
------------------------------
Output from './Build test':
t/00-compile.t .................................................. ok
#
#
# Generated by Dist::Zilla::Plugin::ReportVersions::Tiny v1.09
# perl: 5.039010 (wanted 5.010001) on openbsd from /home/cpan/bin/perl/bin/perl5.39.10
#
# Carp => 1.54 (want any version)
# Data::Dump => 1.25 (want any version)
# Dist::Zilla::PluginBundle::Author::KENTNL => module not found. (want v1.8.3)
# Dist::Zilla::PluginBundle::Author::KENTNL::Lite => module not found. (want v1.3.0)
# File::Spec => 3.90 (want any version)
# FindBin => 1.54 (want any version)
# IO::Handle => 1.55 (want any version)
# IPC::Open3 => 1.22 (want any version)
# Module::Build => 0.4234 (want 0.4007)
# Moo => 2.005005 (want 1.000008)
# Path::Tiny => 0.144 (want any version)
# Pod::Coverage::TrustPod => 0.100006 (want any version)
# Scalar::Util => 1.63 (want any version)
# Sub::Exporter::Progressive => 0.001013 (want any version)
# Test::CPAN::Changes => 0.500003 (want 0.19)
# Test::CPAN::Meta => module not found. (want any version)
# Test::Fatal => 0.017 (want any version)
# Test::Kwalitee => 1.28 (want 1.08)
# Test::More => 1.302198 (want 0.98)
# Test::Pod => 1.52 (want 1.41)
# Test::Pod::Coverage => 1.10 (want 1.08)
# Types::Standard => 2.004000 (want any version)
# lib => 0.65 (want any version)
# strict => 1.13 (want any version)
# version => 0.9930 (want 0.9901)
# warnings => 1.69 (want any version)
#
# Thanks for using my code. I hope it works for you.
# If not, please try and include this output in the bug report.
# That will help me reproduce the issue and solve your problem.
#
t/000-report-versions-tiny.t .................................... ok
t/01-String-Sections-Result/basic.t ............................. ok
t/01_parse_lines.t .............................................. ok
t/02-String-Sections/parse_filehandles/empty.t .................. ok
t/02-String-Sections/parse_filehandles/nosections.t ............. ok
t/02-String-Sections/parse_filehandles/onesection_full.t ........ ok
t/02-String-Sections/parse_filehandles/onesection_head.t ........ ok
t/02-String-Sections/parse_filehandles/prelude.t ................ ok
t/02-String-Sections/parse_filehandles/twosection_full.t ........ ok
t/02-String-Sections/parse_filehandles/twosection_secondhead.t .. ok
t/02-String-Sections/parse_list/empty.t ......................... ok
t/02-String-Sections/parse_list/nosections.t .................... ok
t/02-String-Sections/parse_list/onesection_full.t ............... ok
t/02-String-Sections/parse_list/onesection_head.t ............... ok
t/02-String-Sections/parse_list/prelude.t ....................... ok
t/02-String-Sections/parse_list/twosection_full.t ............... ok
t/02-String-Sections/parse_list/twosection_secondhead.t ......... ok
All tests successful.
Files=18, Tests=58, 4 wallclock secs ( 0.05 usr 0.10 sys + 2.79 cusr 0.73 csys = 3.67 CPU)
Result: PASS
------------------------------
PREREQUISITES
------------------------------
Prerequisite modules loaded:
requires:
Module Need Have
-------------------------- -------- --------
Carp 0 1.54
Moo 1.000008 2.005005
perl 5.010001 5.039010
Scalar::Util 0 1.63
strict 0 1.13
Types::Standard 0 2.004000
warnings 0 1.69
build_requires:
Module Need Have
-------------------------- -------- --------
Data::Dump 0 1.25
File::Spec 0 3.90
FindBin 0 1.54
IO::Handle 0 1.55
IPC::Open3 0 1.22
lib 0 0.65
Module::Build 0.4007 0.4234
Path::Tiny 0 0.144
Sub::Exporter::Progressive 0 0.001013
Test::Fatal 0 0.017
Test::More 0.98 1.302198
configure_requires:
Module Need Have
-------------------------- -------- --------
Module::Build 0.4007 0.4234
------------------------------
ENVIRONMENT AND OTHER CONTEXT
------------------------------
Environment variables:
AUTOMATED_TESTING = 1
DATE_MANIP_TEST_DM5 = 1
LC_ALL = C
NONINTERACTIVE_TESTING = 1
NO_NETWORK_TESTING = 1
PATH = /home/cpan/bin/perl/bin:/home/cpan/bin:/home/cpan/bin:/bin:/sbin:/usr/bin:/usr/sbin:/usr/X11R6/bin:/usr/local/bin:/usr/local/sbin
PERL5LIB =
PERL5OPT =
PERL5_CPANPLUS_IS_RUNNING = 60626
PERL5_CPAN_IS_RUNNING = 60626
PERL_MM_USE_DEFAULT = 1
PERL_USE_UNSAFE_INC = 1
SHELL = /usr/local/bin/bash
TERM = screen
TMPDIR = /home/cpan/tmp
Perl special variables (and OS-specific diagnostics, for MSWin32):
$^X = /home/cpan/bin/perl/bin/perl5.39.10
$UID/$EUID = 1001 / 1001
$GID = 1001 1001
$EGID = 1001 1001
Perl module toolchain versions installed:
Module Have
------------------- --------
CPAN 2.36
CPAN::Meta 2.150010
Cwd 3.90
ExtUtils::CBuilder 0.280240
ExtUtils::Command 7.70
ExtUtils::Install 2.22
ExtUtils::MakeMaker 7.70
ExtUtils::Manifest 1.75
ExtUtils::ParseXS 3.51
File::Spec 3.90
JSON 4.10
JSON::PP 4.16
Module::Build 0.4234
Module::Signature n/a
Parse::CPAN::Meta 2.150010
Test2 1.302198
Test::Harness 3.48
Test::More 1.302198
YAML 1.31
YAML::Syck 1.34
version 0.9930
--
Summary of my perl5 (revision 5 version 39 subversion 10) configuration:
Commit id: f68e811c013f196ff2eabbb21058e50acef62345
Platform:
osname=openbsd
osvers=7.5
archname=OpenBSD.amd64-openbsd-thread-multi
uname='openbsd cjg-openbsd7 7.5 generic#79 amd64 '
config_args='-des -Dprefix=/home/cpan/bin/perl -Dscriptdir=/home/cpan/bin/perl/bin -Dusedevel -Duse64bitall -Duseithreads'
hint=recommended
useposix=true
d_sigaction=define
useithreads=define
usemultiplicity=define
use64bitint=define
use64bitall=define
uselongdouble=undef
usemymalloc=n
default_inc_excludes_dot=define
Compiler:
cc='cc'
ccflags ='-pthread -DNO_LOCALE_NUMERIC -DNO_LOCALE_COLLATE -DNO_LOCALE_MONETARY -DNO_LOCALE_TIME -DNO_LOCALE_MESSAGES -DLIBC_HANDLES_MISMATCHED_CTYPE -fno-strict-aliasing -pipe -fstack-protector-strong -I/usr/local/include'
optimize='-O2'
cppflags='-pthread -DNO_LOCALE_NUMERIC -DNO_LOCALE_COLLATE -DNO_LOCALE_MONETARY -DNO_LOCALE_TIME -DNO_LOCALE_MESSAGES -DLIBC_HANDLES_MISMATCHED_CTYPE -fno-strict-aliasing -pipe -fstack-protector-strong -I/usr/local/include'
ccversion=''
gccversion='OpenBSD Clang 16.0.6'
gccosandvers=''
intsize=4
longsize=8
ptrsize=8
doublesize=8
byteorder=12345678
doublekind=3
d_longlong=define
longlongsize=8
d_longdbl=define
longdblsize=16
longdblkind=3
ivtype='long'
ivsize=8
nvtype='double'
nvsize=8
Off_t='off_t'
lseeksize=8
alignbytes=8
prototype=define
Linker and Libraries:
ld='cc'
ldflags ='-pthread -Wl,-E -fstack-protector-strong -L/usr/local/lib'
libpth=/usr/lib/clang/16/lib /usr/lib /usr/local/lib
libs=-lpthread -lm -lutil -lc
perllibs=-lpthread -lm -lutil -lc
libc=/usr/lib/libc.so.99.0
so=so
useshrplib=false
libperl=libperl.a
gnulibc_version=''
Dynamic Linking:
dlsrc=dl_dlopen.xs
dlext=so
d_dlsymun=undef
ccdlflags=' '
cccdlflags='-DPIC -fPIC '
lddlflags='-shared -fPIC -L/usr/local/lib -fstack-protector-strong'
Characteristics of this binary (from libperl):
Compile-time options:
HAS_LONG_DOUBLE
HAS_STRTOLD
HAS_TIMES
MULTIPLICITY
PERLIO_LAYERS
PERL_COPY_ON_WRITE
PERL_DONT_CREATE_GVSV
PERL_HASH_FUNC_SIPHASH13
PERL_HASH_USE_SBOX32
PERL_MALLOC_WRAP
PERL_OP_PARENT
PERL_PRESERVE_IVUV
PERL_USE_DEVEL
PERL_USE_SAFE_PUTENV
USE_64_BIT_ALL
USE_64_BIT_INT
USE_ITHREADS
USE_LARGE_FILES
USE_LOCALE
USE_LOCALE_CTYPE
USE_PERLIO
USE_PERL_ATOF
USE_REENTRANT_API
USE_THREAD_SAFE_LOCALE
Built under openbsd
Compiled at Apr 14 2024 17:41:50
%ENV:
PERL5LIB=""
PERL5OPT=""
PERL5_CPANPLUS_IS_RUNNING="60626"
PERL5_CPAN_IS_RUNNING="60626"
PERL_MM_USE_DEFAULT="1"
PERL_USE_UNSAFE_INC="1"
@INC:
/home/cpan/bin/perl/lib/site_perl/5.39.10/OpenBSD.amd64-openbsd-thread-multi
/home/cpan/bin/perl/lib/site_perl/5.39.10
/home/cpan/bin/perl/lib/5.39.10/OpenBSD.amd64-openbsd-thread-multi
/home/cpan/bin/perl/lib/5.39.10
.